BEGIN:VCALENDAR
VERSION:2.0
PRODID:-//Discover Detroit Art - ECPv6.0.1//NONSGML v1.0//EN
CALSCALE:GREGORIAN
METHOD:PUBLISH
X-ORIGINAL-URL:https://detroitartdao.com
X-WR-CALDESC:Events for Discover Detroit Art
REFRESH-INTERVAL;VALUE=DURATION:PT1H
X-Robots-Tag:noindex
X-PUBLISHED-TTL:PT1H
BEGIN:VTIMEZONE
TZID:America/Detroit
BEGIN:DAYLIGHT
TZOFFSETFROM:-0500
TZOFFSETTO:-0400
TZNAME:EDT
DTSTART:20230312T070000
END:DAYLIGHT
BEGIN:STANDARD
TZOFFSETFROM:-0400
TZOFFSETTO:-0500
TZNAME:EST
DTSTART:20231105T060000
END:STANDARD
END:VTIMEZONE
BEGIN:VEVENT
DTSTART;TZID=America/Detroit:20230823T090000
DTEND;TZID=America/Detroit:20230823T170000
DTSTAMP:20260422T074059
CREATED:20230810T180137Z
LAST-MODIFIED:20230823T020131Z
UID:10001766-1692781200-1692810000@detroitartdao.com
SUMMARY:Community Coworking Day in Royal Oak
DESCRIPTION:Whether you’re a freelancer\, entrepreneur\, or simply looking for a change of scenery\, our Community Coworking Day is the perfect opportunity to meet like-minded individuals and work in a collaborative environment. \nCome join us at Bamboo Royal Oak for a free coworking day and meet others interested in startups and entrepreneurship. \nComplimentary parking is available for two hours ($0.75) after available at Center Street Garage.
URL:https://detroitartdao.com/event/community-coworking-day-in-royal-oak
LOCATION:Bamboo Royal Oak\, 220 S. Main Street \,\, Royal Oak\, MI\, 48067\, US
CATEGORIES:Tech
ATTACH;FMTTYPE=image/jpeg:https://dpop.nyc3.digitaloceanspaces.com/wp-content/uploads/2023/08/10140138/1024x576-wBVZnk.tmp_.jpg
GEO:42.48831;-83.144585
X-APPLE-STRUCTURED-LOCATION;VALUE=URI;X-ADDRESS=Bamboo Royal Oak 220 S. Main Street  Royal Oak MI 48067 US;X-APPLE-RADIUS=500;X-TITLE=220 S. Main Street \,:geo:-83.144585,42.48831
END:VEVENT
END:VCALENDAR