BEGIN:VCALENDAR
VERSION:2.0
PRODID:-//Discover Detroit Art - ECPv6.0.1//NONSGML v1.0//EN
CALSCALE:GREGORIAN
METHOD:PUBLISH
X-WR-CALNAME:Discover Detroit Art
X-ORIGINAL-URL:https://detroitartdao.com
X-WR-CALDESC:Events for Discover Detroit Art
REFRESH-INTERVAL;VALUE=DURATION:PT1H
X-Robots-Tag:noindex
X-PUBLISHED-TTL:PT1H
BEGIN:VTIMEZONE
TZID:America/Detroit
BEGIN:DAYLIGHT
TZOFFSETFROM:-0500
TZOFFSETTO:-0400
TZNAME:EDT
DTSTART:20250309T070000
END:DAYLIGHT
BEGIN:STANDARD
TZOFFSETFROM:-0400
TZOFFSETTO:-0500
TZNAME:EST
DTSTART:20251102T060000
END:STANDARD
END:VTIMEZONE
BEGIN:VEVENT
DTSTART;TZID=America/Detroit:20250626T170000
DTEND;TZID=America/Detroit:20250626T200000
DTSTAMP:20260424T011128
CREATED:20250612T144638Z
LAST-MODIFIED:20250626T204642Z
UID:10013758-1750957200-1750968000@detroitartdao.com
SUMMARY:The Paradigm Shift: Blockchain\, Cryptocurrency & The New Digital Economy
DESCRIPTION:**The Michigan Ethereum MeetUp heads to Grand Rapids!** \n​Join us as we explore the evolving landscape of blockchain\, cryptocurrency\, and the new digital frontier. Get ready to interact with industry experts and visionaries who will dive into one of the most relevant topics of our time. \nNote: **Please register for the event on our partner’s [event page.](https://www.meetup.com/grand-rapids-blockchain/events/308298920/?utm_medium=referral&utm_campaign=share-btn_savedevents_share_modal&utm_source=link&utm_version=v2)** \n​This event is organized By [The Midwest Tech Project ](http://%5Bhttps//www.midwesttechproject.com/%5D(https://www.midwesttechproject.com/) “[https://www.midwesttechproject.com/](https://www.midwesttechproject.com/)”)in collaboration with [Grand Rapids Blockchain](http://%5Bhttps//www.meetup.com/grand-rapids-blockchain/%5D(https://www.meetup.com/grand-rapids-blockchain/) “[https://www.meetup.com/grand-rapids-blockchain/](https://www.meetup.com/grand-rapids-blockchain/)”)\, don’t miss out on this opportunity to be at the forefront of innovation and technology! \nPanelists Include:\n**[Elizabeth Hansson](https://x.com/ElizabethHa)**\, Michigan President for *Stand With Crypto*\n**[Dar Meshi\, PhD](https://x.com/darmeshi)**\, Associate Professor\, *Michigan State University*\n**[Adam Zientarski](https://x.com/AdamZientarski)**[\,](https://x.com/AdamZientarski) CEO at *Detroit Ledger Technologies* \nSponsored By: [Stand With Crypto](https://www.standwithcrypto.org/)\, Michigan Blockchain Council (MBC)\, [Global Blockchain Business Council (GBBC)](https://gbbc.io/) \nCommunity Partners: [Detroit Ledger Technologies](https://detroitledger.tech/)\, [Detroit Blockchain Collective](https://lu.ma/DetroitBlockchainCollective)\, [Michigan State University College of Communication Arts and Sciences](https://comartsci.msu.edu/) \n**Location:**\nTo see location in Grand Rapids\, please register for the event on our partner’s [event page.](https://www.meetup.com/grand-rapids-blockchain/events/308298920/?utm_medium=referral&utm_campaign=share-btn_savedevents_share_modal&utm_source=link&utm_version=v2)
URL:https://detroitartdao.com/event/the-paradigm-shift-blockchain-cryptocurrency-the-new-digital-economy
LOCATION:MI
CATEGORIES:Tech
ATTACH;FMTTYPE=image/jpeg:https://dpop.nyc3.digitaloceanspaces.com/wp-content/uploads/2025/06/12104639/1024x576-ECGEl6.tmp_.jpg
END:VEVENT
END:VCALENDAR