BEGIN:VCALENDAR
VERSION:2.0
PRODID:-//Discover Detroit Art - ECPv6.0.1//NONSGML v1.0//EN
CALSCALE:GREGORIAN
METHOD:PUBLISH
X-ORIGINAL-URL:https://detroitartdao.com
X-WR-CALDESC:Events for Discover Detroit Art
REFRESH-INTERVAL;VALUE=DURATION:PT1H
X-Robots-Tag:noindex
X-PUBLISHED-TTL:PT1H
BEGIN:VTIMEZONE
TZID:America/Detroit
BEGIN:DAYLIGHT
TZOFFSETFROM:-0500
TZOFFSETTO:-0400
TZNAME:EDT
DTSTART:20250309T070000
END:DAYLIGHT
BEGIN:STANDARD
TZOFFSETFROM:-0400
TZOFFSETTO:-0500
TZNAME:EST
DTSTART:20251102T060000
END:STANDARD
END:VTIMEZONE
BEGIN:VEVENT
DTSTART;TZID=America/Detroit:20250731T130000
DTEND;TZID=America/Detroit:20250731T160000
DTSTAMP:20260421T161305
CREATED:20250707T224633Z
LAST-MODIFIED:20250731T011631Z
UID:10014066-1753966800-1753977600@detroitartdao.com
SUMMARY:BITCOIN FOR ALL Rally for Freedom
DESCRIPTION:The Michigan Ethereum MeetUp heads to Lansing! \nYou’re invited to a special partner event hosted by the **Michigan Bitcoin Trade Council! Please register [here](https://www.eventbrite.com/e/paint-lansing-orange-bitcoin-rally-tickets-1422332216949?aff=oddtdtcreator).** \nJoin us on the Michigan State Capitol lawn for the [Paint Lansing Orange Rally](https://www.eventbrite.com/e/paint-lansing-orange-bitcoin-rally-tickets-1422332216949?aff=oddtdtcreator)! Celebrate Bitcoin with inspiring speeches\, local vendors\, and a vibrant community of enthusiasts. Wear orange and embrace the theme of Strength in Numbers at this free event. \nVendor booths are available for any small business that would like to participate in this open-air market where all vendors will be taking payment in bitcoin. We’ll guide you through how to accept it\, and we’ll make sure there are options to convert your sales back into cash if that’s your preference. You don’t need any prior experience with Bitcoin — just a willingness to be part of a supportive and open-minded community. For more information for vendors\, Email amber@mibtc.org \nSpeakers for the event include notable Michigan-based Bitcoin leaders and pro-crypto Michigan politicians\, as well as Stand With Crypto Michigan President Elizabeth Hansson from Detroit. \nDetails:\nJoin us for a landmark event at the Michigan State Capitol\, where entrepreneurs\, small business owners\, individual rights advocates\, tech enthusiasts\, and curious citizens will unite to advance freedom and opportunity. The Michigan Liberty & Bitcoin Rally will host a vibrant open-air market\, featuring inspiring liberty-minded speakers\, a lively DJ\, and a bustling vendor marketplace\, all under significant press coverage. The Michigan Bitcoin Trade Council will gift a small amount of Bitcoin to\nevery attendee\, oƯering a glimpse into the future of finance. \nWhy This Matters to YOU\nThis rally is a bold step toward a freer\, more innovative Michigan\, bringing together diverse liberty-minded communities: \n* Individual Rights Advocates: Strengthen your fight for personal sovereignty alongside like-minded groups.\n* Entrepreneurs & Small Business Owners: Showcase your vision in a dynamic marketplace and connect with new customers.\n* Tech Enthusiasts: Explore Bitcoin’s potential and network with innovators shaping decentralized systems. \nThis event is a powerful call to make Michigan a leader in liberty and progress. \nImpact of Uniting Liberty-Minded Groups in Lansing:\nBy gathering diverse liberty-minded groups on the steps of the Michigan State Capitol\, this rally amplifies their collective influence in the heart of state governance. Lansing’s Capitol is where policy is shaped\, and this event sends a clear message: Michigan’s citizens demand personal and economic freedom. \nBig thank you to our premier sponsor: [Stand With Crypto](https://www.standwithcrypto.org/). \nPlease register on our partner’s event page\, [here](https://www.eventbrite.com/e/paint-lansing-orange-bitcoin-rally-tickets-1422332216949?aff=oddtdtcreator).
URL:https://detroitartdao.com/event/bitcoin-for-all-rally-for-freedom
LOCATION:Michigan State Capitol east lawn\, 100 N. Capitol Ave\, Lansing\, MI\, 48933\, us
CATEGORIES:Tech
ATTACH;FMTTYPE=image/jpeg:https://dpop.nyc3.digitaloceanspaces.com/wp-content/uploads/2025/07/23204632/1024x576-UmvcDz.tmp_.jpg
GEO:42.733631;-84.554062
X-APPLE-STRUCTURED-LOCATION;VALUE=URI;X-ADDRESS=Michigan State Capitol east lawn 100 N. Capitol Ave Lansing MI 48933 us;X-APPLE-RADIUS=500;X-TITLE=100 N. Capitol Ave:geo:-84.554062,42.733631
END:VEVENT
BEGIN:VEVENT
DTSTART;TZID=America/Detroit:20250731T130000
DTEND;TZID=America/Detroit:20250731T160000
DTSTAMP:20260421T161306
CREATED:20250707T224633Z
LAST-MODIFIED:20250707T224633Z
UID:10014068-1753966800-1753977600@detroitartdao.com
SUMMARY:BITCOIN FOR ALL Rally for Freedom
DESCRIPTION:The Michigan Ethereum MeetUp heads to Lansing! \nYou’re invited to a special partner event hosted by the **Michigan Bitcoin Trade Council! Please register [here](https://www.eventbrite.com/e/paint-lansing-orange-bitcoin-rally-tickets-1422332216949?aff=oddtdtcreator).** \nJoin us on the Michigan State Capitol lawn for the [Paint Lansing Orange Rally](https://www.eventbrite.com/e/paint-lansing-orange-bitcoin-rally-tickets-1422332216949?aff=oddtdtcreator)! Celebrate Bitcoin with inspiring speeches\, local vendors\, and a vibrant community of enthusiasts. Wear orange and embrace the theme of Strength in Numbers at this free event. \nVendor booths are available for any small business that would like to participate in this open-air market where all vendors will be taking payment in bitcoin. We’ll guide you through how to accept it\, and we’ll make sure there are options to convert your sales back into cash if that’s your preference. You don’t need any prior experience with Bitcoin — just a willingness to be part of a supportive and open-minded community. \nSpeakers for the event include notable Michigan-based Bitcoin leaders and pro-crypto Michigan politicians\, as well as Stand With Crypto Michigan President Elizabeth Hansson from Detroit. \nDetails:\nJoin us for a landmark event at the Michigan State Capitol\, where entrepreneurs\, small business owners\, individual rights advocates\, tech enthusiasts\, and curious citizens will unite to advance freedom and opportunity. The Michigan Liberty & Bitcoin Rally will host a vibrant open-air market\, featuring inspiring liberty-minded speakers\, a lively DJ\, and a bustling vendor marketplace\, all under significant press coverage. The Michigan Bitcoin Trade Council will gift a small amount of Bitcoin to\nevery attendee\, oƯering a glimpse into the future of finance. \nWhy This Matters to YOU\nThis rally is a bold step toward a freer\, more innovative Michigan\, bringing together diverse liberty-minded communities: \n* Individual Rights Advocates: Strengthen your fight for personal sovereignty alongside like-minded groups.\n* Entrepreneurs & Small Business Owners: Showcase your vision in a dynamic marketplace and connect with new customers.\n* Tech Enthusiasts: Explore Bitcoin’s potential and network with innovators shaping decentralized systems. \nThis event is a powerful call to make Michigan a leader in liberty and progress. \nImpact of Uniting Liberty-Minded Groups in Lansing:\nBy gathering diverse liberty-minded groups on the steps of the Michigan State Capitol\, this rally amplifies their collective influence in the heart of state governance. Lansing’s Capitol is where policy is shaped\, and this event sends a clear message: Michigan’s citizens demand personal and economic freedom. \nBig thank you to our premier sponsor: [Stand With Crypto](https://www.standwithcrypto.org/). \nPlease register on our partner’s event page\, [here](https://www.eventbrite.com/e/paint-lansing-orange-bitcoin-rally-tickets-1422332216949?aff=oddtdtcreator).
URL:https://detroitartdao.com/event/bitcoin-for-all-rally-for-freedom-2
LOCATION:Michigan State Capitol east lawn\, 100 N. Capitol Ave\, Lansing\, MI\, 48933\, us
CATEGORIES:Tech
ATTACH;FMTTYPE=image/jpeg:https://dpop.nyc3.digitaloceanspaces.com/wp-content/uploads/2025/07/07184634/1024x576-txiBSm.tmp_.jpg
GEO:42.7336102;-84.5553485
X-APPLE-STRUCTURED-LOCATION;VALUE=URI;X-ADDRESS=Michigan State Capitol east lawn 100 N. Capitol Ave Lansing MI 48933 us;X-APPLE-RADIUS=500;X-TITLE=100 N. Capitol Ave:geo:-84.5553485,42.7336102
END:VEVENT
END:VCALENDAR