BEGIN:VCALENDAR
VERSION:2.0
PRODID:-//Discover Detroit Art - ECPv6.0.1//NONSGML v1.0//EN
CALSCALE:GREGORIAN
METHOD:PUBLISH
X-ORIGINAL-URL:https://detroitartdao.com
X-WR-CALDESC:Events for Discover Detroit Art
REFRESH-INTERVAL;VALUE=DURATION:PT1H
X-Robots-Tag:noindex
X-PUBLISHED-TTL:PT1H
BEGIN:VTIMEZONE
TZID:America/Detroit
BEGIN:DAYLIGHT
TZOFFSETFROM:-0500
TZOFFSETTO:-0400
TZNAME:EDT
DTSTART:20250309T070000
END:DAYLIGHT
BEGIN:STANDARD
TZOFFSETFROM:-0400
TZOFFSETTO:-0500
TZNAME:EST
DTSTART:20251102T060000
END:STANDARD
END:VTIMEZONE
BEGIN:VEVENT
DTSTART;TZID=America/Detroit:20250822T180000
DTEND;TZID=America/Detroit:20250822T220000
DTSTAMP:20260421T070417
CREATED:20250812T021632Z
LAST-MODIFIED:20250822T033134Z
UID:10014661-1755885600-1755900000@detroitartdao.com
SUMMARY:Unlock The Block - Big Sean performs live!
DESCRIPTION:You’re invited to the **biggest crypto party of the year\,** and you do **not** want to miss this. \n[Please note: You must RSVP on our partner’s Luma event page for your ticket](https://lu.ma/tvdiwrum) \n**Stand With Crypto** is throwing a free block party like no other — packed with live music\, great food\, and unstoppable energy — all celebrating one message: Michigan’s crypto community is growing and here to stay. \n**Here’s what’s waiting for you:** \n* Detroit native & **hip-hop icon Big Sean\,** performing live just for us\n* Hear from city officials and **state lawmakers**\n* Enjoy food & drink\, a Crypto Carnival\, an NFT Gallery\, interactive Graffiti\, and more\n* Connect with fellow crypto advocates and enthusiasts from across the state \nDate: **Friday August 22nd**\, 6-10PM\nFor location in Detroit\, RSVP at this [link](https://lu.ma/tvdiwrum). \n**Limited space for this legendary night!**\n**[RSVP on our partner’s Luma event page for tickets](https://lu.ma/tvdiwrum)**
URL:https://detroitartdao.com/event/unlock-the-block
LOCATION:MI
CATEGORIES:Tech
ATTACH;FMTTYPE=image/jpeg:https://dpop.nyc3.digitaloceanspaces.com/wp-content/uploads/2025/08/11221633/1024x576-jtzP5B.tmp_.jpg
END:VEVENT
END:VCALENDAR