BEGIN:VCALENDAR
VERSION:2.0
PRODID:-//Discover Detroit Art - ECPv6.0.1//NONSGML v1.0//EN
CALSCALE:GREGORIAN
METHOD:PUBLISH
X-WR-CALNAME:Discover Detroit Art
X-ORIGINAL-URL:https://detroitartdao.com
X-WR-CALDESC:Events for Discover Detroit Art
REFRESH-INTERVAL;VALUE=DURATION:PT1H
X-Robots-Tag:noindex
X-PUBLISHED-TTL:PT1H
BEGIN:VTIMEZONE
TZID:America/Detroit
BEGIN:DAYLIGHT
TZOFFSETFROM:-0500
TZOFFSETTO:-0400
TZNAME:EDT
DTSTART:20250309T070000
END:DAYLIGHT
BEGIN:STANDARD
TZOFFSETFROM:-0400
TZOFFSETTO:-0500
TZNAME:EST
DTSTART:20251102T060000
END:STANDARD
END:VTIMEZONE
BEGIN:VEVENT
DTSTART;TZID=America/Detroit:20250924T183000
DTEND;TZID=America/Detroit:20250924T210000
DTSTAMP:20260421T132543
CREATED:20250919T110130Z
LAST-MODIFIED:20250923T110131Z
UID:10015278-1758738600-1758747600@detroitartdao.com
SUMMARY:Web3 Community Social
DESCRIPTION:**Important Note:** You must [RSVP on Luma](https://luma.com/7j9xot5s).\nEvent is free but space is limited and a Luma ticket is required! \nWe’re bringing Detroit’s Web3 community to Atwater Brewery—the award-winning Brewery and Taphouse on the Detroit River—for a night of community\, conversation\, and connection! \n​This event is hosted by a partner organization\, the Detroit Blockchain Collective! Join us for this community social—your chance to meet and mingle with fellow builders\, entrepreneurs\, investors\, and enthusiasts who make up Michigan’s growing blockchain ecosystem. Whether you’re already deep in the space or just curious\, you’ll find an open\, welcoming environment to spark new conversations and strengthen connections. And you already know—beer\, mixed drinks\, and cider are on us! \nAtwater Brewery and Taphouse is located in Detroit’s historic Rivertown district and housed in a 1919 factory warehouse. Voted Best Brewery by Hour Detroit six years in a row\, it’s the perfect backdrop to relax\, grab a drink\, and connect with community. \n**About the host…**\n​​[Elizabeth Hansson ](https://www.linkedin.com/in/elizabethhansson/)is the Founder & Executive Director of the [Detroit Blockchain Collective](https://www.linkedin.com/company/detroitblockchain/) and the Michigan President of Stand With Crypto. A digital asset advocate\, ecosystem builder\, and technology strategist with a background in decentralized systems and software engineering. Since 2017\, she has led teams of blockchain developers and worked to bridge emerging technologies with real-world use. \n**About the sponsor…**\n​​Special thanks to [Stand With Crypto](https://www.standwithcrypto.org/)! Stand With Crypto is a non-profit organization dedicated to uniting global crypto advocates. They are empowering the blockchain community through advocacy\, education\, and grassroots engagement! \n**Important Note**: You must [RSVP on Luma](https://luma.com/7j9xot5s).\nEvent is free but space is limited and a Luma ticket is required!
URL:https://detroitartdao.com/event/web3-community-social
LOCATION:MI
CATEGORIES:Tech
ATTACH;FMTTYPE=image/jpeg:https://dpop.nyc3.digitaloceanspaces.com/wp-content/uploads/2025/09/19070133/1024x576-HIX3cH.tmp_.jpg
END:VEVENT
END:VCALENDAR