BEGIN:VCALENDAR
VERSION:2.0
PRODID:-//Discover Detroit Art - ECPv6.0.1//NONSGML v1.0//EN
CALSCALE:GREGORIAN
METHOD:PUBLISH
X-ORIGINAL-URL:https://detroitartdao.com
X-WR-CALDESC:Events for Discover Detroit Art
REFRESH-INTERVAL;VALUE=DURATION:PT1H
X-Robots-Tag:noindex
X-PUBLISHED-TTL:PT1H
BEGIN:VTIMEZONE
TZID:America/Detroit
BEGIN:DAYLIGHT
TZOFFSETFROM:-0500
TZOFFSETTO:-0400
TZNAME:EDT
DTSTART:20260308T070000
END:DAYLIGHT
BEGIN:STANDARD
TZOFFSETFROM:-0400
TZOFFSETTO:-0500
TZNAME:EST
DTSTART:20261101T060000
END:STANDARD
END:VTIMEZONE
BEGIN:VEVENT
DTSTART;TZID=America/Detroit:20260422T200000
DTEND;TZID=America/Detroit:20260423T020000
DTSTAMP:20260423T090536
CREATED:20260422T154637Z
LAST-MODIFIED:20260422T154637Z
UID:10017707-1776888000-1776909600@detroitartdao.com
SUMMARY:Blakinetic
DESCRIPTION:
URL:https://detroitartdao.com/event/blakinetic
LOCATION:Spot Lite\, 2905 Beaufait\, Detroit\, MI\, 48207
CATEGORIES:TheDetroitILove
GEO:42.3580524;-83.0167091
X-APPLE-STRUCTURED-LOCATION;VALUE=URI;X-ADDRESS=Spot Lite 2905 Beaufait Detroit MI 48207;X-APPLE-RADIUS=500;X-TITLE=2905 Beaufait:geo:-83.0167091,42.3580524
END:VEVENT
BEGIN:VEVENT
DTSTART;TZID=America/Detroit:20260422T200000
DTEND;TZID=America/Detroit:20260423T020000
DTSTAMP:20260423T090536
CREATED:20260422T154637Z
LAST-MODIFIED:20260422T154637Z
UID:10017710-1776888000-1776909600@detroitartdao.com
SUMMARY:Blakinetic
DESCRIPTION:
URL:https://detroitartdao.com/event/blakinetic-2
LOCATION:Spot Lite\, 2905 Beaufait\, Detroit\, MI\, 48207
CATEGORIES:TheDetroitILove
GEO:42.3580524;-83.0167091
X-APPLE-STRUCTURED-LOCATION;VALUE=URI;X-ADDRESS=Spot Lite 2905 Beaufait Detroit MI 48207;X-APPLE-RADIUS=500;X-TITLE=2905 Beaufait:geo:-83.0167091,42.3580524
END:VEVENT
BEGIN:VEVENT
DTSTART;TZID=America/Detroit:20260422T220000
DTEND;TZID=America/Detroit:20260423T020000
DTSTAMP:20260423T090536
CREATED:20260401T164744Z
LAST-MODIFIED:20260422T154639Z
UID:10017478-1776895200-1776909600@detroitartdao.com
SUMMARY:The Function
DESCRIPTION:
URL:https://detroitartdao.com/event/the-function-17
LOCATION:Northern Lights\, 660 W Baltimore Street\, Detroit\, MI\, 48202
CATEGORIES:TheDetroitILove
GEO:42.3668984;-83.0766966
X-APPLE-STRUCTURED-LOCATION;VALUE=URI;X-ADDRESS=Northern Lights 660 W Baltimore Street Detroit MI 48202;X-APPLE-RADIUS=500;X-TITLE=660 W Baltimore Street:geo:-83.0766966,42.3668984
END:VEVENT
BEGIN:VEVENT
DTSTART;TZID=America/Detroit:20260422T220000
DTEND;TZID=America/Detroit:20260423T020000
DTSTAMP:20260423T090536
CREATED:20260422T154639Z
LAST-MODIFIED:20260422T154639Z
UID:10017708-1776895200-1776909600@detroitartdao.com
SUMMARY:Nightcap
DESCRIPTION:
URL:https://detroitartdao.com/event/nightcap-27
LOCATION:SPKR BOX\, 200 Grand River Avenue\, Detroit\, MI\, 48226\, United States
CATEGORIES:TheDetroitILove
GEO:42.3337987;-83.0499187
X-APPLE-STRUCTURED-LOCATION;VALUE=URI;X-ADDRESS=SPKR BOX 200 Grand River Avenue Detroit MI 48226 United States;X-APPLE-RADIUS=500;X-TITLE=200 Grand River Avenue:geo:-83.0499187,42.3337987
END:VEVENT
BEGIN:VEVENT
DTSTART;TZID=America/Detroit:20260422T220000
DTEND;TZID=America/Detroit:20260423T020000
DTSTAMP:20260423T090536
CREATED:20260422T154640Z
LAST-MODIFIED:20260422T154640Z
UID:10017711-1776895200-1776909600@detroitartdao.com
SUMMARY:Nightcap
DESCRIPTION:
URL:https://detroitartdao.com/event/nightcap-28
LOCATION:SPKR BOX\, 200 Grand River Avenue\, Detroit\, MI\, 48226\, United States
CATEGORIES:TheDetroitILove
GEO:42.3337987;-83.0499187
X-APPLE-STRUCTURED-LOCATION;VALUE=URI;X-ADDRESS=SPKR BOX 200 Grand River Avenue Detroit MI 48226 United States;X-APPLE-RADIUS=500;X-TITLE=200 Grand River Avenue:geo:-83.0499187,42.3337987
END:VEVENT
BEGIN:VEVENT
DTSTART;TZID=America/Detroit:20260422T220000
DTEND;TZID=America/Detroit:20260423T020000
DTSTAMP:20260423T090536
CREATED:20260422T154640Z
LAST-MODIFIED:20260422T154640Z
UID:10017712-1776895200-1776909600@detroitartdao.com
SUMMARY:Amber
DESCRIPTION:
URL:https://detroitartdao.com/event/amber-5
LOCATION:SPKR BOX\, 200 Grand River Avenue\, Detroit\, MI\, 48226\, United States
CATEGORIES:TheDetroitILove
GEO:42.3337987;-83.0499187
X-APPLE-STRUCTURED-LOCATION;VALUE=URI;X-ADDRESS=SPKR BOX 200 Grand River Avenue Detroit MI 48226 United States;X-APPLE-RADIUS=500;X-TITLE=200 Grand River Avenue:geo:-83.0499187,42.3337987
END:VEVENT
BEGIN:VEVENT
DTSTART;TZID=America/Detroit:20260422T220000
DTEND;TZID=America/Detroit:20260423T020000
DTSTAMP:20260423T090536
CREATED:20260422T154641Z
LAST-MODIFIED:20260422T154641Z
UID:10017709-1776895200-1776909600@detroitartdao.com
SUMMARY:Amber
DESCRIPTION:
URL:https://detroitartdao.com/event/amber-6
LOCATION:SPKR BOX\, 200 Grand River Avenue\, Detroit\, MI\, 48226\, United States
CATEGORIES:TheDetroitILove
GEO:42.3337987;-83.0499187
X-APPLE-STRUCTURED-LOCATION;VALUE=URI;X-ADDRESS=SPKR BOX 200 Grand River Avenue Detroit MI 48226 United States;X-APPLE-RADIUS=500;X-TITLE=200 Grand River Avenue:geo:-83.0499187,42.3337987
END:VEVENT
BEGIN:VEVENT
DTSTART;TZID=America/Detroit:20260423T190000
DTEND;TZID=America/Detroit:20260424T010000
DTSTAMP:20260423T090536
CREATED:20260327T161802Z
LAST-MODIFIED:20260422T154642Z
UID:10017417-1776970800-1776992400@detroitartdao.com
SUMMARY:Goth Karaoke
DESCRIPTION:
URL:https://detroitartdao.com/event/goth-karaoke-4
LOCATION:The Strays\, 8850 Joseph Campau Avenue\, Hamtramck\, Michigan\, 48212
CATEGORIES:TheDetroitILove
GEO:42.3909966;-83.0536179
X-APPLE-STRUCTURED-LOCATION;VALUE=URI;X-ADDRESS=The Strays 8850 Joseph Campau Avenue Hamtramck Michigan 48212;X-APPLE-RADIUS=500;X-TITLE=8850 Joseph Campau Avenue:geo:-83.0536179,42.3909966
END:VEVENT
BEGIN:VEVENT
DTSTART;TZID=America/Detroit:20260427T190000
DTEND;TZID=America/Detroit:20260428T020000
DTSTAMP:20260423T090536
CREATED:20260328T163236Z
LAST-MODIFIED:20260422T154649Z
UID:10017424-1777316400-1777341600@detroitartdao.com
SUMMARY:Monday Is The New Monday
DESCRIPTION:
URL:https://detroitartdao.com/event/monday-is-the-new-monday-31
LOCATION:MotorCity Wine\, 1949 Michigan Avenue\, Detroit\, MI\, 48216
CATEGORIES:TheDetroitILove
GEO:42.3311806;-83.0730097
X-APPLE-STRUCTURED-LOCATION;VALUE=URI;X-ADDRESS=MotorCity Wine 1949 Michigan Avenue Detroit MI 48216;X-APPLE-RADIUS=500;X-TITLE=1949 Michigan Avenue:geo:-83.0730097,42.3311806
END:VEVENT
BEGIN:VEVENT
DTSTART;TZID=America/Detroit:20260427T220000
DTEND;TZID=America/Detroit:20260428T020000
DTSTAMP:20260423T090536
CREATED:20260328T163222Z
LAST-MODIFIED:20260422T154643Z
UID:10017425-1777327200-1777341600@detroitartdao.com
SUMMARY:Slow Jams
DESCRIPTION:
URL:https://detroitartdao.com/event/slow-jams-25
LOCATION:Woodbridge Pub\, 5169 Trumbull Street\, Detroit\, MI\, 48208
CATEGORIES:TheDetroitILove
GEO:42.3540344;-83.0801597
X-APPLE-STRUCTURED-LOCATION;VALUE=URI;X-ADDRESS=Woodbridge Pub 5169 Trumbull Street Detroit MI 48208;X-APPLE-RADIUS=500;X-TITLE=5169 Trumbull Street:geo:-83.0801597,42.3540344
END:VEVENT
BEGIN:VEVENT
DTSTART;TZID=America/Detroit:20260428T190000
DTEND;TZID=America/Detroit:20260428T220000
DTSTAMP:20260423T090536
CREATED:20260408T173239Z
LAST-MODIFIED:20260422T154644Z
UID:10017544-1777402800-1777413600@detroitartdao.com
SUMMARY:In Transit
DESCRIPTION:
URL:https://detroitartdao.com/event/in-transit-28
LOCATION:Northern Lights\, 660 W Baltimore Street\, Detroit\, MI\, 48202
CATEGORIES:TheDetroitILove
GEO:42.3668984;-83.0766966
X-APPLE-STRUCTURED-LOCATION;VALUE=URI;X-ADDRESS=Northern Lights 660 W Baltimore Street Detroit MI 48202;X-APPLE-RADIUS=500;X-TITLE=660 W Baltimore Street:geo:-83.0766966,42.3668984
END:VEVENT
BEGIN:VEVENT
DTSTART;TZID=America/Detroit:20260429T183000
DTEND;TZID=America/Detroit:20260430T000000
DTSTAMP:20260423T090536
CREATED:20260401T164825Z
LAST-MODIFIED:20260422T154651Z
UID:10017483-1777487400-1777507200@detroitartdao.com
SUMMARY:Tango Wednesday
DESCRIPTION:
URL:https://detroitartdao.com/event/tango-wednesday-14
LOCATION:MotorCity Wine\, 1949 Michigan Avenue\, Detroit\, MI\, 48216
CATEGORIES:TheDetroitILove
GEO:42.3311806;-83.0730097
X-APPLE-STRUCTURED-LOCATION;VALUE=URI;X-ADDRESS=MotorCity Wine 1949 Michigan Avenue Detroit MI 48216;X-APPLE-RADIUS=500;X-TITLE=1949 Michigan Avenue:geo:-83.0730097,42.3311806
END:VEVENT
BEGIN:VEVENT
DTSTART;TZID=America/Detroit:20260429T220000
DTEND;TZID=America/Detroit:20260430T020000
DTSTAMP:20260423T090536
CREATED:20260401T164748Z
LAST-MODIFIED:20260422T154643Z
UID:10017479-1777500000-1777514400@detroitartdao.com
SUMMARY:The Function
DESCRIPTION:
URL:https://detroitartdao.com/event/the-function-18
LOCATION:Northern Lights\, 660 W Baltimore Street\, Detroit\, MI\, 48202
CATEGORIES:TheDetroitILove
GEO:42.3668984;-83.0766966
X-APPLE-STRUCTURED-LOCATION;VALUE=URI;X-ADDRESS=Northern Lights 660 W Baltimore Street Detroit MI 48202;X-APPLE-RADIUS=500;X-TITLE=660 W Baltimore Street:geo:-83.0766966,42.3668984
END:VEVENT
BEGIN:VEVENT
DTSTART;TZID=America/Detroit:20260430T190000
DTEND;TZID=America/Detroit:20260501T010000
DTSTAMP:20260423T090536
CREATED:20260331T164746Z
LAST-MODIFIED:20260422T154644Z
UID:10017471-1777575600-1777597200@detroitartdao.com
SUMMARY:Goth Karaoke
DESCRIPTION:
URL:https://detroitartdao.com/event/goth-karaoke-5
LOCATION:The Strays\, 8850 Joseph Campau Avenue\, Hamtramck\, Michigan\, 48212
CATEGORIES:TheDetroitILove
GEO:42.3909966;-83.0536179
X-APPLE-STRUCTURED-LOCATION;VALUE=URI;X-ADDRESS=The Strays 8850 Joseph Campau Avenue Hamtramck Michigan 48212;X-APPLE-RADIUS=500;X-TITLE=8850 Joseph Campau Avenue:geo:-83.0536179,42.3909966
END:VEVENT
END:VCALENDAR