BEGIN:VCALENDAR
VERSION:2.0
PRODID:-//Discover Detroit Art - ECPv6.0.1//NONSGML v1.0//EN
CALSCALE:GREGORIAN
METHOD:PUBLISH
X-ORIGINAL-URL:https://detroitartdao.com
X-WR-CALDESC:Events for Discover Detroit Art
REFRESH-INTERVAL;VALUE=DURATION:PT1H
X-Robots-Tag:noindex
X-PUBLISHED-TTL:PT1H
BEGIN:VTIMEZONE
TZID:America/Detroit
BEGIN:DAYLIGHT
TZOFFSETFROM:-0500
TZOFFSETTO:-0400
TZNAME:EDT
DTSTART:20250309T070000
END:DAYLIGHT
BEGIN:STANDARD
TZOFFSETFROM:-0400
TZOFFSETTO:-0500
TZNAME:EST
DTSTART:20251102T060000
END:STANDARD
END:VTIMEZONE
BEGIN:VEVENT
DTSTART;TZID=America/Detroit:20250707T200000
DTEND;TZID=America/Detroit:20250707T220000
DTSTAMP:20260420T121204
CREATED:20250607T123421Z
LAST-MODIFIED:20250707T130138Z
UID:10013669-1751918400-1751925600@detroitartdao.com
SUMMARY:(Radio) Visions
DESCRIPTION:
URL:https://detroitartdao.com/event/radio-visions-5
LOCATION:WDET
CATEGORIES:TheDetroitILove
END:VEVENT
BEGIN:VEVENT
DTSTART;TZID=America/Detroit:20250708T190000
DTEND;TZID=America/Detroit:20250709T000000
DTSTAMP:20260420T121204
CREATED:20250608T123207Z
LAST-MODIFIED:20250708T131643Z
UID:10013681-1752001200-1752019200@detroitartdao.com
SUMMARY:Songwriter Open Mic Night
DESCRIPTION:
URL:https://detroitartdao.com/event/songwriter-open-mic-night-11
LOCATION:Ghost Light\, 2314 Caniff\, Hamtramck\, MI\, 48212
CATEGORIES:TheDetroitILove
GEO:42.3979695;-83.0642841
X-APPLE-STRUCTURED-LOCATION;VALUE=URI;X-ADDRESS=Ghost Light 2314 Caniff Hamtramck MI 48212;X-APPLE-RADIUS=500;X-TITLE=2314 Caniff:geo:-83.0642841,42.3979695
END:VEVENT
BEGIN:VEVENT
DTSTART;TZID=America/Detroit:20250708T210000
DTEND;TZID=America/Detroit:20250709T020000
DTSTAMP:20260420T121204
CREATED:20250708T131642Z
LAST-MODIFIED:20250708T131644Z
UID:10014071-1752008400-1752026400@detroitartdao.com
SUMMARY:Soul Tone
DESCRIPTION:
URL:https://detroitartdao.com/event/soul-tone-3
LOCATION:The High Dive\, 11474 Jos Campau\, Hamtramck\, MI\, 48212
CATEGORIES:TheDetroitILove
GEO:42.4018141;-83.0608451
X-APPLE-STRUCTURED-LOCATION;VALUE=URI;X-ADDRESS=The High Dive 11474 Jos Campau Hamtramck MI 48212;X-APPLE-RADIUS=500;X-TITLE=11474 Jos Campau:geo:-83.0608451,42.4018141
END:VEVENT
BEGIN:VEVENT
DTSTART;TZID=America/Detroit:20250708T220000
DTEND;TZID=America/Detroit:20250709T020000
DTSTAMP:20260420T121204
CREATED:20250708T131642Z
LAST-MODIFIED:20250708T131645Z
UID:10014072-1752012000-1752026400@detroitartdao.com
SUMMARY:Go Down
DESCRIPTION:
URL:https://detroitartdao.com/event/go-down-45
LOCATION:SPKR BOX\, 200 Grand River Avenue\, Detroit\, MI\, 48226\, United States
CATEGORIES:TheDetroitILove
GEO:42.3337987;-83.0499187
X-APPLE-STRUCTURED-LOCATION;VALUE=URI;X-ADDRESS=SPKR BOX 200 Grand River Avenue Detroit MI 48226 United States;X-APPLE-RADIUS=500;X-TITLE=200 Grand River Avenue:geo:-83.0499187,42.3337987
END:VEVENT
BEGIN:VEVENT
DTSTART;TZID=America/Detroit:20250708T220000
DTEND;TZID=America/Detroit:20250709T020000
DTSTAMP:20260420T121204
CREATED:20250708T131643Z
LAST-MODIFIED:20250708T131645Z
UID:10014073-1752012000-1752026400@detroitartdao.com
SUMMARY:The Chamber Continues
DESCRIPTION:
URL:https://detroitartdao.com/event/the-chamber-continues
LOCATION:Detroit Shipping Company\, 474 Peterboro\, Detroit\, MI\, 48201\, us
CATEGORIES:TheDetroitILove
GEO:42.344227;-83.06156
X-APPLE-STRUCTURED-LOCATION;VALUE=URI;X-ADDRESS=Detroit Shipping Company 474 Peterboro Detroit MI 48201 us;X-APPLE-RADIUS=500;X-TITLE=474 Peterboro:geo:-83.06156,42.344227
END:VEVENT
BEGIN:VEVENT
DTSTART;TZID=America/Detroit:20250709T190000
DTEND;TZID=America/Detroit:20250709T220000
DTSTAMP:20260420T121204
CREATED:20250702T075604Z
LAST-MODIFIED:20250709T131642Z
UID:10013986-1752087600-1752098400@detroitartdao.com
SUMMARY:Planet Funk
DESCRIPTION:
URL:https://detroitartdao.com/event/planet-funk-69
LOCATION:SPKR BOX\, 200 Grand River Avenue\, Detroit\, MI\, 48226\, United States
CATEGORIES:TheDetroitILove
GEO:42.3337987;-83.0499187
X-APPLE-STRUCTURED-LOCATION;VALUE=URI;X-ADDRESS=SPKR BOX 200 Grand River Avenue Detroit MI 48226 United States;X-APPLE-RADIUS=500;X-TITLE=200 Grand River Avenue:geo:-83.0499187,42.3337987
END:VEVENT
BEGIN:VEVENT
DTSTART;TZID=America/Detroit:20250709T200000
DTEND;TZID=America/Detroit:20250709T220000
DTSTAMP:20260420T121204
CREATED:20250609T124809Z
LAST-MODIFIED:20250709T131643Z
UID:10013684-1752091200-1752098400@detroitartdao.com
SUMMARY:(Radio) The Boulevard
DESCRIPTION:
URL:https://detroitartdao.com/event/radio-the-boulevard-20
LOCATION:WDET
CATEGORIES:TheDetroitILove
END:VEVENT
BEGIN:VEVENT
DTSTART;TZID=America/Detroit:20250710T150000
DTEND;TZID=America/Detroit:20250710T190000
DTSTAMP:20260420T121204
CREATED:20250703T120249Z
LAST-MODIFIED:20250710T131645Z
UID:10014008-1752159600-1752174000@detroitartdao.com
SUMMARY:Community in the Courtyard
DESCRIPTION:
URL:https://detroitartdao.com/event/community-in-the-courtyard-2
LOCATION:Selden Standard\, 3921 2nd Avenue\, Detroit\, MI\, 48201
CATEGORIES:TheDetroitILove
GEO:42.3478023;-83.0649761
X-APPLE-STRUCTURED-LOCATION;VALUE=URI;X-ADDRESS=Selden Standard 3921 2nd Avenue Detroit MI 48201;X-APPLE-RADIUS=500;X-TITLE=3921 2nd Avenue:geo:-83.0649761,42.3478023
END:VEVENT
BEGIN:VEVENT
DTSTART;TZID=America/Detroit:20250710T170000
DTEND;TZID=America/Detroit:20250710T220000
DTSTAMP:20260420T121204
CREATED:20250710T131646Z
LAST-MODIFIED:20250710T131646Z
UID:10014085-1752166800-1752184800@detroitartdao.com
SUMMARY:Record Release
DESCRIPTION:
URL:https://detroitartdao.com/event/record-release-2
LOCATION:Foxglove\, 258 Kenilworth\, Detroit\, MI
CATEGORIES:TheDetroitILove
GEO:42.331427;-83.0457538
X-APPLE-STRUCTURED-LOCATION;VALUE=URI;X-ADDRESS=Foxglove 258 Kenilworth Detroit MI;X-APPLE-RADIUS=500;X-TITLE=258 Kenilworth:geo:-83.0457538,42.331427
END:VEVENT
BEGIN:VEVENT
DTSTART;TZID=America/Detroit:20250710T170000
DTEND;TZID=America/Detroit:20250710T220000
DTSTAMP:20260420T121204
CREATED:20250710T131646Z
LAST-MODIFIED:20250710T131646Z
UID:10014091-1752166800-1752184800@detroitartdao.com
SUMMARY:Record Release
DESCRIPTION:
URL:https://detroitartdao.com/event/record-release
LOCATION:Foxglove\, 258 Kenilworth\, Detroit\, MI
CATEGORIES:TheDetroitILove
GEO:42.331427;-83.0457538
X-APPLE-STRUCTURED-LOCATION;VALUE=URI;X-ADDRESS=Foxglove 258 Kenilworth Detroit MI;X-APPLE-RADIUS=500;X-TITLE=258 Kenilworth:geo:-83.0457538,42.331427
END:VEVENT
BEGIN:VEVENT
DTSTART;TZID=America/Detroit:20250710T190000
DTEND;TZID=America/Detroit:20250710T203000
DTSTAMP:20260420T121204
CREATED:20250710T131647Z
LAST-MODIFIED:20250710T131647Z
UID:10014093-1752174000-1752179400@detroitartdao.com
SUMMARY:Big Stretch
DESCRIPTION:
URL:https://detroitartdao.com/event/big-stretch-6
LOCATION:Big Pink\, 6440 Wight Street\, Detroit\, MI
CATEGORIES:TheDetroitILove
GEO:42.3423259;-83.0073267
X-APPLE-STRUCTURED-LOCATION;VALUE=URI;X-ADDRESS=Big Pink 6440 Wight Street Detroit MI;X-APPLE-RADIUS=500;X-TITLE=6440 Wight Street:geo:-83.0073267,42.3423259
END:VEVENT
BEGIN:VEVENT
DTSTART;TZID=America/Detroit:20250710T190000
DTEND;TZID=America/Detroit:20250710T203000
DTSTAMP:20260420T121204
CREATED:20250710T131648Z
LAST-MODIFIED:20250710T131648Z
UID:10014086-1752174000-1752179400@detroitartdao.com
SUMMARY:Big Stretch
DESCRIPTION:
URL:https://detroitartdao.com/event/big-stretch-7
LOCATION:Big Pink\, 6440 Wight Street\, Detroit\, MI
CATEGORIES:TheDetroitILove
GEO:42.3423259;-83.0073267
X-APPLE-STRUCTURED-LOCATION;VALUE=URI;X-ADDRESS=Big Pink 6440 Wight Street Detroit MI;X-APPLE-RADIUS=500;X-TITLE=6440 Wight Street:geo:-83.0073267,42.3423259
END:VEVENT
BEGIN:VEVENT
DTSTART;TZID=America/Detroit:20250710T190000
DTEND;TZID=America/Detroit:20250710T220000
DTSTAMP:20260420T121204
CREATED:20250610T124758Z
LAST-MODIFIED:20250702T075604Z
UID:10013742-1752174000-1752184800@detroitartdao.com
SUMMARY:Curated Cool
DESCRIPTION:
URL:https://detroitartdao.com/event/curated-cool-39
LOCATION:SPKR BOX\, 200 Grand River Avenue\, Detroit\, MI\, 48226\, United States
CATEGORIES:TheDetroitILove
GEO:42.3337987;-83.0499187
X-APPLE-STRUCTURED-LOCATION;VALUE=URI;X-ADDRESS=SPKR BOX 200 Grand River Avenue Detroit MI 48226 United States;X-APPLE-RADIUS=500;X-TITLE=200 Grand River Avenue:geo:-83.0499187,42.3337987
END:VEVENT
BEGIN:VEVENT
DTSTART;TZID=America/Detroit:20250710T190000
DTEND;TZID=America/Detroit:20250711T020000
DTSTAMP:20260420T121204
CREATED:20250710T131648Z
LAST-MODIFIED:20250710T131648Z
UID:10014094-1752174000-1752199200@detroitartdao.com
SUMMARY:Red Bull B2B Panel + Kick-off Party
DESCRIPTION:
URL:https://detroitartdao.com/event/red-bull-b2b-panel-kick-off-party
LOCATION:Deluxx Fluxx\, The Belt Alley\, Detroit\, MI\, 48226
CATEGORIES:TheDetroitILove
GEO:42.3347059;-83.046706
X-APPLE-STRUCTURED-LOCATION;VALUE=URI;X-ADDRESS=Deluxx Fluxx The Belt Alley Detroit MI 48226;X-APPLE-RADIUS=500;X-TITLE=The Belt Alley:geo:-83.046706,42.3347059
END:VEVENT
BEGIN:VEVENT
DTSTART;TZID=America/Detroit:20250710T190000
DTEND;TZID=America/Detroit:20250711T020000
DTSTAMP:20260420T121204
CREATED:20250710T131649Z
LAST-MODIFIED:20250710T131649Z
UID:10014087-1752174000-1752199200@detroitartdao.com
SUMMARY:Red Bull B2B Panel + Kick-off Party
DESCRIPTION:
URL:https://detroitartdao.com/event/red-bull-b2b-panel-kick-off-party-2
LOCATION:Deluxx Fluxx\, The Belt Alley\, Detroit\, MI\, 48226
CATEGORIES:TheDetroitILove
GEO:42.3347059;-83.046706
X-APPLE-STRUCTURED-LOCATION;VALUE=URI;X-ADDRESS=Deluxx Fluxx The Belt Alley Detroit MI 48226;X-APPLE-RADIUS=500;X-TITLE=The Belt Alley:geo:-83.046706,42.3347059
END:VEVENT
BEGIN:VEVENT
DTSTART;TZID=America/Detroit:20250710T200000
DTEND;TZID=America/Detroit:20250710T220000
DTSTAMP:20260420T121204
CREATED:20250610T124907Z
LAST-MODIFIED:20250710T131651Z
UID:10013745-1752177600-1752184800@detroitartdao.com
SUMMARY:(Radio) Alternate Take
DESCRIPTION:
URL:https://detroitartdao.com/event/alternate-take-13
LOCATION:WDET
CATEGORIES:TheDetroitILove
END:VEVENT
BEGIN:VEVENT
DTSTART;TZID=America/Detroit:20250710T200000
DTEND;TZID=America/Detroit:20250710T220000
DTSTAMP:20260420T121204
CREATED:20250710T131651Z
LAST-MODIFIED:20250710T131651Z
UID:10014095-1752177600-1752184800@detroitartdao.com
SUMMARY:(screening) Jaws
DESCRIPTION:
URL:https://detroitartdao.com/event/screening-jaws
LOCATION:The High Dive\, 11474 Jos Campau\, Hamtramck\, MI\, 48212
CATEGORIES:TheDetroitILove
GEO:42.4018141;-83.0608451
X-APPLE-STRUCTURED-LOCATION;VALUE=URI;X-ADDRESS=The High Dive 11474 Jos Campau Hamtramck MI 48212;X-APPLE-RADIUS=500;X-TITLE=11474 Jos Campau:geo:-83.0608451,42.4018141
END:VEVENT
BEGIN:VEVENT
DTSTART;TZID=America/Detroit:20250710T200000
DTEND;TZID=America/Detroit:20250710T220000
DTSTAMP:20260420T121205
CREATED:20250710T131652Z
LAST-MODIFIED:20250710T131652Z
UID:10014088-1752177600-1752184800@detroitartdao.com
SUMMARY:(screening) Jaws
DESCRIPTION:
URL:https://detroitartdao.com/event/screening-jaws-2
LOCATION:The High Dive\, 11474 Jos Campau\, Hamtramck\, MI\, 48212
CATEGORIES:TheDetroitILove
GEO:42.4018141;-83.0608451
X-APPLE-STRUCTURED-LOCATION;VALUE=URI;X-ADDRESS=The High Dive 11474 Jos Campau Hamtramck MI 48212;X-APPLE-RADIUS=500;X-TITLE=11474 Jos Campau:geo:-83.0608451,42.4018141
END:VEVENT
BEGIN:VEVENT
DTSTART;TZID=America/Detroit:20250710T200000
DTEND;TZID=America/Detroit:20250711T000000
DTSTAMP:20260420T121205
CREATED:20250610T124759Z
LAST-MODIFIED:20250710T131650Z
UID:10013743-1752177600-1752192000@detroitartdao.com
SUMMARY:Karaoke Night
DESCRIPTION:
URL:https://detroitartdao.com/event/karaoke-night-19
LOCATION:Ghost Light\, 2314 Caniff\, Hamtramck\, MI\, 48212
CATEGORIES:TheDetroitILove
GEO:42.3979695;-83.0642841
X-APPLE-STRUCTURED-LOCATION;VALUE=URI;X-ADDRESS=Ghost Light 2314 Caniff Hamtramck MI 48212;X-APPLE-RADIUS=500;X-TITLE=2314 Caniff:geo:-83.0642841,42.3979695
END:VEVENT
BEGIN:VEVENT
DTSTART;TZID=America/Detroit:20250710T210000
DTEND;TZID=America/Detroit:20250711T020000
DTSTAMP:20260420T121205
CREATED:20250710T131653Z
LAST-MODIFIED:20250710T131653Z
UID:10014089-1752181200-1752199200@detroitartdao.com
SUMMARY:Freaquency
DESCRIPTION:
URL:https://detroitartdao.com/event/freaquency-3
LOCATION:UFO Bar\, 2110 Trumbull Street\, Detroit\, MI\, 48216
CATEGORIES:TheDetroitILove
GEO:42.3321892;-83.0669471
X-APPLE-STRUCTURED-LOCATION;VALUE=URI;X-ADDRESS=UFO Bar 2110 Trumbull Street Detroit MI 48216;X-APPLE-RADIUS=500;X-TITLE=2110 Trumbull Street:geo:-83.0669471,42.3321892
END:VEVENT
BEGIN:VEVENT
DTSTART;TZID=America/Detroit:20250710T210000
DTEND;TZID=America/Detroit:20250711T020000
DTSTAMP:20260420T121205
CREATED:20250710T131653Z
LAST-MODIFIED:20250710T131653Z
UID:10014096-1752181200-1752199200@detroitartdao.com
SUMMARY:Freaquency
DESCRIPTION:
URL:https://detroitartdao.com/event/freaquency-2
LOCATION:UFO Bar\, 2110 Trumbull Street\, Detroit\, MI\, 48216
CATEGORIES:TheDetroitILove
GEO:42.3321892;-83.0669471
X-APPLE-STRUCTURED-LOCATION;VALUE=URI;X-ADDRESS=UFO Bar 2110 Trumbull Street Detroit MI 48216;X-APPLE-RADIUS=500;X-TITLE=2110 Trumbull Street:geo:-83.0669471,42.3321892
END:VEVENT
BEGIN:VEVENT
DTSTART;TZID=America/Detroit:20250710T210000
DTEND;TZID=America/Detroit:20250711T020000
DTSTAMP:20260420T121205
CREATED:20250710T131654Z
LAST-MODIFIED:20250710T131654Z
UID:10014090-1752181200-1752199200@detroitartdao.com
SUMMARY:Living Room Sessions
DESCRIPTION:
URL:https://detroitartdao.com/event/living-room-sessions-3
LOCATION:Spot Lite\, 2905 Beaufait\, Detroit\, MI\, 48207
CATEGORIES:TheDetroitILove
GEO:42.3580524;-83.0167091
X-APPLE-STRUCTURED-LOCATION;VALUE=URI;X-ADDRESS=Spot Lite 2905 Beaufait Detroit MI 48207;X-APPLE-RADIUS=500;X-TITLE=2905 Beaufait:geo:-83.0167091,42.3580524
END:VEVENT
BEGIN:VEVENT
DTSTART;TZID=America/Detroit:20250710T210000
DTEND;TZID=America/Detroit:20250711T020000
DTSTAMP:20260420T121205
CREATED:20250710T131654Z
LAST-MODIFIED:20250710T131654Z
UID:10014097-1752181200-1752199200@detroitartdao.com
SUMMARY:Living Room Sessions
DESCRIPTION:
URL:https://detroitartdao.com/event/living-room-sessions-2
LOCATION:Spot Lite\, 2905 Beaufait\, Detroit\, MI\, 48207
CATEGORIES:TheDetroitILove
GEO:42.3580524;-83.0167091
X-APPLE-STRUCTURED-LOCATION;VALUE=URI;X-ADDRESS=Spot Lite 2905 Beaufait Detroit MI 48207;X-APPLE-RADIUS=500;X-TITLE=2905 Beaufait:geo:-83.0167091,42.3580524
END:VEVENT
BEGIN:VEVENT
DTSTART;TZID=America/Detroit:20250710T220000
DTEND;TZID=America/Detroit:20250711T020000
DTSTAMP:20260420T121205
CREATED:20250710T131655Z
LAST-MODIFIED:20250710T131655Z
UID:10014092-1752184800-1752199200@detroitartdao.com
SUMMARY:Fusion – Special Classic Edition
DESCRIPTION:
URL:https://detroitartdao.com/event/fusion-special-classic-edition-2
LOCATION:Trixie’s Bar\, 2656 Carpenter Street\, Hamtramck\, MI\, 48212
CATEGORIES:TheDetroitILove
GEO:42.4140992;-83.0522468
X-APPLE-STRUCTURED-LOCATION;VALUE=URI;X-ADDRESS=Trixie’s Bar 2656 Carpenter Street Hamtramck MI 48212;X-APPLE-RADIUS=500;X-TITLE=2656 Carpenter Street:geo:-83.0522468,42.4140992
END:VEVENT
BEGIN:VEVENT
DTSTART;TZID=America/Detroit:20250710T220000
DTEND;TZID=America/Detroit:20250711T020000
DTSTAMP:20260420T121205
CREATED:20250710T131655Z
LAST-MODIFIED:20250710T131655Z
UID:10014098-1752184800-1752199200@detroitartdao.com
SUMMARY:Fusion – Special Classic Edition
DESCRIPTION:
URL:https://detroitartdao.com/event/fusion-special-classic-edition
LOCATION:Trixie’s Bar\, 2656 Carpenter Street\, Hamtramck\, MI\, 48212
CATEGORIES:TheDetroitILove
GEO:42.4140992;-83.0522468
X-APPLE-STRUCTURED-LOCATION;VALUE=URI;X-ADDRESS=Trixie’s Bar 2656 Carpenter Street Hamtramck MI 48212;X-APPLE-RADIUS=500;X-TITLE=2656 Carpenter Street:geo:-83.0522468,42.4140992
END:VEVENT
BEGIN:VEVENT
DTSTART;TZID=America/Detroit:20250710T220000
DTEND;TZID=America/Detroit:20250711T020000
DTSTAMP:20260420T121205
CREATED:20250710T131656Z
LAST-MODIFIED:20250710T131727Z
UID:10014099-1752184800-1752199200@detroitartdao.com
SUMMARY:XTRA
DESCRIPTION:
URL:https://detroitartdao.com/event/xtra-5
LOCATION:SPKR BOX\, 200 Grand River Avenue\, Detroit\, MI\, 48226\, United States
CATEGORIES:TheDetroitILove
GEO:42.3337987;-83.0499187
X-APPLE-STRUCTURED-LOCATION;VALUE=URI;X-ADDRESS=SPKR BOX 200 Grand River Avenue Detroit MI 48226 United States;X-APPLE-RADIUS=500;X-TITLE=200 Grand River Avenue:geo:-83.0499187,42.3337987
END:VEVENT
BEGIN:VEVENT
DTSTART;TZID=America/Detroit:20250710T220000
DTEND;TZID=America/Detroit:20250711T020000
DTSTAMP:20260420T121205
CREATED:20250710T131658Z
LAST-MODIFIED:20250710T131729Z
UID:10014100-1752184800-1752199200@detroitartdao.com
SUMMARY:Groove Night
DESCRIPTION:
URL:https://detroitartdao.com/event/groove-night-57
LOCATION:SPKR BOX\, 200 Grand River Avenue\, Detroit\, MI\, 48226\, United States
CATEGORIES:TheDetroitILove
GEO:42.3337987;-83.0499187
X-APPLE-STRUCTURED-LOCATION;VALUE=URI;X-ADDRESS=SPKR BOX 200 Grand River Avenue Detroit MI 48226 United States;X-APPLE-RADIUS=500;X-TITLE=200 Grand River Avenue:geo:-83.0499187,42.3337987
END:VEVENT
BEGIN:VEVENT
DTSTART;TZID=America/Detroit:20250711T130000
DTEND;TZID=America/Detroit:20250711T150000
DTSTAMP:20260420T121205
CREATED:20250710T131659Z
LAST-MODIFIED:20250711T133152Z
UID:10014101-1752238800-1752246000@detroitartdao.com
SUMMARY:(stream) Binural Frequencies
DESCRIPTION:
URL:https://detroitartdao.com/event/stream-binural-frequencies-18
LOCATION:Deep Space Radio
CATEGORIES:TheDetroitILove
END:VEVENT
BEGIN:VEVENT
DTSTART;TZID=America/Detroit:20250711T190000
DTEND;TZID=America/Detroit:20250711T220000
DTSTAMP:20260420T121205
CREATED:20250710T131701Z
LAST-MODIFIED:20250711T133153Z
UID:10014102-1752260400-1752271200@detroitartdao.com
SUMMARY:Live in Concert
DESCRIPTION:
URL:https://detroitartdao.com/event/live-in-concert
LOCATION:Aretha Franklin Amphitheatre\, 2600 Atwater Street\, Detroit\, MI\, 48207
CATEGORIES:TheDetroitILove
GEO:42.3342075;-83.0217032
X-APPLE-STRUCTURED-LOCATION;VALUE=URI;X-ADDRESS=Aretha Franklin Amphitheatre 2600 Atwater Street Detroit MI 48207;X-APPLE-RADIUS=500;X-TITLE=2600 Atwater Street:geo:-83.0217032,42.3342075
END:VEVENT
BEGIN:VEVENT
DTSTART;TZID=America/Detroit:20250711T200000
DTEND;TZID=America/Detroit:20250712T000000
DTSTAMP:20260420T121205
CREATED:20250704T121921Z
LAST-MODIFIED:20250711T133154Z
UID:10014029-1752264000-1752278400@detroitartdao.com
SUMMARY:Joel Fluent Greene’s Birthday Juke Joint
DESCRIPTION:
URL:https://detroitartdao.com/event/joel-fluent-greenes-birthday-juke-joint
LOCATION:Miss Eva’s\, 19566 Grand River Avenue\, Detroit\, MI\, 48223
CATEGORIES:TheDetroitILove
GEO:42.4076977;-83.234896
X-APPLE-STRUCTURED-LOCATION;VALUE=URI;X-ADDRESS=Miss Eva’s 19566 Grand River Avenue Detroit MI 48223;X-APPLE-RADIUS=500;X-TITLE=19566 Grand River Avenue:geo:-83.234896,42.4076977
END:VEVENT
END:VCALENDAR