BEGIN:VCALENDAR
VERSION:2.0
PRODID:-//Discover Detroit Art - ECPv6.0.1//NONSGML v1.0//EN
CALSCALE:GREGORIAN
METHOD:PUBLISH
X-ORIGINAL-URL:https://detroitartdao.com
X-WR-CALDESC:Events for Discover Detroit Art
REFRESH-INTERVAL;VALUE=DURATION:PT1H
X-Robots-Tag:noindex
X-PUBLISHED-TTL:PT1H
BEGIN:VTIMEZONE
TZID:America/Detroit
BEGIN:DAYLIGHT
TZOFFSETFROM:-0500
TZOFFSETTO:-0400
TZNAME:EDT
DTSTART:20240310T070000
END:DAYLIGHT
BEGIN:STANDARD
TZOFFSETFROM:-0400
TZOFFSETTO:-0500
TZNAME:EST
DTSTART:20241103T060000
END:STANDARD
END:VTIMEZONE
BEGIN:VEVENT
DTSTART;TZID=America/Detroit:20240120T200000
DTEND;TZID=America/Detroit:20240121T020000
DTSTAMP:20260420T053424
CREATED:20240117T230143Z
LAST-MODIFIED:20240120T233141Z
UID:10008030-1705780800-1705802400@detroitartdao.com
SUMMARY:One Night Stand
DESCRIPTION:
URL:https://detroitartdao.com/event/one-night-stand-2
LOCATION:UFO Bar\, 2110 Trumbull Street\, Detroit\, MI\, 48216
CATEGORIES:TheDetroitILove
GEO:42.3321892;-83.0669471
X-APPLE-STRUCTURED-LOCATION;VALUE=URI;X-ADDRESS=UFO Bar 2110 Trumbull Street Detroit MI 48216;X-APPLE-RADIUS=500;X-TITLE=2110 Trumbull Street:geo:-83.0669471,42.3321892
END:VEVENT
BEGIN:VEVENT
DTSTART;TZID=America/Detroit:20240120T200000
DTEND;TZID=America/Detroit:20240121T020000
DTSTAMP:20260420T053424
CREATED:20240119T233143Z
LAST-MODIFIED:20240120T233141Z
UID:10008058-1705780800-1705802400@detroitartdao.com
SUMMARY:Regenerate
DESCRIPTION:
URL:https://detroitartdao.com/event/regenerate-2
LOCATION:The High Dive\, 11474 Jos Campau\, Hamtramck\, MI\, 48212
CATEGORIES:TheDetroitILove
GEO:42.4018141;-83.0608451
X-APPLE-STRUCTURED-LOCATION;VALUE=URI;X-ADDRESS=The High Dive 11474 Jos Campau Hamtramck MI 48212;X-APPLE-RADIUS=500;X-TITLE=11474 Jos Campau:geo:-83.0608451,42.4018141
END:VEVENT
BEGIN:VEVENT
DTSTART;TZID=America/Detroit:20240120T210000
DTEND;TZID=America/Detroit:20240121T020000
DTSTAMP:20260420T053424
CREATED:20240117T230143Z
LAST-MODIFIED:20240120T233141Z
UID:10008031-1705784400-1705802400@detroitartdao.com
SUMMARY:Star City Tour
DESCRIPTION:
URL:https://detroitartdao.com/event/star-city-tour
LOCATION:Magic Stick\, 4120 Woodward Avenue\, Detroit\, MI\, 48201
CATEGORIES:TheDetroitILove
GEO:42.3511486;-83.0598804
X-APPLE-STRUCTURED-LOCATION;VALUE=URI;X-ADDRESS=Magic Stick 4120 Woodward Avenue Detroit MI 48201;X-APPLE-RADIUS=500;X-TITLE=4120 Woodward Avenue:geo:-83.0598804,42.3511486
END:VEVENT
BEGIN:VEVENT
DTSTART;TZID=America/Detroit:20240120T210000
DTEND;TZID=America/Detroit:20240121T020000
DTSTAMP:20260420T053424
CREATED:20240117T230143Z
LAST-MODIFIED:20240120T233141Z
UID:10008032-1705784400-1705802400@detroitartdao.com
SUMMARY:Haute to Death
DESCRIPTION:
URL:https://detroitartdao.com/event/haute-to-death-7
LOCATION:Marble Bar\, 1501 Holden Street\, Detroit\, MI\, 48208
CATEGORIES:TheDetroitILove
GEO:42.3630305;-83.0851869
X-APPLE-STRUCTURED-LOCATION;VALUE=URI;X-ADDRESS=Marble Bar 1501 Holden Street Detroit MI 48208;X-APPLE-RADIUS=500;X-TITLE=1501 Holden Street:geo:-83.0851869,42.3630305
END:VEVENT
BEGIN:VEVENT
DTSTART;TZID=America/Detroit:20240120T210000
DTEND;TZID=America/Detroit:20240121T020000
DTSTAMP:20260420T053424
CREATED:20240117T230143Z
LAST-MODIFIED:20240120T233141Z
UID:10008033-1705784400-1705802400@detroitartdao.com
SUMMARY:Paxahau presents
DESCRIPTION:
URL:https://detroitartdao.com/event/paxahau-presents-17
LOCATION:TV Lounge\, 2548 Grand River Avenue\, Detroit\, MI\, 48201\, United States
CATEGORIES:TheDetroitILove
GEO:42.3380472;-83.0625672
X-APPLE-STRUCTURED-LOCATION;VALUE=URI;X-ADDRESS=TV Lounge 2548 Grand River Avenue Detroit MI 48201 United States;X-APPLE-RADIUS=500;X-TITLE=2548 Grand River Avenue:geo:-83.0625672,42.3380472
END:VEVENT
BEGIN:VEVENT
DTSTART;TZID=America/Detroit:20240120T210000
DTEND;TZID=America/Detroit:20240121T020000
DTSTAMP:20260420T053424
CREATED:20240117T230143Z
LAST-MODIFIED:20240120T233142Z
UID:10008035-1705784400-1705802400@detroitartdao.com
SUMMARY:Welcome Home
DESCRIPTION:
URL:https://detroitartdao.com/event/welcome-home
LOCATION:Spot Lite\, 2905 Beaufait\, Detroit\, MI\, 48207
CATEGORIES:TheDetroitILove
GEO:42.3580524;-83.0167091
X-APPLE-STRUCTURED-LOCATION;VALUE=URI;X-ADDRESS=Spot Lite 2905 Beaufait Detroit MI 48207;X-APPLE-RADIUS=500;X-TITLE=2905 Beaufait:geo:-83.0167091,42.3580524
END:VEVENT
BEGIN:VEVENT
DTSTART;TZID=America/Detroit:20240120T210000
DTEND;TZID=America/Detroit:20240121T020000
DTSTAMP:20260420T053424
CREATED:20240118T233150Z
LAST-MODIFIED:20240120T233142Z
UID:10008057-1705784400-1705802400@detroitartdao.com
SUMMARY:Foxy Roxi’s Disco Roulette
DESCRIPTION:
URL:https://detroitartdao.com/event/foxy-roxis-disco-roulette
LOCATION:Apartment Disco\, 15421 Mack Avenue\, Detroit\, MI
CATEGORIES:TheDetroitILove
GEO:42.3885116;-82.9423623
X-APPLE-STRUCTURED-LOCATION;VALUE=URI;X-ADDRESS=Apartment Disco 15421 Mack Avenue Detroit MI;X-APPLE-RADIUS=500;X-TITLE=15421 Mack Avenue:geo:-82.9423623,42.3885116
END:VEVENT
BEGIN:VEVENT
DTSTART;TZID=America/Detroit:20240120T210000
DTEND;TZID=America/Detroit:20240121T020000
DTSTAMP:20260420T053424
CREATED:20240119T233145Z
LAST-MODIFIED:20240120T233142Z
UID:10008059-1705784400-1705802400@detroitartdao.com
SUMMARY:Industrial Is Not Dead
DESCRIPTION:
URL:https://detroitartdao.com/event/industrial-is-not-dead-2
LOCATION:Small’s\, 10339 Conant Street\, Hamtramck\, MI\, 48212
CATEGORIES:TheDetroitILove
GEO:42.402172;-83.0528759
X-APPLE-STRUCTURED-LOCATION;VALUE=URI;X-ADDRESS=Small’s 10339 Conant Street Hamtramck MI 48212;X-APPLE-RADIUS=500;X-TITLE=10339 Conant Street:geo:-83.0528759,42.402172
END:VEVENT
BEGIN:VEVENT
DTSTART;TZID=America/Detroit:20240120T210000
DTEND;TZID=America/Detroit:20240121T040000
DTSTAMP:20260420T053424
CREATED:20240117T230143Z
LAST-MODIFIED:20240120T233141Z
UID:10008034-1705784400-1705809600@detroitartdao.com
SUMMARY:Anatomy presents
DESCRIPTION:
URL:https://detroitartdao.com/event/anatomy-presents-4
LOCATION:Leland City Club\, 400 Bagley Avenue\, Detroit\, MI\, 48226
CATEGORIES:TheDetroitILove
GEO:42.3335997;-83.0543995
X-APPLE-STRUCTURED-LOCATION;VALUE=URI;X-ADDRESS=Leland City Club 400 Bagley Avenue Detroit MI 48226;X-APPLE-RADIUS=500;X-TITLE=400 Bagley Avenue:geo:-83.0543995,42.3335997
END:VEVENT
BEGIN:VEVENT
DTSTART;TZID=America/Detroit:20240120T220000
DTEND;TZID=America/Detroit:20240121T020000
DTSTAMP:20260420T053424
CREATED:20231221T173153Z
LAST-MODIFIED:20240120T233142Z
UID:10003236-1705788000-1705802400@detroitartdao.com
SUMMARY:Vibrations
DESCRIPTION:
URL:https://detroitartdao.com/event/vibrations-8
LOCATION:SPKR BOX\, 200 Grand River Avenue\, Detroit\, MI\, 48226\, United States
CATEGORIES:TheDetroitILove
GEO:42.3337987;-83.0499187
X-APPLE-STRUCTURED-LOCATION;VALUE=URI;X-ADDRESS=SPKR BOX 200 Grand River Avenue Detroit MI 48226 United States;X-APPLE-RADIUS=500;X-TITLE=200 Grand River Avenue:geo:-83.0499187,42.3337987
END:VEVENT
BEGIN:VEVENT
DTSTART;TZID=America/Detroit:20240120T220000
DTEND;TZID=America/Detroit:20240121T020000
DTSTAMP:20260420T053424
CREATED:20240117T230144Z
LAST-MODIFIED:20240120T233142Z
UID:10008036-1705788000-1705802400@detroitartdao.com
SUMMARY:Minimal Detroit presents Spkr People
DESCRIPTION:
URL:https://detroitartdao.com/event/minimal-detroit-presents-spkr-people-2
LOCATION:SPKR BOX\, 200 Grand River Avenue\, Detroit\, MI\, 48226\, United States
CATEGORIES:TheDetroitILove
GEO:42.3337987;-83.0499187
X-APPLE-STRUCTURED-LOCATION;VALUE=URI;X-ADDRESS=SPKR BOX 200 Grand River Avenue Detroit MI 48226 United States;X-APPLE-RADIUS=500;X-TITLE=200 Grand River Avenue:geo:-83.0499187,42.3337987
END:VEVENT
BEGIN:VEVENT
DTSTART;TZID=America/Detroit:20240120T220000
DTEND;TZID=America/Detroit:20240121T020000
DTSTAMP:20260420T053424
CREATED:20240117T230144Z
LAST-MODIFIED:20240120T233143Z
UID:10008038-1705788000-1705802400@detroitartdao.com
SUMMARY:Body Worx presents Code of Acid
DESCRIPTION:
URL:https://detroitartdao.com/event/body-worx-presents-code-of-acid
LOCATION:Temple Bar\, 2906 Cass Avenue\, Detroit\, MI\, 48201
CATEGORIES:TheDetroitILove
GEO:42.3420731;-83.0585343
X-APPLE-STRUCTURED-LOCATION;VALUE=URI;X-ADDRESS=Temple Bar 2906 Cass Avenue Detroit MI 48201;X-APPLE-RADIUS=500;X-TITLE=2906 Cass Avenue:geo:-83.0585343,42.3420731
END:VEVENT
BEGIN:VEVENT
DTSTART;TZID=America/Detroit:20240120T220000
DTEND;TZID=America/Detroit:20240121T020000
DTSTAMP:20260420T053424
CREATED:20240117T230148Z
LAST-MODIFIED:20240120T233143Z
UID:10008041-1705788000-1705802400@detroitartdao.com
SUMMARY:Boogie Fever
DESCRIPTION:
URL:https://detroitartdao.com/event/boogie-fever-2
LOCATION:Big Pink\, 6440 Wight Street\, Detroit\, MI
CATEGORIES:TheDetroitILove
GEO:42.3423259;-83.0073267
X-APPLE-STRUCTURED-LOCATION;VALUE=URI;X-ADDRESS=Big Pink 6440 Wight Street Detroit MI;X-APPLE-RADIUS=500;X-TITLE=6440 Wight Street:geo:-83.0073267,42.3423259
END:VEVENT
BEGIN:VEVENT
DTSTART;TZID=America/Detroit:20240120T220000
DTEND;TZID=America/Detroit:20240121T140000
DTSTAMP:20260420T053424
CREATED:20240117T230144Z
LAST-MODIFIED:20240120T233142Z
UID:10008037-1705788000-1705845600@detroitartdao.com
SUMMARY:Side Quest
DESCRIPTION:
URL:https://detroitartdao.com/event/side-quest
LOCATION:Paramita Sound\, 1517 Broadway Street\, Detroit\, MI\, 48226\, United States
CATEGORIES:TheDetroitILove
GEO:42.3357155;-83.0487022
X-APPLE-STRUCTURED-LOCATION;VALUE=URI;X-ADDRESS=Paramita Sound 1517 Broadway Street Detroit MI 48226 United States;X-APPLE-RADIUS=500;X-TITLE=1517 Broadway Street:geo:-83.0487022,42.3357155
END:VEVENT
BEGIN:VEVENT
DTSTART;TZID=America/Detroit:20240121T000000
DTEND;TZID=America/Detroit:20240121T060000
DTSTAMP:20260420T053424
CREATED:20240117T230144Z
LAST-MODIFIED:20240120T233143Z
UID:10008039-1705795200-1705816800@detroitartdao.com
SUMMARY:Amnesia
DESCRIPTION:
URL:https://detroitartdao.com/event/amnesia
LOCATION:Secret Location
CATEGORIES:TheDetroitILove
END:VEVENT
BEGIN:VEVENT
DTSTART;TZID=America/Detroit:20240121T000000
DTEND;TZID=America/Detroit:20240121T060000
DTSTAMP:20260420T053424
CREATED:20240117T230144Z
LAST-MODIFIED:20240120T233143Z
UID:10008040-1705795200-1705816800@detroitartdao.com
SUMMARY:The Holy Trinity
DESCRIPTION:
URL:https://detroitartdao.com/event/the-holy-trinity
LOCATION:Trackside\, 5926 Lincoln Street\, Detroit\, MI\, 48202
CATEGORIES:TheDetroitILove
GEO:42.361611;-83.0822504
X-APPLE-STRUCTURED-LOCATION;VALUE=URI;X-ADDRESS=Trackside 5926 Lincoln Street Detroit MI 48202;X-APPLE-RADIUS=500;X-TITLE=5926 Lincoln Street:geo:-83.0822504,42.361611
END:VEVENT
BEGIN:VEVENT
DTSTART;TZID=America/Detroit:20240121T110000
DTEND;TZID=America/Detroit:20240121T150000
DTSTAMP:20260420T053424
CREATED:20231222T173141Z
LAST-MODIFIED:20231223T174642Z
UID:10003265-1705834800-1705849200@detroitartdao.com
SUMMARY:Disco Brunch
DESCRIPTION:
URL:https://detroitartdao.com/event/disco-brunch-23
LOCATION:SPKR BOX\, 200 Grand River Avenue\, Detroit\, MI\, 48226\, United States
CATEGORIES:TheDetroitILove
GEO:42.3337987;-83.0499187
X-APPLE-STRUCTURED-LOCATION;VALUE=URI;X-ADDRESS=SPKR BOX 200 Grand River Avenue Detroit MI 48226 United States;X-APPLE-RADIUS=500;X-TITLE=200 Grand River Avenue:geo:-83.0499187,42.3337987
END:VEVENT
BEGIN:VEVENT
DTSTART;TZID=America/Detroit:20240121T110000
DTEND;TZID=America/Detroit:20240121T150000
DTSTAMP:20260420T053424
CREATED:20240107T223243Z
LAST-MODIFIED:20240121T233144Z
UID:10007908-1705834800-1705849200@detroitartdao.com
SUMMARY:Disco Brunch
DESCRIPTION:
URL:https://detroitartdao.com/event/disco-brunch-26
LOCATION:SPKR BOX\, 200 Grand River Avenue\, Detroit\, MI\, 48226\, United States
CATEGORIES:TheDetroitILove
GEO:42.3337987;-83.0499187
X-APPLE-STRUCTURED-LOCATION;VALUE=URI;X-ADDRESS=SPKR BOX 200 Grand River Avenue Detroit MI 48226 United States;X-APPLE-RADIUS=500;X-TITLE=200 Grand River Avenue:geo:-83.0499187,42.3337987
END:VEVENT
BEGIN:VEVENT
DTSTART;TZID=America/Detroit:20240121T150000
DTEND;TZID=America/Detroit:20240121T180000
DTSTAMP:20260420T053424
CREATED:20240118T230223Z
LAST-MODIFIED:20240121T233144Z
UID:10008054-1705849200-1705860000@detroitartdao.com
SUMMARY:(pop-up) Caribbean Food Experience
DESCRIPTION:
URL:https://detroitartdao.com/event/pop-up-caribbean-food-experience
LOCATION:The Congregation\, 9321 Rosa Parks Boulevard\, Detroit\, MI\, 48206
CATEGORIES:TheDetroitILove
GEO:42.3775399;-83.1005714
X-APPLE-STRUCTURED-LOCATION;VALUE=URI;X-ADDRESS=The Congregation 9321 Rosa Parks Boulevard Detroit MI 48206;X-APPLE-RADIUS=500;X-TITLE=9321 Rosa Parks Boulevard:geo:-83.1005714,42.3775399
END:VEVENT
BEGIN:VEVENT
DTSTART;TZID=America/Detroit:20240121T210000
DTEND;TZID=America/Detroit:20240122T020000
DTSTAMP:20260420T053424
CREATED:20240118T230223Z
LAST-MODIFIED:20240121T233144Z
UID:10008055-1705870800-1705888800@detroitartdao.com
SUMMARY:Beautiful Sunday
DESCRIPTION:
URL:https://detroitartdao.com/event/beautiful-sunday-6
LOCATION:MotorCity Wine\, 1949 Michigan Avenue\, Detroit\, MI\, 48216
CATEGORIES:TheDetroitILove
GEO:42.3311806;-83.0730097
X-APPLE-STRUCTURED-LOCATION;VALUE=URI;X-ADDRESS=MotorCity Wine 1949 Michigan Avenue Detroit MI 48216;X-APPLE-RADIUS=500;X-TITLE=1949 Michigan Avenue:geo:-83.0730097,42.3311806
END:VEVENT
BEGIN:VEVENT
DTSTART;TZID=America/Detroit:20240121T220000
DTEND;TZID=America/Detroit:20240122T020000
DTSTAMP:20260420T053424
CREATED:20240121T233144Z
LAST-MODIFIED:20240121T233145Z
UID:10008070-1705874400-1705888800@detroitartdao.com
SUMMARY:Foggy Sundays
DESCRIPTION:
URL:https://detroitartdao.com/event/foggy-sundays-17
LOCATION:SPKR BOX\, 200 Grand River Avenue\, Detroit\, MI\, 48226\, United States
CATEGORIES:TheDetroitILove
GEO:42.3337987;-83.0499187
X-APPLE-STRUCTURED-LOCATION;VALUE=URI;X-ADDRESS=SPKR BOX 200 Grand River Avenue Detroit MI 48226 United States;X-APPLE-RADIUS=500;X-TITLE=200 Grand River Avenue:geo:-83.0499187,42.3337987
END:VEVENT
BEGIN:VEVENT
DTSTART;TZID=America/Detroit:20240122T190000
DTEND;TZID=America/Detroit:20240122T220000
DTSTAMP:20260420T053424
CREATED:20240108T223138Z
LAST-MODIFIED:20240122T234642Z
UID:10007922-1705950000-1705960800@detroitartdao.com
SUMMARY:(stream) Monday Funday
DESCRIPTION:
URL:https://detroitartdao.com/event/stream-monday-funday-25
LOCATION:Detroit
CATEGORIES:TheDetroitILove
GEO:42.3680073;-83.0723196
END:VEVENT
BEGIN:VEVENT
DTSTART;TZID=America/Detroit:20240122T190000
DTEND;TZID=America/Detroit:20240123T000000
DTSTAMP:20260420T053424
CREATED:20240108T223141Z
LAST-MODIFIED:20240122T234642Z
UID:10007936-1705950000-1705968000@detroitartdao.com
SUMMARY:(weekly) Monday is the New Monday
DESCRIPTION:
URL:https://detroitartdao.com/event/weekly-monday-is-the-new-monday-24
LOCATION:MotorCity Wine\, 1949 Michigan Avenue\, Detroit\, MI\, 48216
CATEGORIES:TheDetroitILove
GEO:42.3311806;-83.0730097
X-APPLE-STRUCTURED-LOCATION;VALUE=URI;X-ADDRESS=MotorCity Wine 1949 Michigan Avenue Detroit MI 48216;X-APPLE-RADIUS=500;X-TITLE=1949 Michigan Avenue:geo:-83.0730097,42.3311806
END:VEVENT
BEGIN:VEVENT
DTSTART;TZID=America/Detroit:20240122T193000
DTEND;TZID=America/Detroit:20240122T213000
DTSTAMP:20260420T053424
CREATED:20240108T223138Z
LAST-MODIFIED:20240122T234642Z
UID:10007923-1705951800-1705959000@detroitartdao.com
SUMMARY:Monday Night Improv
DESCRIPTION:
URL:https://detroitartdao.com/event/monday-night-improv-15
LOCATION:Planet Ant\, 2320 Caniff Street\, Hamtramck\, MI\, 48212
CATEGORIES:TheDetroitILove
GEO:42.3979843;-83.0640799
X-APPLE-STRUCTURED-LOCATION;VALUE=URI;X-ADDRESS=Planet Ant 2320 Caniff Street Hamtramck MI 48212;X-APPLE-RADIUS=500;X-TITLE=2320 Caniff Street:geo:-83.0640799,42.3979843
END:VEVENT
BEGIN:VEVENT
DTSTART;TZID=America/Detroit:20240122T200000
DTEND;TZID=America/Detroit:20240122T220000
DTSTAMP:20260420T053424
CREATED:20240108T223138Z
LAST-MODIFIED:20240122T234643Z
UID:10007924-1705953600-1705960800@detroitartdao.com
SUMMARY:(stream) In The Mix
DESCRIPTION:
URL:https://detroitartdao.com/event/stream-in-the-mix-24
LOCATION:Deep Space Radio
CATEGORIES:TheDetroitILove
END:VEVENT
BEGIN:VEVENT
DTSTART;TZID=America/Detroit:20240122T220000
DTEND;TZID=America/Detroit:20240123T020000
DTSTAMP:20260420T053424
CREATED:20240108T223138Z
LAST-MODIFIED:20240122T234643Z
UID:10007925-1705960800-1705975200@detroitartdao.com
SUMMARY:(weekly) Slow Jams
DESCRIPTION:
URL:https://detroitartdao.com/event/weekly-slow-jams-23
LOCATION:Woodbridge Pub\, 5169 Trumbull Street\, Detroit\, MI\, 48208
CATEGORIES:TheDetroitILove
GEO:42.3540344;-83.0801597
X-APPLE-STRUCTURED-LOCATION;VALUE=URI;X-ADDRESS=Woodbridge Pub 5169 Trumbull Street Detroit MI 48208;X-APPLE-RADIUS=500;X-TITLE=5169 Trumbull Street:geo:-83.0801597,42.3540344
END:VEVENT
BEGIN:VEVENT
DTSTART;TZID=America/Detroit:20240123T150000
DTEND;TZID=America/Detroit:20240123T170000
DTSTAMP:20260420T053424
CREATED:20240102T181639Z
LAST-MODIFIED:20240123T234645Z
UID:10006361-1706022000-1706029200@detroitartdao.com
SUMMARY:(stream) The Soul of Detroit
DESCRIPTION:
URL:https://detroitartdao.com/event/stream-the-soul-of-detroit-26
LOCATION:Detroit
CATEGORIES:TheDetroitILove
GEO:42.3680073;-83.0723196
END:VEVENT
BEGIN:VEVENT
DTSTART;TZID=America/Detroit:20240123T220000
DTEND;TZID=America/Detroit:20240124T020000
DTSTAMP:20260420T053424
CREATED:20240122T233137Z
LAST-MODIFIED:20240123T234646Z
UID:10008071-1706047200-1706061600@detroitartdao.com
SUMMARY:Tacoless Tuesdays
DESCRIPTION:
URL:https://detroitartdao.com/event/tacoless-tuesdays-12
LOCATION:TV Lounge\, 2548 Grand River Avenue\, Detroit\, MI\, 48201\, United States
CATEGORIES:TheDetroitILove
GEO:42.3380472;-83.0625672
X-APPLE-STRUCTURED-LOCATION;VALUE=URI;X-ADDRESS=TV Lounge 2548 Grand River Avenue Detroit MI 48201 United States;X-APPLE-RADIUS=500;X-TITLE=2548 Grand River Avenue:geo:-83.0625672,42.3380472
END:VEVENT
BEGIN:VEVENT
DTSTART;TZID=America/Detroit:20240124T183000
DTEND;TZID=America/Detroit:20240124T203000
DTSTAMP:20260420T053424
CREATED:20240102T181640Z
LAST-MODIFIED:20240124T234641Z
UID:10006368-1706121000-1706128200@detroitartdao.com
SUMMARY:Tango Classes
DESCRIPTION:
URL:https://detroitartdao.com/event/tango-classes-4
LOCATION:MotorCity Wine\, 1949 Michigan Avenue\, Detroit\, MI\, 48216
CATEGORIES:TheDetroitILove
GEO:42.3311806;-83.0730097
X-APPLE-STRUCTURED-LOCATION;VALUE=URI;X-ADDRESS=MotorCity Wine 1949 Michigan Avenue Detroit MI 48216;X-APPLE-RADIUS=500;X-TITLE=1949 Michigan Avenue:geo:-83.0730097,42.3311806
END:VEVENT
BEGIN:VEVENT
DTSTART;TZID=America/Detroit:20240124T190000
DTEND;TZID=America/Detroit:20240124T210000
DTSTAMP:20260420T053424
CREATED:20240124T234640Z
LAST-MODIFIED:20240124T234642Z
UID:10008078-1706122800-1706130000@detroitartdao.com
SUMMARY:(screening) Origin
DESCRIPTION:
URL:https://detroitartdao.com/event/screening-origin
LOCATION:Detroit Film Theatre\, 5200 Woodward Avenue\, Detroit\, MI\, 48202
CATEGORIES:TheDetroitILove
GEO:42.3595166;-83.0629481
X-APPLE-STRUCTURED-LOCATION;VALUE=URI;X-ADDRESS=Detroit Film Theatre 5200 Woodward Avenue Detroit MI 48202;X-APPLE-RADIUS=500;X-TITLE=5200 Woodward Avenue:geo:-83.0629481,42.3595166
END:VEVENT
END:VCALENDAR