BEGIN:VCALENDAR
VERSION:2.0
PRODID:-//Discover Detroit Art - ECPv6.0.1//NONSGML v1.0//EN
CALSCALE:GREGORIAN
METHOD:PUBLISH
X-WR-CALNAME:Discover Detroit Art
X-ORIGINAL-URL:https://detroitartdao.com
X-WR-CALDESC:Events for Discover Detroit Art
REFRESH-INTERVAL;VALUE=DURATION:PT1H
X-Robots-Tag:noindex
X-PUBLISHED-TTL:PT1H
BEGIN:VTIMEZONE
TZID:America/Detroit
BEGIN:DAYLIGHT
TZOFFSETFROM:-0500
TZOFFSETTO:-0400
TZNAME:EDT
DTSTART:20230312T070000
END:DAYLIGHT
BEGIN:STANDARD
TZOFFSETFROM:-0400
TZOFFSETTO:-0500
TZNAME:EST
DTSTART:20231105T060000
END:STANDARD
END:VTIMEZONE
BEGIN:VEVENT
DTSTART;TZID=America/Detroit:20230922T220000
DTEND;TZID=America/Detroit:20230923T060000
DTSTAMP:20260424T083126
CREATED:20230919T193152Z
LAST-MODIFIED:20230922T193142Z
UID:10002306-1695420000-1695448800@detroitartdao.com
SUMMARY:Equinox
DESCRIPTION:
URL:https://detroitartdao.com/event/equinox
LOCATION:Secret Location
CATEGORIES:TheDetroitILove
END:VEVENT
BEGIN:VEVENT
DTSTART;TZID=America/Detroit:20230923T060000
DTEND;TZID=America/Detroit:20230923T220000
DTSTAMP:20260424T083126
CREATED:20230830T151204Z
LAST-MODIFIED:20230923T171647Z
UID:10001946-1695448800-1695506400@detroitartdao.com
SUMMARY:Horizon at Beacon Park
DESCRIPTION:Experience the world premiere of Horizon at Beacon Park. \nThis installation will offer the public a haven of serenity\, heightening the imagination and freeing the mind. Sit comfortably in one of the five egg-shaped cocoons (including a wheelchair-accessible option) and raise your eyes to discover a starry vault\, a flock of birds\, or a calming canopy. Horizon is free\, family-friendly and open to the public. Evening visits are suggested for optimal viewing hours. Beacon Park’s operating hours are from 6 a.m. – 10 p.m. daily. \nInspired by the sky\, Horizon’s three unique visuals\, provide an opportunity to rediscover the enchantment of solitude and reflection. Each unit’s rhythmic rocking chairs trigger an immersive light and sound experience\, accentuated by natural-themed music. The use of wooden materials\, blue-tinted lighting and soundscapes\, crafts harmonious\, nature-inspired spaces. \nSunlight during the day and pulsating lights at night lend to delightful visual effects and a magical atmosphere. Emerging from Horizon\, users will feel reenergized and peaceful\, eager to share this newfound tranquility with the community. \n  \nABOUT THE ARTIST \nOlivier Landreville\, the visionary behind Horizon\, is a highly regarded artist celebrated for his versatility and prolific work spanning across theater\, television\, opera\, circus and dance. Greatly respected in the industry\, his artistic vision and integrity make each of his creations highly anticipated events. \nHorizon was dreamed up by a dedicated team of artists including Olivier Landreville and Serge Maheu\, and produced by Init\, and presented by Creos. \n  \nHorizon at Beacon Park is presented by the DTE Beacon Park Foundation and curated by The Downtown Detroit Partnership
URL:https://detroitartdao.com/event/horizon-at-beacon-park-15
LOCATION:Beacon Park\, 1901 Grand River Ave\, Detroit\, MI\, 48226\, United States
CATEGORIES:Beacon Park,Free Event,Park Events
ATTACH;FMTTYPE=image/jpeg:https://dpop.nyc3.digitaloceanspaces.com/wp-content/uploads/2023/09/05121635/DDP-BP_Horizon-LED_Final-o3Zra5.tmp_.jpg
GEO:42.3345108;-83.054971
X-APPLE-STRUCTURED-LOCATION;VALUE=URI;X-ADDRESS=Beacon Park 1901 Grand River Ave Detroit MI 48226 United States;X-APPLE-RADIUS=500;X-TITLE=1901 Grand River Ave:geo:-83.054971,42.3345108
END:VEVENT
BEGIN:VEVENT
DTSTART;TZID=America/Detroit:20230923T090000
DTEND;TZID=America/Detroit:20230923T230000
DTSTAMP:20260424T083126
CREATED:20230920T054928Z
LAST-MODIFIED:20230920T054928Z
UID:10002329-1695459600-1695510000@detroitartdao.com
SUMMARY:Cars & Coffee
DESCRIPTION:Shinola Detroit presents Cars & Coffee \nComplimentary donuts and coffee \nSeptember 24th\, 9am-11am \nShinola Flagship store
URL:https://detroitartdao.com/event/cars-coffee
LOCATION:Shinola Flagship\, 411 W Canfield\, Detroit\, MI
CATEGORIES:Business,Cars,Networking
GEO:42.3517337;-83.0643425
X-APPLE-STRUCTURED-LOCATION;VALUE=URI;X-ADDRESS=Shinola Flagship 411 W Canfield Detroit MI;X-APPLE-RADIUS=500;X-TITLE=411 W Canfield:geo:-83.0643425,42.3517337
END:VEVENT
BEGIN:VEVENT
DTSTART;TZID=America/Detroit:20230923T100000
DTEND;TZID=America/Detroit:20230923T180000
DTSTAMP:20260424T083126
CREATED:20230909T231645Z
LAST-MODIFIED:20230922T233150Z
UID:10002118-1695463200-1695492000@detroitartdao.com
SUMMARY:Electrifly Detroit Immersive Art Gallery
DESCRIPTION:Immersive yourself in interactive art by legendary Detroit muralists and International artists!
URL:https://detroitartdao.com/event/electrifly-detroit-immersive-art-gallery-15
LOCATION:First National Building\, Woodward Avenue\, Detroit\, MI\, USA\, 660 Woodward Avenue\, Detroit\, MI\, 48226\, United States
CATEGORIES:Art
ATTACH;FMTTYPE=image/jpeg:https://dpop.nyc3.digitaloceanspaces.com/wp-content/uploads/2023/09/07185344/e4e8d818ffe740cecb6a9ef99ff17070-1.jpg
GEO:42.3311858;-83.0456609
X-APPLE-STRUCTURED-LOCATION;VALUE=URI;X-ADDRESS=First National Building Woodward Avenue Detroit MI USA 660 Woodward Avenue Detroit MI 48226 United States;X-APPLE-RADIUS=500;X-TITLE=660 Woodward Avenue:geo:-83.0456609,42.3311858
END:VEVENT
BEGIN:VEVENT
DTSTART;TZID=America/Detroit:20230923T120000
DTEND;TZID=America/Detroit:20230923T180000
DTSTAMP:20260424T083126
CREATED:20230824T170146Z
LAST-MODIFIED:20230923T194639Z
UID:10001894-1695470400-1695492000@detroitartdao.com
SUMMARY:Detroit Outdoor Art Market
DESCRIPTION:
URL:https://detroitartdao.com/event/detroit-outdoor-art-market-11
LOCATION:The Secret Garden Gallery\, 16921 East Warren Avenue\, Detroit\, MI
CATEGORIES:TheDetroitILove
GEO:42.4057536;-82.9317326
X-APPLE-STRUCTURED-LOCATION;VALUE=URI;X-ADDRESS=The Secret Garden Gallery 16921 East Warren Avenue Detroit MI;X-APPLE-RADIUS=500;X-TITLE=16921 East Warren Avenue:geo:-82.9317326,42.4057536
END:VEVENT
BEGIN:VEVENT
DTSTART;TZID=America/Detroit:20230923T130000
DTEND;TZID=America/Detroit:20230923T150000
DTSTAMP:20260424T083126
CREATED:20230830T155414Z
LAST-MODIFIED:20230923T164643Z
UID:10001980-1695474000-1695481200@detroitartdao.com
SUMMARY:Black Tech Saturdays
DESCRIPTION:Join us for Black Tech Saturdays in Detroit – promoting diversity\, innovation\, and community wealth to support Black tech.
URL:https://detroitartdao.com/event/black-tech-saturdays-2
LOCATION:Newlab @ Michigan Central\, 2050 15th Street\, Detroit\, MI\, 48216\, United States
CATEGORIES:Tech
ATTACH;FMTTYPE=image/jpeg:https://dpop.nyc3.digitaloceanspaces.com/wp-content/uploads/2023/08/30115414/93c9bae2ee1d3578c2b51a1b7e1c3642-1.jpg
GEO:42.3283354;-83.0755441
X-APPLE-STRUCTURED-LOCATION;VALUE=URI;X-ADDRESS=Newlab @ Michigan Central 2050 15th Street Detroit MI 48216 United States;X-APPLE-RADIUS=500;X-TITLE=2050 15th Street:geo:-83.0755441,42.3283354
END:VEVENT
BEGIN:VEVENT
DTSTART;TZID=America/Detroit:20230923T140000
DTEND;TZID=America/Detroit:20230923T160000
DTSTAMP:20260424T083126
CREATED:20230830T151130Z
LAST-MODIFIED:20230923T171644Z
UID:10001928-1695477600-1695484800@detroitartdao.com
SUMMARY:TAILgate Pawty Presented by Strategic Staffing Solutions
DESCRIPTION:Which teams are you rooting for this season? Let Detroit know and show off your pet in your favorite team colors or jerseys for prizes and fun at Grand Circus Park on Sep. 23 from 2-4 PM for a “TAILgate Pawty” courtesy of the DDP. The event will feature Sports games for pets and dog parents\, Hot Dogs for Humans\, Bacon Treats for the Dogs and a live DJ. \nAll of this year’s Grand Circus Dog Park events are presented by Strategic Staffing Solutions and supported in part by Michigan Humane and Premier Pet Supply who will be on site with giveaways\, treats and prizes for our contest winners. \nOther dog park events coming up include: \nOctober 28 – Howl-o-ween
URL:https://detroitartdao.com/event/tailgate-pawty-presented-by-strategic-staffing-solutions
LOCATION:Grand Circus Park\, 101-157 Witherell St\, Detroit\, MI\, United States
CATEGORIES:Grand Circus Park,Park Events
ATTACH;FMTTYPE=image/jpeg:https://dpop.nyc3.digitaloceanspaces.com/wp-content/uploads/2023/08/30111135/TailGate-9x8TAp.tmp_.jpg
GEO:42.3367182;-83.0504011
X-APPLE-STRUCTURED-LOCATION;VALUE=URI;X-ADDRESS=Grand Circus Park 101-157 Witherell St Detroit MI United States;X-APPLE-RADIUS=500;X-TITLE=101-157 Witherell St:geo:-83.0504011,42.3367182
END:VEVENT
BEGIN:VEVENT
DTSTART;TZID=America/Detroit:20230923T140000
DTEND;TZID=America/Detroit:20230923T160000
DTSTAMP:20260424T083126
CREATED:20230912T191654Z
LAST-MODIFIED:20230923T194639Z
UID:10002191-1695477600-1695484800@detroitartdao.com
SUMMARY:Detroit Month of Design – Unity
DESCRIPTION:
URL:https://detroitartdao.com/event/detroit-month-of-design-unity-2
LOCATION:Design Studio 6\, 8626 West McNichols Street\, Detroit\, MI\, 48221
CATEGORIES:TheDetroitILove
GEO:42.4172039;-83.1564829
X-APPLE-STRUCTURED-LOCATION;VALUE=URI;X-ADDRESS=Design Studio 6 8626 West McNichols Street Detroit MI 48221;X-APPLE-RADIUS=500;X-TITLE=8626 West McNichols Street:geo:-83.1564829,42.4172039
END:VEVENT
BEGIN:VEVENT
DTSTART;TZID=America/Detroit:20230923T140000
DTEND;TZID=America/Detroit:20230924T020000
DTSTAMP:20260424T083126
CREATED:20230919T193153Z
LAST-MODIFIED:20230923T194639Z
UID:10002309-1695477600-1695520800@detroitartdao.com
SUMMARY:Cat Party
DESCRIPTION:
URL:https://detroitartdao.com/event/cat-party
LOCATION:Tangent Gallery\, 715 East Milwaukee Avenue\, Detroit\, MI\, 48202\, United States
CATEGORIES:TheDetroitILove
GEO:42.3726511;-83.063581
X-APPLE-STRUCTURED-LOCATION;VALUE=URI;X-ADDRESS=Tangent Gallery 715 East Milwaukee Avenue Detroit MI 48202 United States;X-APPLE-RADIUS=500;X-TITLE=715 East Milwaukee Avenue:geo:-83.063581,42.3726511
END:VEVENT
BEGIN:VEVENT
DTSTART;TZID=America/Detroit:20230923T150000
DTEND;TZID=America/Detroit:20230924T190000
DTSTAMP:20260424T083126
CREATED:20230918T045628Z
LAST-MODIFIED:20230918T045628Z
UID:10002268-1695481200-1695582000@detroitartdao.com
SUMMARY:Studio Sale!
DESCRIPTION:Local Detroit artists Martyna & Daniel are moving out of their studio in the next month or so. Letting go of a lot of things at reasonable prices to make way for the new year. \nCameras / photo props / paintings / furniture / art supplies etc. \nCome by and say hello! \n9/23 – 9/24\nHours will be posted soon. \nOur neighbors @cavedetroit will also be hosting an open studio in the next building on the 23rd so make sure to check that out as well.
URL:https://detroitartdao.com/event/studio-sale
LOCATION:The Russell Industrial Center
CATEGORIES:Art
GEO:42.3784203;-83.0603837
END:VEVENT
BEGIN:VEVENT
DTSTART;TZID=America/Detroit:20230923T160000
DTEND;TZID=America/Detroit:20230923T190000
DTSTAMP:20260424T083126
CREATED:20230918T045025Z
LAST-MODIFIED:20230918T045025Z
UID:10002266-1695484800-1695495600@detroitartdao.com
SUMMARY:Portraits S3
DESCRIPTION:SATURDAY SEPTEMBER 23rd!\nCome have a drink and mingle! Join us for an exciting event\, La Ventana Presents: Portraits S3! Get ready to immerse yourself in a captivating experience that celebrates the beauty of art and culture. Discover a diverse collection of stunning portraits by artist Daniel Geanes that will leave you in awe. From intricate brush strokes to vibrant colors\, these artworks will transport you to a world of emotions and stories.
URL:https://detroitartdao.com/event/portraits-s3
LOCATION:La Ventana Cafe\, 1492 Gratiot Avenue\, Detroit\, MI
CATEGORIES:Art,Design
GEO:42.344671;-83.037509
X-APPLE-STRUCTURED-LOCATION;VALUE=URI;X-ADDRESS=La Ventana Cafe 1492 Gratiot Avenue Detroit MI;X-APPLE-RADIUS=500;X-TITLE=1492 Gratiot Avenue:geo:-83.037509,42.344671
END:VEVENT
BEGIN:VEVENT
DTSTART;TZID=America/Detroit:20230923T160000
DTEND;TZID=America/Detroit:20230923T210000
DTSTAMP:20260424T083126
CREATED:20230919T193153Z
LAST-MODIFIED:20230923T194639Z
UID:10002310-1695484800-1695502800@detroitartdao.com
SUMMARY:Ghetto House – A Tribute To DJ Deeon
DESCRIPTION:
URL:https://detroitartdao.com/event/ghetto-house-a-tribute-to-dj-deeon-2
LOCATION:3Fifty Terrace\, 350 Madison Street\, Detroit\, MI\, 48226
CATEGORIES:TheDetroitILove
GEO:42.3370097;-83.0457448
X-APPLE-STRUCTURED-LOCATION;VALUE=URI;X-ADDRESS=3Fifty Terrace 350 Madison Street Detroit MI 48226;X-APPLE-RADIUS=500;X-TITLE=350 Madison Street:geo:-83.0457448,42.3370097
END:VEVENT
BEGIN:VEVENT
DTSTART;TZID=America/Detroit:20230923T160000
DTEND;TZID=America/Detroit:20230924T020000
DTSTAMP:20260424T083126
CREATED:20230919T193153Z
LAST-MODIFIED:20230923T194640Z
UID:10002311-1695484800-1695520800@detroitartdao.com
SUMMARY:Equinox Festival
DESCRIPTION:
URL:https://detroitartdao.com/event/equinox-festival
LOCATION:Woodbridge Pub\, 5169 Trumbull Street\, Detroit\, MI\, 48208
CATEGORIES:TheDetroitILove
GEO:42.3540344;-83.0801597
X-APPLE-STRUCTURED-LOCATION;VALUE=URI;X-ADDRESS=Woodbridge Pub 5169 Trumbull Street Detroit MI 48208;X-APPLE-RADIUS=500;X-TITLE=5169 Trumbull Street:geo:-83.0801597,42.3540344
END:VEVENT
BEGIN:VEVENT
DTSTART;TZID=America/Detroit:20230923T163000
DTEND;TZID=America/Detroit:20230923T190000
DTSTAMP:20260424T083126
CREATED:20230920T031206Z
LAST-MODIFIED:20230920T031206Z
UID:10002328-1695486600-1695495600@detroitartdao.com
SUMMARY:Martha Mysko Exhibition: In Circulation
DESCRIPTION:This is the last week to see Martha Mysko : In Circulation.\nWe will be celebrating the exhibition on Saturday the 23rd with an artist walk through at 4:30 and closing reception from 5-7pm.
URL:https://detroitartdao.com/event/martha-mysko-exhibition-in-circulation
LOCATION:Belle Isle Viewing Room\, 6925 East Jefferson Ave\, Detroit\, MI
CATEGORIES:Art
GEO:42.346618;-83.0036477
X-APPLE-STRUCTURED-LOCATION;VALUE=URI;X-ADDRESS=Belle Isle Viewing Room 6925 East Jefferson Ave Detroit MI;X-APPLE-RADIUS=500;X-TITLE=6925 East Jefferson Ave:geo:-83.0036477,42.346618
END:VEVENT
BEGIN:VEVENT
DTSTART;TZID=America/Detroit:20230923T170000
DTEND;TZID=America/Detroit:20230923T200000
DTSTAMP:20260424T083126
CREATED:20230913T043345Z
LAST-MODIFIED:20230913T043346Z
UID:10002246-1695488400-1695499200@detroitartdao.com
SUMMARY:Iris Eichenberg’s Exhibition Topoanalysis/Wer bin ich? - David Klein Gallery
DESCRIPTION:Iris Eichenberg’s (@iriseichenberg) upcoming exhibition: “Topoanalysis/Wer bin ich?” \nThe exhibition title refers to the French philosopher Gaston Bachelard’s concept of “topoanalysis\,” which postulates that places\, such as houses\, often become sites of intimacy and attachment\, leading to the experience of nostalgia when revisited or remembered. \nHouses are a central motif of the exhibition\, from a simple line drawing to an immersive fabric installation and multiple wooden house sculptures made from a single walnut tree. 🏠 \nJoin us for the exhibition opening on September 23rd from 5-8 PM.
URL:https://detroitartdao.com/event/iris-eichenbergs-exhibition-topoanalysis-wer-bin-ich-david-klein-gallery
LOCATION:David Klein Gallery
CATEGORIES:Art
END:VEVENT
BEGIN:VEVENT
DTSTART;TZID=America/Detroit:20230923T170000
DTEND;TZID=America/Detroit:20230923T200000
DTSTAMP:20260424T083126
CREATED:20230920T030301Z
LAST-MODIFIED:20230920T030302Z
UID:10002327-1695488400-1695499200@detroitartdao.com
SUMMARY:Iris Eichenberg Exhibition: “Topoanalysis/Wer bin ich?”
DESCRIPTION:Iris Eichenberg Exhibition: “Topoanalysis/Wer bin ich?”\nDavid Klein Gallery – Detroit \nThe exhibition title refers to the French philosopher Gaston Bachelard’s concept of “topoanalysis\,” which postulates that places\, such as houses\, often become sites of intimacy and attachment\, leading to the experience of nostalgia when revisited or remembered. \nHouses are a central motif of the exhibition\, from a simple line drawing to an immersive fabric installation and multiple wooden house sculptures made from a single walnut tree. 🏠 \nJoin us for the exhibition opening on September 23rd from 5-8 PM.\n____\nPictured: Eichenberg in her studio at @cranbrook_art. Images courtesy of the artist.
URL:https://detroitartdao.com/event/iris-eichenberg-exhibition-topoanalysis-wer-bin-ich
LOCATION:David Klein Gallery
CATEGORIES:Art,Design
END:VEVENT
BEGIN:VEVENT
DTSTART;TZID=America/Detroit:20230923T180000
DTEND;TZID=America/Detroit:20230923T220000
DTSTAMP:20260424T083126
CREATED:20230913T191700Z
LAST-MODIFIED:20230923T194640Z
UID:10002253-1695492000-1695506400@detroitartdao.com
SUMMARY:Möbius Strip – Fall Equinox Edition
DESCRIPTION:
URL:https://detroitartdao.com/event/mobius-strip-fall-equinox-edition
LOCATION:The Red Hook\, 220 West Nine Mile Rd\, Ferndale\, MI\, 48220
CATEGORIES:TheDetroitILove
GEO:42.4608238;-83.136734
X-APPLE-STRUCTURED-LOCATION;VALUE=URI;X-ADDRESS=The Red Hook 220 West Nine Mile Rd Ferndale MI 48220;X-APPLE-RADIUS=500;X-TITLE=220 West Nine Mile Rd:geo:-83.136734,42.4608238
END:VEVENT
BEGIN:VEVENT
DTSTART;TZID=America/Detroit:20230923T180000
DTEND;TZID=America/Detroit:20230923T220000
DTSTAMP:20260424T083126
CREATED:20230919T193153Z
LAST-MODIFIED:20230923T194640Z
UID:10002312-1695492000-1695506400@detroitartdao.com
SUMMARY:Protect Her Invitational Poetry Slam
DESCRIPTION:
URL:https://detroitartdao.com/event/protect-her-invitational-poetry-slam
LOCATION:Trinosophes\, 1464 Gratiot Avenue\, Detroit\, MI\, 48207\, United States
CATEGORIES:TheDetroitILove
GEO:42.3362672;-83.0436823
X-APPLE-STRUCTURED-LOCATION;VALUE=URI;X-ADDRESS=Trinosophes 1464 Gratiot Avenue Detroit MI 48207 United States;X-APPLE-RADIUS=500;X-TITLE=1464 Gratiot Avenue:geo:-83.0436823,42.3362672
END:VEVENT
BEGIN:VEVENT
DTSTART;TZID=America/Detroit:20230923T193000
DTEND;TZID=America/Detroit:20230923T213000
DTSTAMP:20260424T083126
CREATED:20230731T210850Z
LAST-MODIFIED:20230731T215413Z
UID:10001570-1695497400-1695504600@detroitartdao.com
SUMMARY:Detroit City FC v Hartford Athletic
DESCRIPTION:
URL:https://detroitartdao.com/event/detroit-city-fc-v-hartford-athletic
LOCATION:Keyworth Stadium\, 3201 Roosevelt St\, Hamtramck\, MI 48212\, USA
CATEGORIES:Sports
END:VEVENT
BEGIN:VEVENT
DTSTART;TZID=America/Detroit:20230923T200000
DTEND;TZID=America/Detroit:20230923T220000
DTSTAMP:20260424T083126
CREATED:20230919T193153Z
LAST-MODIFIED:20230923T194640Z
UID:10002313-1695499200-1695506400@detroitartdao.com
SUMMARY:Fundraiser for La Carpa Theatre Detroit
DESCRIPTION:
URL:https://detroitartdao.com/event/fundraiser-for-la-carpa-theatre-detroit
LOCATION:Senate Theater\, 6424 Michigan Avenue\, Detroit\, MI\, 48210
CATEGORIES:TheDetroitILove
GEO:42.3316984;-83.1232644
X-APPLE-STRUCTURED-LOCATION;VALUE=URI;X-ADDRESS=Senate Theater 6424 Michigan Avenue Detroit MI 48210;X-APPLE-RADIUS=500;X-TITLE=6424 Michigan Avenue:geo:-83.1232644,42.3316984
END:VEVENT
BEGIN:VEVENT
DTSTART;TZID=America/Detroit:20230923T210000
DTEND;TZID=America/Detroit:20230924T010000
DTSTAMP:20260424T083126
CREATED:20230923T194641Z
LAST-MODIFIED:20230923T194641Z
UID:10002341-1695502800-1695517200@detroitartdao.com
SUMMARY:Rooftop Rhythms
DESCRIPTION:
URL:https://detroitartdao.com/event/rooftop-rhythms-17
LOCATION:Cambria\, 600 West Lafayette Boulevard\, Detroit\, MI\, 48226
CATEGORIES:TheDetroitILove
GEO:42.3289887;-83.0544468
X-APPLE-STRUCTURED-LOCATION;VALUE=URI;X-ADDRESS=Cambria 600 West Lafayette Boulevard Detroit MI 48226;X-APPLE-RADIUS=500;X-TITLE=600 West Lafayette Boulevard:geo:-83.0544468,42.3289887
END:VEVENT
BEGIN:VEVENT
DTSTART;TZID=America/Detroit:20230923T210000
DTEND;TZID=America/Detroit:20230924T020000
DTSTAMP:20260424T083126
CREATED:20230919T193154Z
LAST-MODIFIED:20230923T194640Z
UID:10002314-1695502800-1695520800@detroitartdao.com
SUMMARY:Saturday Sessions
DESCRIPTION:
URL:https://detroitartdao.com/event/saturday-sessions-3
LOCATION:Spot Lite\, 2905 Beaufait\, Detroit\, MI\, 48207
CATEGORIES:TheDetroitILove
GEO:42.3580524;-83.0167091
X-APPLE-STRUCTURED-LOCATION;VALUE=URI;X-ADDRESS=Spot Lite 2905 Beaufait Detroit MI 48207;X-APPLE-RADIUS=500;X-TITLE=2905 Beaufait:geo:-83.0167091,42.3580524
END:VEVENT
BEGIN:VEVENT
DTSTART;TZID=America/Detroit:20230923T210000
DTEND;TZID=America/Detroit:20230924T020000
DTSTAMP:20260424T083126
CREATED:20230919T193154Z
LAST-MODIFIED:20230923T194641Z
UID:10002317-1695502800-1695520800@detroitartdao.com
SUMMARY:Feathers & Bones Tour
DESCRIPTION:
URL:https://detroitartdao.com/event/feathers-bones-tour
LOCATION:Magic Stick\, 4120 Woodward Avenue\, Detroit\, MI\, 48201
CATEGORIES:TheDetroitILove
GEO:42.3511486;-83.0598804
X-APPLE-STRUCTURED-LOCATION;VALUE=URI;X-ADDRESS=Magic Stick 4120 Woodward Avenue Detroit MI 48201;X-APPLE-RADIUS=500;X-TITLE=4120 Woodward Avenue:geo:-83.0598804,42.3511486
END:VEVENT
BEGIN:VEVENT
DTSTART;TZID=America/Detroit:20230923T210000
DTEND;TZID=America/Detroit:20230924T020000
DTSTAMP:20260424T083126
CREATED:20230919T193157Z
LAST-MODIFIED:20230923T194640Z
UID:10002325-1695502800-1695520800@detroitartdao.com
SUMMARY:Habibi’s House Detroit
DESCRIPTION:
URL:https://detroitartdao.com/event/habibis-house-detroit
LOCATION:Big Pink\, 6440 Wight Street\, Detroit\, MI
CATEGORIES:TheDetroitILove
GEO:42.3423259;-83.0073267
X-APPLE-STRUCTURED-LOCATION;VALUE=URI;X-ADDRESS=Big Pink 6440 Wight Street Detroit MI;X-APPLE-RADIUS=500;X-TITLE=6440 Wight Street:geo:-83.0073267,42.3423259
END:VEVENT
BEGIN:VEVENT
DTSTART;TZID=America/Detroit:20230923T210000
DTEND;TZID=America/Detroit:20230924T030000
DTSTAMP:20260424T083126
CREATED:20230919T193154Z
LAST-MODIFIED:20230923T194641Z
UID:10002316-1695502800-1695524400@detroitartdao.com
SUMMARY:ISAbella
DESCRIPTION:
URL:https://detroitartdao.com/event/isabella
LOCATION:Marble Bar\, 1501 Holden Street\, Detroit\, MI\, 48208
CATEGORIES:TheDetroitILove
GEO:42.3630305;-83.0851869
X-APPLE-STRUCTURED-LOCATION;VALUE=URI;X-ADDRESS=Marble Bar 1501 Holden Street Detroit MI 48208;X-APPLE-RADIUS=500;X-TITLE=1501 Holden Street:geo:-83.0851869,42.3630305
END:VEVENT
BEGIN:VEVENT
DTSTART;TZID=America/Detroit:20230923T210000
DTEND;TZID=America/Detroit:20230924T040000
DTSTAMP:20260424T083126
CREATED:20230919T193154Z
LAST-MODIFIED:20230923T194640Z
UID:10002315-1695502800-1695528000@detroitartdao.com
SUMMARY:Anatomy Presents
DESCRIPTION:
URL:https://detroitartdao.com/event/anatomy-presents-2
LOCATION:Leland City Club\, 400 Bagley Avenue\, Detroit\, MI\, 48226
CATEGORIES:TheDetroitILove
GEO:42.3335997;-83.0543995
X-APPLE-STRUCTURED-LOCATION;VALUE=URI;X-ADDRESS=Leland City Club 400 Bagley Avenue Detroit MI 48226;X-APPLE-RADIUS=500;X-TITLE=400 Bagley Avenue:geo:-83.0543995,42.3335997
END:VEVENT
BEGIN:VEVENT
DTSTART;TZID=America/Detroit:20230923T210000
DTEND;TZID=America/Detroit:20230924T040000
DTSTAMP:20260424T083126
CREATED:20230923T194641Z
LAST-MODIFIED:20230923T194641Z
UID:10002340-1695502800-1695528000@detroitartdao.com
SUMMARY:Three Faces of Eve
DESCRIPTION:
URL:https://detroitartdao.com/event/three-faces-of-eve
LOCATION:Leland City Club\, 400 Bagley Avenue\, Detroit\, MI\, 48226
CATEGORIES:TheDetroitILove
GEO:42.3335997;-83.0543995
X-APPLE-STRUCTURED-LOCATION;VALUE=URI;X-ADDRESS=Leland City Club 400 Bagley Avenue Detroit MI 48226;X-APPLE-RADIUS=500;X-TITLE=400 Bagley Avenue:geo:-83.0543995,42.3335997
END:VEVENT
BEGIN:VEVENT
DTSTART;TZID=America/Detroit:20230923T220000
DTEND;TZID=America/Detroit:20230924T020000
DTSTAMP:20260424T083126
CREATED:20230919T193154Z
LAST-MODIFIED:20230923T194641Z
UID:10002319-1695506400-1695520800@detroitartdao.com
SUMMARY:Heartbeats 5
DESCRIPTION:
URL:https://detroitartdao.com/event/heartbeats-5
LOCATION:SPKR BOX\, 200 Grand River Avenue\, Detroit\, MI\, 48226\, United States
CATEGORIES:TheDetroitILove
GEO:42.3337987;-83.0499187
X-APPLE-STRUCTURED-LOCATION;VALUE=URI;X-ADDRESS=SPKR BOX 200 Grand River Avenue Detroit MI 48226 United States;X-APPLE-RADIUS=500;X-TITLE=200 Grand River Avenue:geo:-83.0499187,42.3337987
END:VEVENT
BEGIN:VEVENT
DTSTART;TZID=America/Detroit:20230923T220000
DTEND;TZID=America/Detroit:20230924T020000
DTSTAMP:20260424T083126
CREATED:20230919T193154Z
LAST-MODIFIED:20230923T194641Z
UID:10002320-1695506400-1695520800@detroitartdao.com
SUMMARY:Bad Table Manners & Friends
DESCRIPTION:
URL:https://detroitartdao.com/event/bad-table-manners-friends-2
LOCATION:SPKR BOX\, 200 Grand River Avenue\, Detroit\, MI\, 48226\, United States
CATEGORIES:TheDetroitILove
GEO:42.3337987;-83.0499187
X-APPLE-STRUCTURED-LOCATION;VALUE=URI;X-ADDRESS=SPKR BOX 200 Grand River Avenue Detroit MI 48226 United States;X-APPLE-RADIUS=500;X-TITLE=200 Grand River Avenue:geo:-83.0499187,42.3337987
END:VEVENT
BEGIN:VEVENT
DTSTART;TZID=America/Detroit:20230923T220000
DTEND;TZID=America/Detroit:20230924T020000
DTSTAMP:20260424T083126
CREATED:20230919T193154Z
LAST-MODIFIED:20230923T194641Z
UID:10002321-1695506400-1695520800@detroitartdao.com
SUMMARY:Something Cold
DESCRIPTION:
URL:https://detroitartdao.com/event/something-cold
LOCATION:UFO Bar\, 2110 Trumbull Street\, Detroit\, MI\, 48216
CATEGORIES:TheDetroitILove
GEO:42.3321892;-83.0669471
X-APPLE-STRUCTURED-LOCATION;VALUE=URI;X-ADDRESS=UFO Bar 2110 Trumbull Street Detroit MI 48216;X-APPLE-RADIUS=500;X-TITLE=2110 Trumbull Street:geo:-83.0669471,42.3321892
END:VEVENT
END:VCALENDAR