BEGIN:VCALENDAR
VERSION:2.0
PRODID:-//Discover Detroit Art - ECPv6.0.1//NONSGML v1.0//EN
CALSCALE:GREGORIAN
METHOD:PUBLISH
X-WR-CALNAME:Discover Detroit Art
X-ORIGINAL-URL:https://detroitartdao.com
X-WR-CALDESC:Events for Discover Detroit Art
REFRESH-INTERVAL;VALUE=DURATION:PT1H
X-Robots-Tag:noindex
X-PUBLISHED-TTL:PT1H
BEGIN:VTIMEZONE
TZID:America/Detroit
BEGIN:DAYLIGHT
TZOFFSETFROM:-0500
TZOFFSETTO:-0400
TZNAME:EDT
DTSTART:20250309T070000
END:DAYLIGHT
BEGIN:STANDARD
TZOFFSETFROM:-0400
TZOFFSETTO:-0500
TZNAME:EST
DTSTART:20251102T060000
END:STANDARD
END:VTIMEZONE
BEGIN:VEVENT
DTSTART;TZID=America/Detroit:20250815T220000
DTEND;TZID=America/Detroit:20250816T020000
DTSTAMP:20260424T051617
CREATED:20250815T191655Z
LAST-MODIFIED:20250815T191731Z
UID:10014773-1755295200-1755309600@detroitartdao.com
SUMMARY:STRUT
DESCRIPTION:
URL:https://detroitartdao.com/event/strut-4
LOCATION:Temple Bar\, 2906 Cass Avenue\, Detroit\, MI\, 48201
CATEGORIES:TheDetroitILove
GEO:42.3420731;-83.0585343
X-APPLE-STRUCTURED-LOCATION;VALUE=URI;X-ADDRESS=Temple Bar 2906 Cass Avenue Detroit MI 48201;X-APPLE-RADIUS=500;X-TITLE=2906 Cass Avenue:geo:-83.0585343,42.3420731
END:VEVENT
BEGIN:VEVENT
DTSTART;TZID=America/Detroit:20250815T220000
DTEND;TZID=America/Detroit:20250816T020000
DTSTAMP:20260424T051617
CREATED:20250815T191657Z
LAST-MODIFIED:20250815T191731Z
UID:10014774-1755295200-1755309600@detroitartdao.com
SUMMARY:The Juice
DESCRIPTION:
URL:https://detroitartdao.com/event/the-juice-9
LOCATION:SPKR BOX\, 200 Grand River Avenue\, Detroit\, MI\, 48226\, United States
CATEGORIES:TheDetroitILove
GEO:42.3337987;-83.0499187
X-APPLE-STRUCTURED-LOCATION;VALUE=URI;X-ADDRESS=SPKR BOX 200 Grand River Avenue Detroit MI 48226 United States;X-APPLE-RADIUS=500;X-TITLE=200 Grand River Avenue:geo:-83.0499187,42.3337987
END:VEVENT
BEGIN:VEVENT
DTSTART;TZID=America/Detroit:20250815T220000
DTEND;TZID=America/Detroit:20250816T030000
DTSTAMP:20260424T051617
CREATED:20250815T191650Z
LAST-MODIFIED:20250815T191729Z
UID:10014771-1755295200-1755313200@detroitartdao.com
SUMMARY:Industrial Detroit
DESCRIPTION:
URL:https://detroitartdao.com/event/industrial-detroit-19
LOCATION:Detroit Kung Foo Academy\, 3364 Michigan Avenue\, Detroit\, MI
CATEGORIES:TheDetroitILove
GEO:42.3316682;-83.0902772
X-APPLE-STRUCTURED-LOCATION;VALUE=URI;X-ADDRESS=Detroit Kung Foo Academy 3364 Michigan Avenue Detroit MI;X-APPLE-RADIUS=500;X-TITLE=3364 Michigan Avenue:geo:-83.0902772,42.3316682
END:VEVENT
BEGIN:VEVENT
DTSTART;TZID=America/Detroit:20250816T090000
DTEND;TZID=America/Detroit:20250816T100000
DTSTAMP:20260424T051617
CREATED:20250511T000228Z
LAST-MODIFIED:20250810T013206Z
UID:10013201-1755334800-1755338400@detroitartdao.com
SUMMARY:FREE Yoga at Palmer Park in partnership with the People for Palmer Park
DESCRIPTION:Format: Hatha Yoga This is a traditional yoga class for all levels\n Membership & Cost: FREE!  REGISTRATION IS REQUIRED
URL:https://detroitartdao.com/event/free-yoga-at-palmer-park-in-partnership-with-the-people-for-palmer-park-36
LOCATION:Palmer Park\, 910 Merrill Plaissance\, Detroit\, MI\, 48203\, United States
ATTACH;FMTTYPE=image/jpeg:https://detroitartdao.com/wp-content/uploads/2023/07/5755d60d20e717c5704136aca9ed9cf7.jpg
GEO:42.4266309;-83.1179848
X-APPLE-STRUCTURED-LOCATION;VALUE=URI;X-ADDRESS=Palmer Park 910 Merrill Plaissance Detroit MI 48203 United States;X-APPLE-RADIUS=500;X-TITLE=910 Merrill Plaissance:geo:-83.1179848,42.4266309
END:VEVENT
BEGIN:VEVENT
DTSTART;TZID=America/Detroit:20250816T100000
DTEND;TZID=America/Detroit:20250816T130000
DTSTAMP:20260424T051617
CREATED:20250801T191336Z
LAST-MODIFIED:20250816T193406Z
UID:10014536-1755338400-1755349200@detroitartdao.com
SUMMARY:Evelyn’s Midtown Kitchen – French Baking Class
DESCRIPTION:“Master the Art of French Pastries”Dive into the world of classic French baking in this hands-on workshop where you’ll create three iconic pastries: buttery Croissants\, indulgent Pain au Chocolat\, and nutty\, decadent Almond Croissants. Under the guidance of an expert baker\, you’ll learn the secrets of laminating dough\, shaping\, and achieving the perfect bake. Whether you’re a beginner or a seasoned baker\, this class offers a delightful and rewarding experience as you bring the taste of France to life in your own kitchen. \nMenu: \n\nButter Crossaint – Laminated dough from scratch\nPain au chocolat\nAlmond Croissant (Croissant aux Amandes)\n\nSuggested Wine Pairing \nWhite Wine – Chenin Blanc (off-dry or sparkling) Sweetness and crisp acidity enhance buttery croissants and complement almond and chocolate pastries. \nRed Wine – Pinot Noir (light-bodied) Bright red fruit flavors balance the richness of almond croissants and pair delicately with chocolate. \nDessert Wine – Vin de Paille (Straw Wine) A sweet\, concentrated wine that elevates nutty\, buttery flavors with a luscious honeyed finish. \n  \nNOTE: Gratuity is appreciated but not required. Our team is dedicated to providing you with an exceptional and memorable experience\, and we truly enjoy serving you! \n  \nWhat to Expect: \n• You’ll partner with other students in groups of four\, sharing workstations and culinary equipment. \n• Classes typically run for 2 to 2 1/2 hours\, unless otherwise indicated. \n• Our hands-on classes maintain a cozy size\, accommodating 12-20 students\, in Shed 5 at Eastern Market \n• Be prepared for an active session\, as you’ll be on your feet\, cooking\, and fully engaged for the majority of the class. \n• For your comfort and safety\, we recommend wearing comfortable\, closed-toe shoes and securing long hair away from your face. \n• Evelyn’s Midtown Kitchen is committed to maintaining common sanitation standards\, and for this reason\, you may be asked to wash your hands multiple times to contribute to the safety of food handling. \n\nParking is free\nArrive at 10 am
URL:https://detroitartdao.com/event/evelyns-midtown-kitchen-french-baking-class
LOCATION:Eastern Market\, Shed 5\, 2810 Russell St.\, Detroit\, MI\, 48207
ATTACH;FMTTYPE=image/jpeg:https://dpop.nyc3.digitaloceanspaces.com/wp-content/uploads/2025/08/01151239/evelyns-midtown-kitchen-iGBp3n.tmp_.jpg
ORGANIZER;CN="Evelyn%26%238217%3Bs%20Midtown%20Kitchen":MAILTO:emkculinary@gmail.com
GEO:42.3484955;-83.0409411
X-APPLE-STRUCTURED-LOCATION;VALUE=URI;X-ADDRESS=Eastern Market Shed 5 2810 Russell St. Detroit MI 48207;X-APPLE-RADIUS=500;X-TITLE=2810 Russell St.:geo:-83.0409411,42.3484955
END:VEVENT
BEGIN:VEVENT
DTSTART;TZID=America/Detroit:20250816T110000
DTEND;TZID=America/Detroit:20250816T140000
DTSTAMP:20260424T051617
CREATED:20250717T141811Z
LAST-MODIFIED:20250816T193145Z
UID:10014239-1755342000-1755352800@detroitartdao.com
SUMMARY:(Radio) Essential Music
DESCRIPTION:
URL:https://detroitartdao.com/event/radio-essential-music-41
LOCATION:WDET
CATEGORIES:TheDetroitILove
END:VEVENT
BEGIN:VEVENT
DTSTART;TZID=America/Detroit:20250816T110000
DTEND;TZID=America/Detroit:20250816T140000
DTSTAMP:20260424T051617
CREATED:20250718T021711Z
LAST-MODIFIED:20250816T064651Z
UID:10014245-1755342000-1755352800@detroitartdao.com
SUMMARY:Detroit Youth Sports Showcase
DESCRIPTION:A  back to school sports sampling event featuring sports demonstrations\, interactive fitness demos\, giveaways\, and more!\n\n\nThe Detroit Riverfront Conservancy and Project Play are proud to present the Detroit Youth Sports Showcase! This event is a free opportunity for youth to try out a variety of sports and outdoor physical activities with partners from across the city. Participants will explore stations throughout Cullen Plaza and Milliken State Park including basketball\, tennis\, soccer\, chess\, skateboarding\, lacrosse\, and more\, as well as group fitness classes and demonstrations. Drop in anytime between 11am and 2pm! \nAll ages and experience levels are welcome. Participants are encouraged to bring a reusable water bottle to fill up on-site and wear athletic apparel and closed toed shoes. Free parking is available in the River East Garage at 1000 Franklin Street\, Detroit MI 48207. Food will be available for purchase on-site. \nParticipants can receive free Detroit Tigers tickets while supplies last\, alongside other giveaways and back to school resources. \nAll programming is rain or shine. \nFull partner list coming soon!
URL:https://detroitartdao.com/event/detroit-youth-sports-showcase-2
LOCATION:Cullen Plaza\, 1340 Atwater Street\, Detroit\, MI\, 48207\, United States
ATTACH;FMTTYPE=image/jpeg:https://dpop.nyc3.digitaloceanspaces.com/wp-content/uploads/2025/07/17221716/4f9cbff905aa7700e464caba57cfb9fc.jpg
GEO:42.3304259;-83.0318999
X-APPLE-STRUCTURED-LOCATION;VALUE=URI;X-ADDRESS=Cullen Plaza 1340 Atwater Street Detroit MI 48207 United States;X-APPLE-RADIUS=500;X-TITLE=1340 Atwater Street:geo:-83.0318999,42.3304259
END:VEVENT
BEGIN:VEVENT
DTSTART;TZID=America/Detroit:20250816T110000
DTEND;TZID=America/Detroit:20250816T150000
DTSTAMP:20260424T051617
CREATED:20250809T183332Z
LAST-MODIFIED:20250816T193144Z
UID:10014643-1755342000-1755356400@detroitartdao.com
SUMMARY:Saturday Grind
DESCRIPTION:
URL:https://detroitartdao.com/event/saturday-grind-83
LOCATION:SPKR BOX\, 200 Grand River Avenue\, Detroit\, MI\, 48226\, United States
CATEGORIES:TheDetroitILove
GEO:42.3337987;-83.0499187
X-APPLE-STRUCTURED-LOCATION;VALUE=URI;X-ADDRESS=SPKR BOX 200 Grand River Avenue Detroit MI 48226 United States;X-APPLE-RADIUS=500;X-TITLE=200 Grand River Avenue:geo:-83.0499187,42.3337987
END:VEVENT
BEGIN:VEVENT
DTSTART;TZID=America/Detroit:20250816T140000
DTEND;TZID=America/Detroit:20250816T160000
DTSTAMP:20260424T051617
CREATED:20250717T141812Z
LAST-MODIFIED:20250801T170418Z
UID:10014240-1755352800-1755360000@detroitartdao.com
SUMMARY:(Radio) Essential Music
DESCRIPTION:
URL:https://detroitartdao.com/event/radio-essential-music-42
LOCATION:WDET
CATEGORIES:TheDetroitILove
END:VEVENT
BEGIN:VEVENT
DTSTART;TZID=America/Detroit:20250816T160000
DTEND;TZID=America/Detroit:20250816T180000
DTSTAMP:20260424T051617
CREATED:20250717T141812Z
LAST-MODIFIED:20250816T193305Z
UID:10014241-1755360000-1755367200@detroitartdao.com
SUMMARY:(Radio) Modern Music
DESCRIPTION:
URL:https://detroitartdao.com/event/radio-modern-music-11
LOCATION:WDET
CATEGORIES:TheDetroitILove
END:VEVENT
BEGIN:VEVENT
DTSTART;TZID=America/Detroit:20250816T170000
DTEND;TZID=America/Detroit:20250816T190000
DTSTAMP:20260424T051617
CREATED:20250717T141717Z
LAST-MODIFIED:20250816T193145Z
UID:10014238-1755363600-1755370800@detroitartdao.com
SUMMARY:(stream) G.M.H.D.
DESCRIPTION:
URL:https://detroitartdao.com/event/stream-g-m-h-d-6
LOCATION:Deep Space Radio
CATEGORIES:TheDetroitILove
END:VEVENT
BEGIN:VEVENT
DTSTART;TZID=America/Detroit:20250816T180000
DTEND;TZID=America/Detroit:20250816T200000
DTSTAMP:20260424T051617
CREATED:20250717T141813Z
LAST-MODIFIED:20250816T193306Z
UID:10014242-1755367200-1755374400@detroitartdao.com
SUMMARY:(Radio) The Progressive Underground
DESCRIPTION:
URL:https://detroitartdao.com/event/radio-the-progressive-underground-21
LOCATION:WDET
CATEGORIES:TheDetroitILove
END:VEVENT
BEGIN:VEVENT
DTSTART;TZID=America/Detroit:20250816T180000
DTEND;TZID=America/Detroit:20250816T220000
DTSTAMP:20260424T051617
CREATED:20250717T120218Z
LAST-MODIFIED:20250816T154657Z
UID:10014236-1755367200-1755381600@detroitartdao.com
SUMMARY:R&Beach presented by Diversified Members Credit Union | August 16th
DESCRIPTION:Feel the rhythm of summer at R&Beach on August 16 at The Beach at Campus Martius Park presented by Diversified Members Credit Union. This FREE event brings soulful R&B grooves to the heart of downtown with live music performances\, laid-back vibes\, and interactive fun on the sand from 6 – 10 pm. Our Beach Party event series is presented by Diversified Members Credit Union and supported in part by Casamigos and MGM Grand Detroit. \nBring your beach chair\, grab a drink of your choice\, and let the music move you as the sun sets over the city. Whether you’re vibing with friends or looking for a chill date night\, this is your perfect summer escape without leaving Detroit. \n  \nActivities include: \n🎶 Live Performances by DJ Skeez on the MGM Grand Detroit Sand Stage \n🎨 Vinyl Record Decorating  \n🍋‍🟩 Casamigos Tequila Sampling \n🎟️ Win Free Tickets — Courtesy of our friends at 313 presents\, you have the chance to win free tickets to see the Jonas Brothers or the Lumineers for free. \n🎰 Michigan Lottery Truck — will be onsite with giveaways\, ticket purchases and plenty of fun! \n🎁 Giveaways – Don’t miss out on free goodies and surprises throughout the event! \n  \n\nvar exampleCallback=function(){console.log(‘Order complete!’);};window.EBWidgets.createWidget({widgetType:’checkout’\,eventId:’1396961321919′\,iframeContainerId:’eventbrite-widget-container-1396961321919′\,iframeContainerHeight:425\,onOrderComplete:exampleCallback}); \nUpcoming Beach Parties and Themes: \n-Country Roots Beach Party | September 13th
URL:https://detroitartdao.com/event/rbeach-presented-by-diversified-members-credit-union-august-16th
LOCATION:Campus Martius Park
CATEGORIES:Campus Martius,Free Event,Park Events
ATTACH;FMTTYPE=image/jpeg:https://dpop.nyc3.digitaloceanspaces.com/wp-content/uploads/2025/07/17080223/DDP_BeachParty_GNO_20240912_FS-91-scaled-17AmPT.tmp_.jpg
GEO:42.3314128;-83.0465629
END:VEVENT
BEGIN:VEVENT
DTSTART;TZID=America/Detroit:20250816T200000
DTEND;TZID=America/Detroit:20250816T220000
DTSTAMP:20260424T051617
CREATED:20250717T141814Z
LAST-MODIFIED:20250816T193306Z
UID:10014243-1755374400-1755381600@detroitartdao.com
SUMMARY:(Radio) The New Music Show
DESCRIPTION:
URL:https://detroitartdao.com/event/radio-the-new-music-show-21
LOCATION:WDET
CATEGORIES:TheDetroitILove
END:VEVENT
BEGIN:VEVENT
DTSTART;TZID=America/Detroit:20250816T220000
DTEND;TZID=America/Detroit:20250817T000000
DTSTAMP:20260424T051617
CREATED:20250717T141815Z
LAST-MODIFIED:20250816T193307Z
UID:10014244-1755381600-1755388800@detroitartdao.com
SUMMARY:(Radio) Alternate Take
DESCRIPTION:
URL:https://detroitartdao.com/event/radio-alternate-take-23
LOCATION:WDET
CATEGORIES:TheDetroitILove
END:VEVENT
BEGIN:VEVENT
DTSTART;TZID=America/Detroit:20250817T090000
DTEND;TZID=America/Detroit:20250817T100000
DTSTAMP:20260424T051617
CREATED:20250601T001820Z
LAST-MODIFIED:20250817T013206Z
UID:10013507-1755421200-1755424800@detroitartdao.com
SUMMARY:FREE Yoga at Rouge Park in partnership with Friends of Rouge Park
DESCRIPTION:Format: Hatha Yoga This is a traditional yoga class for all levels\n Membership & Cost: FREE!  REGISTRATION IS REQUIRED
URL:https://detroitartdao.com/event/free-yoga-at-rouge-park-in-partnership-with-friends-of-rouge-park-48
LOCATION:Rouge Park\, 21415 Plymouth Rd.\, Detroit\, MI\, 48228\, United States
ATTACH;FMTTYPE=image/jpeg:https://detroitartdao.com/wp-content/uploads/2023/07/5755d60d20e717c5704136aca9ed9cf7.jpg
GEO:42.3711393;-83.2529007
X-APPLE-STRUCTURED-LOCATION;VALUE=URI;X-ADDRESS=Rouge Park 21415 Plymouth Rd. Detroit MI 48228 United States;X-APPLE-RADIUS=500;X-TITLE=21415 Plymouth Rd.:geo:-83.2529007,42.3711393
END:VEVENT
BEGIN:VEVENT
DTSTART;TZID=America/Detroit:20250817T090000
DTEND;TZID=America/Detroit:20250817T110000
DTSTAMP:20260424T051617
CREATED:20250718T143309Z
LAST-MODIFIED:20250817T194654Z
UID:10014270-1755421200-1755428400@detroitartdao.com
SUMMARY:(stream) Sunday Service
DESCRIPTION:
URL:https://detroitartdao.com/event/stream-sunday-service-23
LOCATION:Deep Space Radio
CATEGORIES:TheDetroitILove
END:VEVENT
BEGIN:VEVENT
DTSTART;TZID=America/Detroit:20250817T090000
DTEND;TZID=America/Detroit:20250817T140000
DTSTAMP:20260424T051617
CREATED:20250817T194653Z
LAST-MODIFIED:20250817T194655Z
UID:10014784-1755421200-1755439200@detroitartdao.com
SUMMARY:Techfest Breakfast – Stacks and Tracks
DESCRIPTION:
URL:https://detroitartdao.com/event/techfest-breakfast-stacks-and-tracks
LOCATION:Northern Lights\, 660 W Baltimore Street\, Detroit\, MI\, 48202
CATEGORIES:TheDetroitILove
GEO:42.3668984;-83.0766966
X-APPLE-STRUCTURED-LOCATION;VALUE=URI;X-ADDRESS=Northern Lights 660 W Baltimore Street Detroit MI 48202;X-APPLE-RADIUS=500;X-TITLE=660 W Baltimore Street:geo:-83.0766966,42.3668984
END:VEVENT
BEGIN:VEVENT
DTSTART;TZID=America/Detroit:20250817T100000
DTEND;TZID=America/Detroit:20250817T160000
DTSTAMP:20260424T051617
CREATED:20250801T191407Z
LAST-MODIFIED:20250817T194935Z
UID:10014537-1755424800-1755446400@detroitartdao.com
SUMMARY:Sunday Market 2025
DESCRIPTION:Join us at our annual summer Sunday Market! \nSunday Market runs from 10 am to 4 pm\, June through September and features local craftsmen\, artisans\, clothing\, and apparel with events in Shed 5.
URL:https://detroitartdao.com/event/sunday-market-2025-4
LOCATION:Eastern Market\, 2934 Russell\, Detroit\, 48207\, United States
ATTACH;FMTTYPE=image/jpeg:https://dpop.nyc3.digitaloceanspaces.com/wp-content/uploads/2025/08/01151251/IMG_2540-scaled-D3znfA.tmp_.jpg
ORGANIZER;CN="Eastern%20Market%20Partnership":MAILTO:admin@easternmarket.org
GEO:42.3464643;-83.0397667
X-APPLE-STRUCTURED-LOCATION;VALUE=URI;X-ADDRESS=Eastern Market 2934 Russell Detroit 48207 United States;X-APPLE-RADIUS=500;X-TITLE=2934 Russell:geo:-83.0397667,42.3464643
END:VEVENT
BEGIN:VEVENT
DTSTART;TZID=America/Detroit:20250817T110000
DTEND;TZID=America/Detroit:20250817T120000
DTSTAMP:20260424T051617
CREATED:20250506T180235Z
LAST-MODIFIED:20250817T064654Z
UID:10013156-1755428400-1755432000@detroitartdao.com
SUMMARY:Intro to the Detroit Riverfront Walking Tour
DESCRIPTION:Explore the Detroit Riverfront and learn the history of the organization responsible for its stewardship!
URL:https://detroitartdao.com/event/intro-to-the-detroit-riverfront-walking-tour-15
LOCATION:Cullen Plaza\, 1340 Atwater Street\, Detroit\, MI\, 48207\, United States
ATTACH;FMTTYPE=image/jpeg:https://dpop.nyc3.digitaloceanspaces.com/wp-content/uploads/2025/05/06140211/4d7a05afd9fd3be6deb91f6f602e6009-1.jpg
GEO:42.3304259;-83.0318999
X-APPLE-STRUCTURED-LOCATION;VALUE=URI;X-ADDRESS=Cullen Plaza 1340 Atwater Street Detroit MI 48207 United States;X-APPLE-RADIUS=500;X-TITLE=1340 Atwater Street:geo:-83.0318999,42.3304259
END:VEVENT
BEGIN:VEVENT
DTSTART;TZID=America/Detroit:20250817T110000
DTEND;TZID=America/Detroit:20250817T130000
DTSTAMP:20260424T051617
CREATED:20250718T143418Z
LAST-MODIFIED:20250817T194658Z
UID:10014272-1755428400-1755435600@detroitartdao.com
SUMMARY:(Radio) Essential Music
DESCRIPTION:
URL:https://detroitartdao.com/event/radio-essential-music-43
LOCATION:WDET
CATEGORIES:TheDetroitILove
END:VEVENT
BEGIN:VEVENT
DTSTART;TZID=America/Detroit:20250817T110000
DTEND;TZID=America/Detroit:20250817T160000
DTSTAMP:20260424T051617
CREATED:20250720T144738Z
LAST-MODIFIED:20250817T194657Z
UID:10014321-1755428400-1755446400@detroitartdao.com
SUMMARY:SPKR BRNCH
DESCRIPTION:
URL:https://detroitartdao.com/event/spkr-brnch-50
LOCATION:SPKR BOX\, 200 Grand River Avenue\, Detroit\, MI\, 48226\, United States
CATEGORIES:TheDetroitILove
GEO:42.3337987;-83.0499187
X-APPLE-STRUCTURED-LOCATION;VALUE=URI;X-ADDRESS=SPKR BOX 200 Grand River Avenue Detroit MI 48226 United States;X-APPLE-RADIUS=500;X-TITLE=200 Grand River Avenue:geo:-83.0499187,42.3337987
END:VEVENT
BEGIN:VEVENT
DTSTART;TZID=America/Detroit:20250817T120000
DTEND;TZID=America/Detroit:20250817T160000
DTSTAMP:20260424T051617
CREATED:20250801T191337Z
LAST-MODIFIED:20250817T194936Z
UID:10014538-1755432000-1755446400@detroitartdao.com
SUMMARY:Hour Detroit’s Grill Fest 2025
DESCRIPTION:Big grills. Bold bites. Pure Detroit. \nGet ready for a sizzling summer Sunday as Hour Detroit’s GrillFest 2025 fires up Eastern Market with a bold new format\, a fresh venue\, and more grilled flavor than ever. Join us on Sunday\, August 17\, 2025\, from 12 PM to 4 PM at Eastern Market: Shed 5 — indulge in a variety of food and drink samples\, live music\, a kid zone\, and cornhole! \nTop local chefs\, restaurants\, and caterers will showcase their best grilled creations — and every dish has one thing in common: it’s grilled to perfection. Whether you’re a BBQ connoisseur or just here for the vibes\, this is the Detroit summer event you don’t want to miss. \nGet ready for a delicious twist! \nThe Best Bite Contest is an exciting addition for 2025. Guests will have the chance to sample signature creations from participating vendors and vote for their favorites right from their mobile devices.As you taste your way through the fest\, help award your favorites creations by casting your vote. At the end of the event\, we’ll announce the winners of the Gold\, Silver\, and Bronze Best Bite Awards\, recognizing the very best grilled tastes of the day. \nWhile you enjoy all the grilled goodness\, you’re also supporting COTS Detroit and their mission to end homelessness in our community. \nEvent Tickets: Early Bird Pricing – Get Yours Now!\nGeneral Admission: $35\nVIP Admission: $55\nKids (12 & Under): $12 \nAll tickets include 12 drink samples and 12 grilled bites. Kids tickets include 6 bites and access to the Kid Zone. All tickets support COTS Detroit.
URL:https://detroitartdao.com/event/hour-detroits-grill-fest-2025
LOCATION:Eastern Market\, Shed 5\, 2810 Russell St.\, Detroit\, MI\, 48207
ATTACH;FMTTYPE=image/jpeg:https://dpop.nyc3.digitaloceanspaces.com/wp-content/uploads/2025/08/01151345/HUMANITIX-GRILLFEST-DESIGN-TRYixm.tmp_.jpg
ORGANIZER;CN="Hour%20Detroit":MAILTO:social@hour-media.com
GEO:42.3484955;-83.0409411
X-APPLE-STRUCTURED-LOCATION;VALUE=URI;X-ADDRESS=Eastern Market Shed 5 2810 Russell St. Detroit MI 48207;X-APPLE-RADIUS=500;X-TITLE=2810 Russell St.:geo:-83.0409411,42.3484955
END:VEVENT
BEGIN:VEVENT
DTSTART;TZID=America/Detroit:20250817T123000
DTEND;TZID=America/Detroit:20250817T200000
DTSTAMP:20260424T051617
CREATED:20250817T194655Z
LAST-MODIFIED:20250817T194659Z
UID:10014785-1755433800-1755460800@detroitartdao.com
SUMMARY:Beyond
DESCRIPTION:
URL:https://detroitartdao.com/event/beyond-3
LOCATION:Batch Brewing Company\, 1400 Porter Street\, Detroit\, MI\, 48216\, United States
CATEGORIES:TheDetroitILove
GEO:42.328533;-83.06336
X-APPLE-STRUCTURED-LOCATION;VALUE=URI;X-ADDRESS=Batch Brewing Company 1400 Porter Street Detroit MI 48216 United States;X-APPLE-RADIUS=500;X-TITLE=1400 Porter Street:geo:-83.06336,42.328533
END:VEVENT
BEGIN:VEVENT
DTSTART;TZID=America/Detroit:20250817T130000
DTEND;TZID=America/Detroit:20250817T150000
DTSTAMP:20260424T051617
CREATED:20250718T143419Z
LAST-MODIFIED:20250817T194837Z
UID:10014273-1755435600-1755442800@detroitartdao.com
SUMMARY:(Radio) Acoustic Café
DESCRIPTION:
URL:https://detroitartdao.com/event/radio-acoustic-cafe-11
LOCATION:WDET
CATEGORIES:TheDetroitILove
END:VEVENT
BEGIN:VEVENT
DTSTART;TZID=America/Detroit:20250817T130000
DTEND;TZID=America/Detroit:20250817T160000
DTSTAMP:20260424T051617
CREATED:20250817T194658Z
LAST-MODIFIED:20250817T194700Z
UID:10014786-1755435600-1755446400@detroitartdao.com
SUMMARY:Label & Legends Panel/Mixer
DESCRIPTION:
URL:https://detroitartdao.com/event/label-legends-panel-mixer
LOCATION:TV Lounge\, 2548 Grand River Avenue\, Detroit\, MI\, 48201\, United States
CATEGORIES:TheDetroitILove
GEO:42.3380472;-83.0625672
X-APPLE-STRUCTURED-LOCATION;VALUE=URI;X-ADDRESS=TV Lounge 2548 Grand River Avenue Detroit MI 48201 United States;X-APPLE-RADIUS=500;X-TITLE=2548 Grand River Avenue:geo:-83.0625672,42.3380472
END:VEVENT
BEGIN:VEVENT
DTSTART;TZID=America/Detroit:20250817T130000
DTEND;TZID=America/Detroit:20250817T170000
DTSTAMP:20260424T051617
CREATED:20250718T120241Z
LAST-MODIFIED:20250817T154654Z
UID:10014247-1755435600-1755450000@detroitartdao.com
SUMMARY:Campus Kids Day: Back to School Bash Presented By Corewell Health
DESCRIPTION:Campus Kids Days Presented By Corewell Health returns to Campus Martius Park for summer 2025! Families are invited to enjoy this free series of fun-filled Sundays featuring themed entertainment\, interactive activities and engaging experiences for kids of all ages. It’s the perfect way to make the most of a Sunday in the heart of Downtown Detroit. Our Campus Kids Day event series is presented by Corewell Health and supported in part by the Detroit Zoo and Metro Parent.  The Michigan Science Center will also be in attendance at all Campus Kids Day events\, bringing fun in the sun with unique activations and stations.  \n  \n\nvar exampleCallback=function(){console.log(‘Order complete!’);};window.EBWidgets.createWidget({widgetType:’checkout’\,eventId:’1399536143279′\,iframeContainerId:’eventbrite-widget-container-1399536143279′\,iframeContainerHeight:425\,onOrderComplete:exampleCallback}); \nEvents run from 1–5 p.m. on select Sundays\, July 13 through October 5.  \n2025 Schedule:  \n\nAugust 17: Back to School Bash \n\nCelebrate the end of summer and gear up for the school year with a day packed full of fun for the whole family! \n\n\n\nTreat your tastebuds with complimentary Faygo Floats (while supplies last)\nJump into fun with a Crayon bounce house!\nFree backpacks courtesy of Corewell Health (while supplies last)\nTake in the Cool Tricks + Funny Stuff Magic Show taking place from 1:30-2:30 p.m. and 3:30-4:30 p.m. \nExplore the Michigan Science Center station featuring ‘Boo Bubbles’ and a UV sensory bin\nCraft stations courtesy of Metro Parent\nEnjoy airbrush tattoos\, lawn games\, and giveaways from Birdie’s Books\nTigers baseball on the big screen\nand more to be shared soon!\n\n\n\nPlus: Don’t miss your chance to win big! All attendees can enter to win a family four-pack of tickets to the Detroit Zoo\, including access to the Dragon Forest exhibit. You could also score tickets to an upcoming show of Gabby’s Dollhouse LIVE or Disney on Ice LIVE\, courtesy of 313 Presents. Enjoy fun activations and free giveaways from Corewell Health and the Detroit Zoo. \n\nSeptember 21: Autumn Adventure \n\n\nOctober 5: Lil’ Boo Bash \n\n  \nMark your calendars and join us for these exciting afternoons packed with creativity\, energy and family-friendly fun! Be sure to check in closer to the event for more details on each day’s events and themed fun.  
URL:https://detroitartdao.com/event/campus-kids-days-presented-by-corewell-health-2
LOCATION:Campus Martius Park
CATEGORIES:Campus Martius,Community Events,Free Event,Park Events
ATTACH;FMTTYPE=image/webp:https://dpop.nyc3.digitaloceanspaces.com/wp-content/uploads/2025/06/13081704/Campus-Kids-Day-1-scaled-4zsTBg.tmp_.webp
GEO:42.3314128;-83.0465629
END:VEVENT
BEGIN:VEVENT
DTSTART;TZID=America/Detroit:20250817T130000
DTEND;TZID=America/Detroit:20250817T190000
DTSTAMP:20260424T051617
CREATED:20250817T194659Z
LAST-MODIFIED:20250817T194701Z
UID:10014787-1755435600-1755457200@detroitartdao.com
SUMMARY:Parasol Pool Party
DESCRIPTION:
URL:https://detroitartdao.com/event/parasol-pool-party-4
LOCATION:Common Pub\, 5440 Cass Avenue\, Detroit\, MI\, 48202
CATEGORIES:TheDetroitILove
GEO:42.3599715;-83.068431
X-APPLE-STRUCTURED-LOCATION;VALUE=URI;X-ADDRESS=Common Pub 5440 Cass Avenue Detroit MI 48202;X-APPLE-RADIUS=500;X-TITLE=5440 Cass Avenue:geo:-83.068431,42.3599715
END:VEVENT
BEGIN:VEVENT
DTSTART;TZID=America/Detroit:20250817T160000
DTEND;TZID=America/Detroit:20250817T210000
DTSTAMP:20260424T051617
CREATED:20250817T194700Z
LAST-MODIFIED:20250817T194702Z
UID:10014788-1755446400-1755464400@detroitartdao.com
SUMMARY:Sanctified Sundays
DESCRIPTION:
URL:https://detroitartdao.com/event/sanctified-sundays-2
LOCATION:Third Street Bar
CATEGORIES:TheDetroitILove
END:VEVENT
BEGIN:VEVENT
DTSTART;TZID=America/Detroit:20250817T160000
DTEND;TZID=America/Detroit:20250926T220000
DTSTAMP:20260424T051617
CREATED:20250824T000137Z
LAST-MODIFIED:20250824T000137Z
UID:10014901-1755446400-1758924000@detroitartdao.com
SUMMARY:ROOFTOP VIBRATIONS IV
DESCRIPTION:We are back on the Rooftop for the latest edition of ROOFTOP VIBRATIONS – AMAPIANO all night featuring BLAKITO & YOUNGD.\n\n\nROOFTOP VIBRATIONS IV\nCome join us for an unforgettable evening at AVLI Rooftop Detroit 501 Monroe St on August 17\, 2025 at 4:00 PM (Eastern Time)! Get ready to vibe with great dance music (ampaiano)\, delicious food at Mati below\, and amazing culture.  Don’t miss out on this epic event!
URL:https://detroitartdao.com/event/rooftop-vibrations-iv
LOCATION:501 Monroe St\, 501 Monroe Street\, Detroit\, MI\, 48226\, United States
ATTACH;FMTTYPE=image/jpeg:https://dpop.nyc3.digitaloceanspaces.com/wp-content/uploads/2025/08/23200142/905dc2c512a34a5ac385d3996d5b201f.jpg
GEO:42.3351266;-83.0424727
X-APPLE-STRUCTURED-LOCATION;VALUE=URI;X-ADDRESS=501 Monroe St 501 Monroe Street Detroit MI 48226 United States;X-APPLE-RADIUS=500;X-TITLE=501 Monroe Street:geo:-83.0424727,42.3351266
END:VEVENT
END:VCALENDAR