BEGIN:VCALENDAR
VERSION:2.0
PRODID:-//Discover Detroit Art - ECPv6.0.1//NONSGML v1.0//EN
CALSCALE:GREGORIAN
METHOD:PUBLISH
X-WR-CALNAME:Discover Detroit Art
X-ORIGINAL-URL:https://detroitartdao.com
X-WR-CALDESC:Events for Discover Detroit Art
REFRESH-INTERVAL;VALUE=DURATION:PT1H
X-Robots-Tag:noindex
X-PUBLISHED-TTL:PT1H
BEGIN:VTIMEZONE
TZID:America/Detroit
BEGIN:DAYLIGHT
TZOFFSETFROM:-0500
TZOFFSETTO:-0400
TZNAME:EDT
DTSTART:20260308T070000
END:DAYLIGHT
BEGIN:STANDARD
TZOFFSETFROM:-0400
TZOFFSETTO:-0500
TZNAME:EST
DTSTART:20261101T060000
END:STANDARD
END:VTIMEZONE
BEGIN:VEVENT
DTSTART;TZID=America/Detroit:20260314T210000
DTEND;TZID=America/Detroit:20260315T020000
DTSTAMP:20260420T114903
CREATED:20260311T123320Z
LAST-MODIFIED:20260314T151720Z
UID:10017181-1773522000-1773540000@detroitartdao.com
SUMMARY:Siren
DESCRIPTION:
URL:https://detroitartdao.com/event/siren-5
LOCATION:The Paris Bar\, 2961 East McNichols Road\, Hamtramck\, MI\, 48212
CATEGORIES:TheDetroitILove
GEO:42.4187957;-83.071425
X-APPLE-STRUCTURED-LOCATION;VALUE=URI;X-ADDRESS=The Paris Bar 2961 East McNichols Road Hamtramck MI 48212;X-APPLE-RADIUS=500;X-TITLE=2961 East McNichols Road:geo:-83.071425,42.4187957
END:VEVENT
BEGIN:VEVENT
DTSTART;TZID=America/Detroit:20260314T200000
DTEND;TZID=America/Detroit:20260315T020000
DTSTAMP:20260420T114903
CREATED:20260311T123319Z
LAST-MODIFIED:20260314T151649Z
UID:10017180-1773518400-1773540000@detroitartdao.com
SUMMARY:Producer Showcase
DESCRIPTION:
URL:https://detroitartdao.com/event/producer-showcase
LOCATION:Cannons\, 15421 Mack Avenue\, Detroit\, MI\, 48224
CATEGORIES:TheDetroitILove
GEO:42.3884823;-82.9423389
X-APPLE-STRUCTURED-LOCATION;VALUE=URI;X-ADDRESS=Cannons 15421 Mack Avenue Detroit MI 48224;X-APPLE-RADIUS=500;X-TITLE=15421 Mack Avenue:geo:-82.9423389,42.3884823
END:VEVENT
BEGIN:VEVENT
DTSTART;TZID=America/Detroit:20260314T200000
DTEND;TZID=America/Detroit:20260315T020000
DTSTAMP:20260420T114903
CREATED:20260311T123318Z
LAST-MODIFIED:20260314T151648Z
UID:10017179-1773518400-1773540000@detroitartdao.com
SUMMARY:& Friends
DESCRIPTION:
URL:https://detroitartdao.com/event/friends-2
LOCATION:HALO\, 8070 Greenfield Road\, Detroit\, MI\, 48228
CATEGORIES:TheDetroitILove
GEO:42.3520822;-83.1963187
X-APPLE-STRUCTURED-LOCATION;VALUE=URI;X-ADDRESS=HALO 8070 Greenfield Road Detroit MI 48228;X-APPLE-RADIUS=500;X-TITLE=8070 Greenfield Road:geo:-83.1963187,42.3520822
END:VEVENT
BEGIN:VEVENT
DTSTART;TZID=America/Detroit:20260314T200000
DTEND;TZID=America/Detroit:20260315T020000
DTSTAMP:20260420T114903
CREATED:20260311T123316Z
LAST-MODIFIED:20260314T151647Z
UID:10017177-1773518400-1773540000@detroitartdao.com
SUMMARY:Cloud 10
DESCRIPTION:
URL:https://detroitartdao.com/event/cloud-10
LOCATION:Plav Post #10\, 11824 Joseph Campau Avenue\, Hamtramck\, MI\, 48212
CATEGORIES:TheDetroitILove
GEO:42.4035527;-83.0620048
X-APPLE-STRUCTURED-LOCATION;VALUE=URI;X-ADDRESS=Plav Post #10 11824 Joseph Campau Avenue Hamtramck MI 48212;X-APPLE-RADIUS=500;X-TITLE=11824 Joseph Campau Avenue:geo:-83.0620048,42.4035527
END:VEVENT
BEGIN:VEVENT
DTSTART;TZID=America/Detroit:20260314T200000
DTEND;TZID=America/Detroit:20260315T020000
DTSTAMP:20260420T114903
CREATED:20260311T123308Z
LAST-MODIFIED:20260314T151646Z
UID:10017178-1773518400-1773540000@detroitartdao.com
SUMMARY:Cumbia Is The New Goth
DESCRIPTION:
URL:https://detroitartdao.com/event/cumbia-is-the-new-goth
LOCATION:The Strays\, 8850 Joseph Campau Avenue\, Hamtramck\, Michigan\, 48212
CATEGORIES:TheDetroitILove
GEO:42.3909966;-83.0536179
X-APPLE-STRUCTURED-LOCATION;VALUE=URI;X-ADDRESS=The Strays 8850 Joseph Campau Avenue Hamtramck Michigan 48212;X-APPLE-RADIUS=500;X-TITLE=8850 Joseph Campau Avenue:geo:-83.0536179,42.3909966
END:VEVENT
BEGIN:VEVENT
DTSTART;TZID=America/Detroit:20260314T200000
DTEND;TZID=America/Detroit:20260314T230000
DTSTAMP:20260420T114903
CREATED:20260312T145314Z
LAST-MODIFIED:20260314T151718Z
UID:10017211-1773518400-1773529200@detroitartdao.com
SUMMARY:Live Jazz
DESCRIPTION:
URL:https://detroitartdao.com/event/live-jazz-7
LOCATION:MotorCity Wine\, 1949 Michigan Avenue\, Detroit\, MI\, 48216
CATEGORIES:TheDetroitILove
GEO:42.3311806;-83.0730097
X-APPLE-STRUCTURED-LOCATION;VALUE=URI;X-ADDRESS=MotorCity Wine 1949 Michigan Avenue Detroit MI 48216;X-APPLE-RADIUS=500;X-TITLE=1949 Michigan Avenue:geo:-83.0730097,42.3311806
END:VEVENT
BEGIN:VEVENT
DTSTART;TZID=America/Detroit:20260314T190000
DTEND;TZID=America/Detroit:20260315T000000
DTSTAMP:20260420T114903
CREATED:20260312T145242Z
LAST-MODIFIED:20260314T151645Z
UID:10017210-1773514800-1773532800@detroitartdao.com
SUMMARY:Embodied Color
DESCRIPTION:
URL:https://detroitartdao.com/event/embodied-color
LOCATION:Tangent Gallery\, 715 East Milwaukee Avenue\, Detroit\, MI\, 48202\, United States
CATEGORIES:TheDetroitILove
GEO:42.3726511;-83.063581
X-APPLE-STRUCTURED-LOCATION;VALUE=URI;X-ADDRESS=Tangent Gallery 715 East Milwaukee Avenue Detroit MI 48202 United States;X-APPLE-RADIUS=500;X-TITLE=715 East Milwaukee Avenue:geo:-83.063581,42.3726511
END:VEVENT
BEGIN:VEVENT
DTSTART;TZID=America/Detroit:20260314T190000
DTEND;TZID=America/Detroit:20260314T230000
DTSTAMP:20260420T114903
CREATED:20260311T123306Z
LAST-MODIFIED:20260314T151644Z
UID:10017176-1773514800-1773529200@detroitartdao.com
SUMMARY:Tape Release Show
DESCRIPTION:
URL:https://detroitartdao.com/event/tape-release-show
LOCATION:Moondog Café\, 8045 Linwood Street\, Detroit\, MI\, 48206
CATEGORIES:TheDetroitILove
GEO:42.3648326;-83.1032111
X-APPLE-STRUCTURED-LOCATION;VALUE=URI;X-ADDRESS=Moondog Café 8045 Linwood Street Detroit MI 48206;X-APPLE-RADIUS=500;X-TITLE=8045 Linwood Street:geo:-83.1032111,42.3648326
END:VEVENT
BEGIN:VEVENT
DTSTART;TZID=America/Detroit:20260314T180000
DTEND;TZID=America/Detroit:20260314T220000
DTSTAMP:20260420T114903
CREATED:20260215T011637Z
LAST-MODIFIED:20260315T011651Z
UID:10017021-1773511200-1773525600@detroitartdao.com
SUMMARY:CWC Presents: We Need Therapy\, A Live Podcast Experience
DESCRIPTION:Join us live for CWC Presents: We Need Therapy\, a hilarious and real podcast experience you don’t wanna miss!\n\n\nGet ready for some real talk and laughs at We Need Therapy! Join us in person for an unfiltered\, live podcast event where the hosts dive deep into their favorite topics. It’s a fun night full of live demonstrations\, performers\, advice and good vibes. Don’t miss out on this awesome chance to connect\, kickback\, and maybe even get a little therapy of your own.
URL:https://detroitartdao.com/event/cwc-presents-we-need-therapy-a-live-podcast-experience
LOCATION:The Norwood\, 6531 Woodward Avenue\, Detroit\, MI\, 48202\, United States
ATTACH;FMTTYPE=image/jpeg:https://dpop.nyc3.digitaloceanspaces.com/wp-content/uploads/2026/02/14201638/feaf9038fbcbf2f86dbf789c31c58f7c.jpg
GEO:42.3694879;-83.073206
X-APPLE-STRUCTURED-LOCATION;VALUE=URI;X-ADDRESS=The Norwood 6531 Woodward Avenue Detroit MI 48202 United States;X-APPLE-RADIUS=500;X-TITLE=6531 Woodward Avenue:geo:-83.073206,42.3694879
END:VEVENT
BEGIN:VEVENT
DTSTART;TZID=America/Detroit:20260314T170000
DTEND;TZID=America/Detroit:20260314T210000
DTSTAMP:20260420T114903
CREATED:20260313T150236Z
LAST-MODIFIED:20260314T151643Z
UID:10017215-1773507600-1773522000@detroitartdao.com
SUMMARY:(opening) Abstraction Paintings + Watercolors
DESCRIPTION:
URL:https://detroitartdao.com/event/opening-abstraction-paintings-watercolors
LOCATION:MAC Galleries\, 18943 Livernois Avenue\, Detroit\, MI\, 48221
CATEGORIES:TheDetroitILove
GEO:42.4301478;-83.1418865
X-APPLE-STRUCTURED-LOCATION;VALUE=URI;X-ADDRESS=MAC Galleries 18943 Livernois Avenue Detroit MI 48221;X-APPLE-RADIUS=500;X-TITLE=18943 Livernois Avenue:geo:-83.1418865,42.4301478
END:VEVENT
BEGIN:VEVENT
DTSTART;TZID=America/Detroit:20260314T130000
DTEND;TZID=America/Detroit:20260314T143000
DTSTAMP:20260420T114903
CREATED:20260312T145240Z
LAST-MODIFIED:20260314T151642Z
UID:10017209-1773493200-1773498600@detroitartdao.com
SUMMARY:Sage & Sound
DESCRIPTION:
URL:https://detroitartdao.com/event/sage-sound
LOCATION:N’Namdi Center For Contemporary Art\, 52 East Forest Avenue\, Detroit\, MI\, 48201
CATEGORIES:TheDetroitILove
GEO:42.3549172;-83.0617361
X-APPLE-STRUCTURED-LOCATION;VALUE=URI;X-ADDRESS=N’Namdi Center For Contemporary Art 52 East Forest Avenue Detroit MI 48201;X-APPLE-RADIUS=500;X-TITLE=52 East Forest Avenue:geo:-83.0617361,42.3549172
END:VEVENT
BEGIN:VEVENT
DTSTART;TZID=America/Detroit:20260314T120000
DTEND;TZID=America/Detroit:20260314T220000
DTSTAMP:20260420T114903
CREATED:20260312T145239Z
LAST-MODIFIED:20260314T151641Z
UID:10017208-1773489600-1773525600@detroitartdao.com
SUMMARY:Detroit Shamrock Festival
DESCRIPTION:
URL:https://detroitartdao.com/event/detroit-shamrock-festival
LOCATION:Detroit Festival Grounds\, 401 Macomb Street\, Detroit\, MI\, 48226
CATEGORIES:TheDetroitILove
GEO:42.3353899;-83.044085
X-APPLE-STRUCTURED-LOCATION;VALUE=URI;X-ADDRESS=Detroit Festival Grounds 401 Macomb Street Detroit MI 48226;X-APPLE-RADIUS=500;X-TITLE=401 Macomb Street:geo:-83.044085,42.3353899
END:VEVENT
BEGIN:VEVENT
DTSTART;TZID=America/Detroit:20260314T110000
DTEND;TZID=America/Detroit:20260314T150000
DTSTAMP:20260420T114903
CREATED:20260311T123305Z
LAST-MODIFIED:20260314T151640Z
UID:10017175-1773486000-1773500400@detroitartdao.com
SUMMARY:Saturday Grind
DESCRIPTION:
URL:https://detroitartdao.com/event/saturday-grind-110
LOCATION:SPKR BOX\, 200 Grand River Avenue\, Detroit\, MI\, 48226\, United States
CATEGORIES:TheDetroitILove
GEO:42.3337987;-83.0499187
X-APPLE-STRUCTURED-LOCATION;VALUE=URI;X-ADDRESS=SPKR BOX 200 Grand River Avenue Detroit MI 48226 United States;X-APPLE-RADIUS=500;X-TITLE=200 Grand River Avenue:geo:-83.0499187,42.3337987
END:VEVENT
BEGIN:VEVENT
DTSTART;TZID=America/Detroit:20260314T100000
DTEND;TZID=America/Detroit:20260314T130000
DTSTAMP:20260420T114903
CREATED:20260220T013135Z
LAST-MODIFIED:20260314T024634Z
UID:10017066-1773482400-1773493200@detroitartdao.com
SUMMARY:Evelyn’s Midtown Kitchen – Delightful French Macarons / Les Macarons
DESCRIPTION:Join us for an in-depth technical class to learn the artful technique of French Macaron baking!\n\n\n\nEmbark on a sweet and colorful culinary adventure with our Macaron Masterclass\, where you’ll learn the delicate art of crafting these iconic French treats from scratch. Known for their crisp shells\, chewy centers\, and endless flavor possibilities\, macarons are the epitome of French pastry perfection. In this hands-on class\, you’ll discover the techniques and secrets behind these notoriously tricky yet utterly irresistible confections. \nMenu: \n\nRaspberry Macarons\nPistachio Macarons\nLemon Macarons\nLocal Coffee\n\nNote: Gratuity is appreciated but not required. Our team is dedicated to providing you with an exceptional and memorable experience\, and we truly enjoy serving you! \nWhat to Expect: \n• You’ll partner with other students in groups of four\, sharing workstations and culinary equipment. \n• Classes typically run for 2 to 2 1/2 hours\, unless otherwise indicated. \n• Our hands-on classes maintain a cozy size\, accommodating 12-20 students\, in Shed 5 at Eastern Market \n• Be prepared for an active session\, as you’ll be on your feet\, cooking\, and fully engaged for the majority of the class. \n• For your comfort and safety\, we recommend wearing comfortable\, closed-toe shoes and securing long hair away from your face. \n• Evelyn’s Midtown Kitchen is committed to maintaining common sanitation standards\, and for this reason\, you may be asked to wash your hands multiple times to contribute to the safety of food handling. \n\nParking is free
URL:https://detroitartdao.com/event/evelyns-midtown-kitchen-delightful-french-macarons-les-macarons
LOCATION:Eastern Market\, Shed 5\, 2810 Russell St.\, Detroit\, MI\, 48207
ATTACH;FMTTYPE=image/jpeg:https://dpop.nyc3.digitaloceanspaces.com/wp-content/uploads/2025/10/03201651/417138445_965115771717691_5961021592254802427_n-IvuF1D.tmp_.jpg
ORGANIZER;CN="Evelyn%26%238217%3Bs%20Midtown%20Kitchen":MAILTO:emkculinary@gmail.com
GEO:42.3484955;-83.0409411
X-APPLE-STRUCTURED-LOCATION;VALUE=URI;X-ADDRESS=Eastern Market Shed 5 2810 Russell St. Detroit MI 48207;X-APPLE-RADIUS=500;X-TITLE=2810 Russell St.:geo:-83.0409411,42.3484955
END:VEVENT
BEGIN:VEVENT
DTSTART;TZID=America/Detroit:20260314T090000
DTEND;TZID=America/Detroit:20260314T100000
DTSTAMP:20260420T114903
CREATED:20260111T033156Z
LAST-MODIFIED:20260215T041651Z
UID:10016676-1773478800-1773482400@detroitartdao.com
SUMMARY:Yoganic Flow Virtual Yoga Class: Yoga for All Levels!
DESCRIPTION:Yoganic Flow All-Levels 60-Minute Virtual Yoga Class\nThis donation-based session includes breathwork\, meditation and asana practice.
URL:https://detroitartdao.com/event/yoganic-flow-virtual-yoga-class-72
LOCATION:MI
ATTACH;FMTTYPE=image/jpeg:https://dpop.nyc3.digitaloceanspaces.com/wp-content/uploads/2024/04/20104702/4e1fc4d59bf96721fae8bb51939fcd4e.jpg
END:VEVENT
BEGIN:VEVENT
DTSTART;TZID=America/Detroit:20260314T060000
DTEND;TZID=America/Detroit:20260314T160000
DTSTAMP:20260420T114903
CREATED:20250801T191415Z
LAST-MODIFIED:20260314T024632Z
UID:10014550-1773468000-1773504000@detroitartdao.com
SUMMARY:Saturday Market
DESCRIPTION:Saturday Market is a staple market day at Eastern Market. You’ll find a vast assortment of local produce\, flower and plant vendors\, as well as packaged food items\, and handcrafted items made by local entrepreneurs. Saturdays Market it open year round\, with up to 45\,000 people from all over southeastern Michigan and beyond stop by for a day at the market. \nSaturday Market\, open year round\, 6 AM – 4 PM\, all sheds open
URL:https://detroitartdao.com/event/free-yoga-at-eastern-market-5
LOCATION:Eastern Market\, 2934 Russell\, Detroit\, 48207\, United States
ATTACH;FMTTYPE=image/jpeg:https://dpop.nyc3.digitaloceanspaces.com/wp-content/uploads/2025/09/09191646/IMG_0152-scaled-VBBeag.tmp_.jpg
ORGANIZER;CN="Eastern%20Market%20Partnership":MAILTO:admin@easternmarket.org
GEO:42.3464643;-83.0397667
X-APPLE-STRUCTURED-LOCATION;VALUE=URI;X-ADDRESS=Eastern Market 2934 Russell Detroit 48207 United States;X-APPLE-RADIUS=500;X-TITLE=2934 Russell:geo:-83.0397667,42.3464643
END:VEVENT
BEGIN:VEVENT
DTSTART;TZID=America/Detroit:20260313T220000
DTEND;TZID=America/Detroit:20260314T020000
DTSTAMP:20260420T114904
CREATED:20260311T123304Z
LAST-MODIFIED:20260313T150341Z
UID:10017174-1773439200-1773453600@detroitartdao.com
SUMMARY:Three Dimensions
DESCRIPTION:
URL:https://detroitartdao.com/event/three-dimensions-12
LOCATION:SPKR BOX\, 200 Grand River Avenue\, Detroit\, MI\, 48226\, United States
CATEGORIES:TheDetroitILove
GEO:42.3337987;-83.0499187
X-APPLE-STRUCTURED-LOCATION;VALUE=URI;X-ADDRESS=SPKR BOX 200 Grand River Avenue Detroit MI 48226 United States;X-APPLE-RADIUS=500;X-TITLE=200 Grand River Avenue:geo:-83.0499187,42.3337987
END:VEVENT
BEGIN:VEVENT
DTSTART;TZID=America/Detroit:20260313T220000
DTEND;TZID=America/Detroit:20260314T020000
DTSTAMP:20260420T114904
CREATED:20260311T123303Z
LAST-MODIFIED:20260313T150340Z
UID:10017173-1773439200-1773453600@detroitartdao.com
SUMMARY:All Night
DESCRIPTION:
URL:https://detroitartdao.com/event/all-night-9
LOCATION:Paramita Sound\, 1517 Broadway Street\, Detroit\, MI\, 48226\, United States
CATEGORIES:TheDetroitILove
GEO:42.3357155;-83.0487022
X-APPLE-STRUCTURED-LOCATION;VALUE=URI;X-ADDRESS=Paramita Sound 1517 Broadway Street Detroit MI 48226 United States;X-APPLE-RADIUS=500;X-TITLE=1517 Broadway Street:geo:-83.0487022,42.3357155
END:VEVENT
BEGIN:VEVENT
DTSTART;TZID=America/Detroit:20260313T220000
DTEND;TZID=America/Detroit:20260314T020000
DTSTAMP:20260420T114904
CREATED:20260311T123301Z
LAST-MODIFIED:20260313T150301Z
UID:10017171-1773439200-1773453600@detroitartdao.com
SUMMARY:‘When Stars Remember’ EP Release Party
DESCRIPTION:
URL:https://detroitartdao.com/event/when-stars-remember-ep-release-party
LOCATION:SPKR BOX\, 200 Grand River Avenue\, Detroit\, MI\, 48226\, United States
CATEGORIES:TheDetroitILove
GEO:42.3337987;-83.0499187
X-APPLE-STRUCTURED-LOCATION;VALUE=URI;X-ADDRESS=SPKR BOX 200 Grand River Avenue Detroit MI 48226 United States;X-APPLE-RADIUS=500;X-TITLE=200 Grand River Avenue:geo:-83.0499187,42.3337987
END:VEVENT
BEGIN:VEVENT
DTSTART;TZID=America/Detroit:20260313T220000
DTEND;TZID=America/Detroit:20260314T020000
DTSTAMP:20260420T114904
CREATED:20260311T123300Z
LAST-MODIFIED:20260313T150259Z
UID:10017170-1773439200-1773453600@detroitartdao.com
SUMMARY:Push & Paint Album Release Party
DESCRIPTION:
URL:https://detroitartdao.com/event/push-paint-album-release-party
LOCATION:UFO Bar\, 2110 Trumbull Street\, Detroit\, MI\, 48216
CATEGORIES:TheDetroitILove
GEO:42.3321892;-83.0669471
X-APPLE-STRUCTURED-LOCATION;VALUE=URI;X-ADDRESS=UFO Bar 2110 Trumbull Street Detroit MI 48216;X-APPLE-RADIUS=500;X-TITLE=2110 Trumbull Street:geo:-83.0669471,42.3321892
END:VEVENT
BEGIN:VEVENT
DTSTART;TZID=America/Detroit:20260313T220000
DTEND;TZID=America/Detroit:20260314T020000
DTSTAMP:20260420T114904
CREATED:20260311T123259Z
LAST-MODIFIED:20260313T150258Z
UID:10017169-1773439200-1773453600@detroitartdao.com
SUMMARY:Piano Party
DESCRIPTION:
URL:https://detroitartdao.com/event/piano-party
LOCATION:Big Pink\, 6440 Wight Street\, Detroit\, MI
CATEGORIES:TheDetroitILove
GEO:42.3423259;-83.0073267
X-APPLE-STRUCTURED-LOCATION;VALUE=URI;X-ADDRESS=Big Pink 6440 Wight Street Detroit MI;X-APPLE-RADIUS=500;X-TITLE=6440 Wight Street:geo:-83.0073267,42.3423259
END:VEVENT
BEGIN:VEVENT
DTSTART;TZID=America/Detroit:20260313T210000
DTEND;TZID=America/Detroit:20260314T050000
DTSTAMP:20260420T114904
CREATED:20260311T123255Z
LAST-MODIFIED:20260313T150253Z
UID:10017166-1773435600-1773464400@detroitartdao.com
SUMMARY:MELT
DESCRIPTION:
URL:https://detroitartdao.com/event/melt
LOCATION:Lincoln Factory\, 1331 Holden Street\, Detroit\, MI\, 48202
CATEGORIES:TheDetroitILove
GEO:42.3626399;-83.0819244
X-APPLE-STRUCTURED-LOCATION;VALUE=URI;X-ADDRESS=Lincoln Factory 1331 Holden Street Detroit MI 48202;X-APPLE-RADIUS=500;X-TITLE=1331 Holden Street:geo:-83.0819244,42.3626399
END:VEVENT
BEGIN:VEVENT
DTSTART;TZID=America/Detroit:20260313T210000
DTEND;TZID=America/Detroit:20260314T030000
DTSTAMP:20260420T114904
CREATED:20260311T123256Z
LAST-MODIFIED:20260313T150254Z
UID:10017167-1773435600-1773457200@detroitartdao.com
SUMMARY:Raise the Flag
DESCRIPTION:
URL:https://detroitartdao.com/event/raise-the-flag
LOCATION:Marble Bar\, 1501 Holden Street\, Detroit\, MI\, 48208
CATEGORIES:TheDetroitILove
GEO:42.3630305;-83.0851869
X-APPLE-STRUCTURED-LOCATION;VALUE=URI;X-ADDRESS=Marble Bar 1501 Holden Street Detroit MI 48208;X-APPLE-RADIUS=500;X-TITLE=1501 Holden Street:geo:-83.0851869,42.3630305
END:VEVENT
BEGIN:VEVENT
DTSTART;TZID=America/Detroit:20260313T210000
DTEND;TZID=America/Detroit:20260314T030000
DTSTAMP:20260420T114904
CREATED:20260311T123254Z
LAST-MODIFIED:20260313T150252Z
UID:10017165-1773435600-1773457200@detroitartdao.com
SUMMARY:La Discoteca
DESCRIPTION:
URL:https://detroitartdao.com/event/la-discoteca
LOCATION:Tangent Gallery\, 715 East Milwaukee Avenue\, Detroit\, MI\, 48202\, United States
CATEGORIES:TheDetroitILove
GEO:42.3726511;-83.063581
X-APPLE-STRUCTURED-LOCATION;VALUE=URI;X-ADDRESS=Tangent Gallery 715 East Milwaukee Avenue Detroit MI 48202 United States;X-APPLE-RADIUS=500;X-TITLE=715 East Milwaukee Avenue:geo:-83.063581,42.3726511
END:VEVENT
BEGIN:VEVENT
DTSTART;TZID=America/Detroit:20260313T210000
DTEND;TZID=America/Detroit:20260314T020000
DTSTAMP:20260420T114904
CREATED:20260312T145232Z
LAST-MODIFIED:20260313T150257Z
UID:10017205-1773435600-1773453600@detroitartdao.com
SUMMARY:No Facade
DESCRIPTION:
URL:https://detroitartdao.com/event/no-facade-7
LOCATION:Temple Bar\, 2906 Cass Avenue\, Detroit\, MI\, 48201
CATEGORIES:TheDetroitILove
GEO:42.3420731;-83.0585343
X-APPLE-STRUCTURED-LOCATION;VALUE=URI;X-ADDRESS=Temple Bar 2906 Cass Avenue Detroit MI 48201;X-APPLE-RADIUS=500;X-TITLE=2906 Cass Avenue:geo:-83.0585343,42.3420731
END:VEVENT
BEGIN:VEVENT
DTSTART;TZID=America/Detroit:20260313T210000
DTEND;TZID=America/Detroit:20260314T020000
DTSTAMP:20260420T114904
CREATED:20260311T123311Z
LAST-MODIFIED:20260313T150255Z
UID:10017172-1773435600-1773453600@detroitartdao.com
SUMMARY:A Big A** Party
DESCRIPTION:
URL:https://detroitartdao.com/event/a-big-a-party-7
LOCATION:TV Lounge\, 2548 Grand River Avenue\, Detroit\, MI\, 48201\, United States
CATEGORIES:TheDetroitILove
GEO:42.3380472;-83.0625672
X-APPLE-STRUCTURED-LOCATION;VALUE=URI;X-ADDRESS=TV Lounge 2548 Grand River Avenue Detroit MI 48201 United States;X-APPLE-RADIUS=500;X-TITLE=2548 Grand River Avenue:geo:-83.0625672,42.3380472
END:VEVENT
BEGIN:VEVENT
DTSTART;TZID=America/Detroit:20260313T210000
DTEND;TZID=America/Detroit:20260314T020000
DTSTAMP:20260420T114904
CREATED:20260311T123258Z
LAST-MODIFIED:20260313T150256Z
UID:10017168-1773435600-1773453600@detroitartdao.com
SUMMARY:Local Haunt
DESCRIPTION:
URL:https://detroitartdao.com/event/local-haunt-2
LOCATION:Donovan’s Pub\, 3003 Vernor Highway\, Detroit\, MI\, 48216
CATEGORIES:TheDetroitILove
GEO:42.3253551;-83.0824617
X-APPLE-STRUCTURED-LOCATION;VALUE=URI;X-ADDRESS=Donovan’s Pub 3003 Vernor Highway Detroit MI 48216;X-APPLE-RADIUS=500;X-TITLE=3003 Vernor Highway:geo:-83.0824617,42.3253551
END:VEVENT
BEGIN:VEVENT
DTSTART;TZID=America/Detroit:20260313T210000
DTEND;TZID=America/Detroit:20260314T020000
DTSTAMP:20260420T114904
CREATED:20260308T011644Z
LAST-MODIFIED:20260308T011645Z
UID:10017142-1773435600-1773453600@detroitartdao.com
SUMMARY:R&B Fridays: No Skips - Detroit Hits!
DESCRIPTION:It’s 313 Day in Detroit — pull up and vibe to the R&B soundtrack of the city.\n\n\nIt’s 313 Day in Detroit — pull up and vibe to the R&B soundtrack of the city. \nR&B Fridays: No Skips – Detroit Hits! \nWhat up doe\, Detroit! Join us at The Norwood on Friday\, March 13 at 9:00 PM as we celebrate 313 Day weekend with a night full of hometown R&B hits and classic vibes. \nExpect a soundtrack packed with Detroit favorites\, timeless R&B classics\, and songs you know word for word. From the first track to the last\, it’s all hits and no skips. \n🎧 Music by:DJ RampageDJ Fatboy \n✨ What to expect:• Detroit R&B classics & throwbacks• High-energy dance floor vibes• A true 313 Day celebration \nBring your crew\, grab a drink\, and celebrate the sound of Detroit the way it should be. \nDoors open at 9 PM. Don’t miss it.
URL:https://detroitartdao.com/event/rb-fridays-no-skips-detroit-hits
LOCATION:The Norwood\, 6531 Woodward Avenue\, Detroit\, MI\, 48202\, United States
ATTACH;FMTTYPE=image/jpeg:https://dpop.nyc3.digitaloceanspaces.com/wp-content/uploads/2026/03/07201647/d49a5c0802ad117c7481ee5d3dd3acfc-1.jpg
GEO:42.3694879;-83.073206
X-APPLE-STRUCTURED-LOCATION;VALUE=URI;X-ADDRESS=The Norwood 6531 Woodward Avenue Detroit MI 48202 United States;X-APPLE-RADIUS=500;X-TITLE=6531 Woodward Avenue:geo:-83.073206,42.3694879
END:VEVENT
BEGIN:VEVENT
DTSTART;TZID=America/Detroit:20260313T200000
DTEND;TZID=America/Detroit:20260314T020000
DTSTAMP:20260420T114904
CREATED:20260312T145309Z
LAST-MODIFIED:20260313T150210Z
UID:10017212-1773432000-1773453600@detroitartdao.com
SUMMARY:Live Jazz
DESCRIPTION:
URL:https://detroitartdao.com/event/live-jazz-6
LOCATION:MotorCity Wine\, 1949 Michigan Avenue\, Detroit\, MI\, 48216
CATEGORIES:TheDetroitILove
GEO:42.3311806;-83.0730097
X-APPLE-STRUCTURED-LOCATION;VALUE=URI;X-ADDRESS=MotorCity Wine 1949 Michigan Avenue Detroit MI 48216;X-APPLE-RADIUS=500;X-TITLE=1949 Michigan Avenue:geo:-83.0730097,42.3311806
END:VEVENT
BEGIN:VEVENT
DTSTART;TZID=America/Detroit:20260313T200000
DTEND;TZID=America/Detroit:20260314T020000
DTSTAMP:20260420T114904
CREATED:20260312T145225Z
LAST-MODIFIED:20260313T150211Z
UID:10017206-1773432000-1773453600@detroitartdao.com
SUMMARY:Second Opinion Tour
DESCRIPTION:
URL:https://detroitartdao.com/event/second-opinion-tour
LOCATION:Bleu Detroit\, 1540 Woodward Avenue\, Detroit\, MI\, 48226\, United States
CATEGORIES:TheDetroitILove
GEO:42.3356311;-83.0495202
X-APPLE-STRUCTURED-LOCATION;VALUE=URI;X-ADDRESS=Bleu Detroit 1540 Woodward Avenue Detroit MI 48226 United States;X-APPLE-RADIUS=500;X-TITLE=1540 Woodward Avenue:geo:-83.0495202,42.3356311
END:VEVENT
END:VCALENDAR