BEGIN:VCALENDAR
VERSION:2.0
PRODID:-//Discover Detroit Art - ECPv6.0.1//NONSGML v1.0//EN
CALSCALE:GREGORIAN
METHOD:PUBLISH
X-WR-CALNAME:Discover Detroit Art
X-ORIGINAL-URL:https://detroitartdao.com
X-WR-CALDESC:Events for Discover Detroit Art
REFRESH-INTERVAL;VALUE=DURATION:PT1H
X-Robots-Tag:noindex
X-PUBLISHED-TTL:PT1H
BEGIN:VTIMEZONE
TZID:America/Detroit
BEGIN:DAYLIGHT
TZOFFSETFROM:-0500
TZOFFSETTO:-0400
TZNAME:EDT
DTSTART:20250309T070000
END:DAYLIGHT
BEGIN:STANDARD
TZOFFSETFROM:-0400
TZOFFSETTO:-0500
TZNAME:EST
DTSTART:20251102T060000
END:STANDARD
END:VTIMEZONE
BEGIN:VEVENT
DTSTART;TZID=America/Detroit:20250828T210000
DTEND;TZID=America/Detroit:20250829T020000
DTSTAMP:20260422T020750
CREATED:20250827T213155Z
LAST-MODIFIED:20250828T214649Z
UID:10014953-1756414800-1756432800@detroitartdao.com
SUMMARY:Andrés
DESCRIPTION:
URL:https://detroitartdao.com/event/andres
LOCATION:UFO Bar\, 2110 Trumbull Street\, Detroit\, MI\, 48216
CATEGORIES:TheDetroitILove
GEO:42.3321892;-83.0669471
X-APPLE-STRUCTURED-LOCATION;VALUE=URI;X-ADDRESS=UFO Bar 2110 Trumbull Street Detroit MI 48216;X-APPLE-RADIUS=500;X-TITLE=2110 Trumbull Street:geo:-83.0669471,42.3321892
END:VEVENT
BEGIN:VEVENT
DTSTART;TZID=America/Detroit:20250828T210000
DTEND;TZID=America/Detroit:20250829T020000
DTSTAMP:20260422T020750
CREATED:20250827T213157Z
LAST-MODIFIED:20250828T214650Z
UID:10014954-1756414800-1756432800@detroitartdao.com
SUMMARY:MEMCO presents What The Funk
DESCRIPTION:
URL:https://detroitartdao.com/event/memco-presents-what-the-funk
LOCATION:Club Above\, 215 West Main Street\, Ann Arbor\, MI\, 48104
CATEGORIES:TheDetroitILove
GEO:42.2660881;-83.7146001
X-APPLE-STRUCTURED-LOCATION;VALUE=URI;X-ADDRESS=Club Above 215 West Main Street Ann Arbor MI 48104;X-APPLE-RADIUS=500;X-TITLE=215 West Main Street:geo:-83.7146001,42.2660881
END:VEVENT
BEGIN:VEVENT
DTSTART;TZID=America/Detroit:20250828T210000
DTEND;TZID=America/Detroit:20250829T030000
DTSTAMP:20260422T020750
CREATED:20250827T213154Z
LAST-MODIFIED:20250828T214647Z
UID:10014951-1756414800-1756436400@detroitartdao.com
SUMMARY:Lostless
DESCRIPTION:
URL:https://detroitartdao.com/event/lostless-5
LOCATION:Lincoln Factory\, 1331 Holden Street\, Detroit\, MI\, 48202
CATEGORIES:TheDetroitILove
GEO:42.3626399;-83.0819244
X-APPLE-STRUCTURED-LOCATION;VALUE=URI;X-ADDRESS=Lincoln Factory 1331 Holden Street Detroit MI 48202;X-APPLE-RADIUS=500;X-TITLE=1331 Holden Street:geo:-83.0819244,42.3626399
END:VEVENT
BEGIN:VEVENT
DTSTART;TZID=America/Detroit:20250828T220000
DTEND;TZID=America/Detroit:20250829T020000
DTSTAMP:20260422T020750
CREATED:20250827T213146Z
LAST-MODIFIED:20250828T214711Z
UID:10014948-1756418400-1756432800@detroitartdao.com
SUMMARY:Groove Nights
DESCRIPTION:
URL:https://detroitartdao.com/event/groove-nights-13
LOCATION:SPKR BOX\, 200 Grand River Avenue\, Detroit\, MI\, 48226\, United States
CATEGORIES:TheDetroitILove
GEO:42.3337987;-83.0499187
X-APPLE-STRUCTURED-LOCATION;VALUE=URI;X-ADDRESS=SPKR BOX 200 Grand River Avenue Detroit MI 48226 United States;X-APPLE-RADIUS=500;X-TITLE=200 Grand River Avenue:geo:-83.0499187,42.3337987
END:VEVENT
BEGIN:VEVENT
DTSTART;TZID=America/Detroit:20250828T220000
DTEND;TZID=America/Detroit:20250829T020000
DTSTAMP:20260422T020750
CREATED:20250827T213157Z
LAST-MODIFIED:20250828T214712Z
UID:10014955-1756418400-1756432800@detroitartdao.com
SUMMARY:Puzzlebox 30th Anniversary Party 2
DESCRIPTION:
URL:https://detroitartdao.com/event/puzzlebox-30th-anniversary-party-2
LOCATION:SPKR BOX\, 200 Grand River Avenue\, Detroit\, MI\, 48226\, United States
CATEGORIES:TheDetroitILove
GEO:42.3337987;-83.0499187
X-APPLE-STRUCTURED-LOCATION;VALUE=URI;X-ADDRESS=SPKR BOX 200 Grand River Avenue Detroit MI 48226 United States;X-APPLE-RADIUS=500;X-TITLE=200 Grand River Avenue:geo:-83.0499187,42.3337987
END:VEVENT
BEGIN:VEVENT
DTSTART;TZID=America/Detroit:20250828T230000
DTEND;TZID=America/Detroit:20250829T030000
DTSTAMP:20260422T020750
CREATED:20250827T213159Z
LAST-MODIFIED:20250828T214713Z
UID:10014956-1756422000-1756436400@detroitartdao.com
SUMMARY:Digging Deep
DESCRIPTION:
URL:https://detroitartdao.com/event/digging-deep-34
LOCATION:The Eagle Detroit\, 928 West McNichols Road\, Detroit\, MI\, 48203
CATEGORIES:TheDetroitILove
GEO:42.4178367;-83.1153867
X-APPLE-STRUCTURED-LOCATION;VALUE=URI;X-ADDRESS=The Eagle Detroit 928 West McNichols Road Detroit MI 48203;X-APPLE-RADIUS=500;X-TITLE=928 West McNichols Road:geo:-83.1153867,42.4178367
END:VEVENT
BEGIN:VEVENT
DTSTART;VALUE=DATE:20250829
DTEND;VALUE=DATE:20250903
DTSTAMP:20260422T020750
CREATED:20250828T214654Z
LAST-MODIFIED:20250829T220141Z
UID:10014981-1756425600-1756857599@detroitartdao.com
SUMMARY:Arts\, Beats\, and Eats
DESCRIPTION:
URL:https://detroitartdao.com/event/arts-beats-and-eats
LOCATION:Royal Oak\, Main st\, Royal Oak\, MI\, 48067\, United States
CATEGORIES:TheDetroitILove
GEO:42.486683;-83.128044
X-APPLE-STRUCTURED-LOCATION;VALUE=URI;X-ADDRESS=Royal Oak Main st Royal Oak MI 48067 United States;X-APPLE-RADIUS=500;X-TITLE=Main st:geo:-83.128044,42.486683
END:VEVENT
BEGIN:VEVENT
DTSTART;VALUE=DATE:20250829
DTEND;VALUE=DATE:20250903
DTSTAMP:20260422T020750
CREATED:20250828T214655Z
LAST-MODIFIED:20250829T220142Z
UID:10014982-1756425600-1756857599@detroitartdao.com
SUMMARY:Detroit Jazz Festival
DESCRIPTION:
URL:https://detroitartdao.com/event/detroit-jazz-festival-2
LOCATION:Detroit
CATEGORIES:TheDetroitILove
GEO:42.3680073;-83.0723196
END:VEVENT
BEGIN:VEVENT
DTSTART;TZID=America/Detroit:20250829T130000
DTEND;TZID=America/Detroit:20250829T150000
DTSTAMP:20260422T020750
CREATED:20250730T164737Z
LAST-MODIFIED:20250829T220143Z
UID:10014442-1756472400-1756479600@detroitartdao.com
SUMMARY:(stream) Binural Frequencies
DESCRIPTION:
URL:https://detroitartdao.com/event/stream-binural-frequencies-25
LOCATION:Deep Space Radio
CATEGORIES:TheDetroitILove
END:VEVENT
BEGIN:VEVENT
DTSTART;TZID=America/Detroit:20250829T180000
DTEND;TZID=America/Detroit:20250829T190000
DTSTAMP:20260422T020750
CREATED:20250508T181721Z
LAST-MODIFIED:20250829T071641Z
UID:10013167-1756490400-1756494000@detroitartdao.com
SUMMARY:Monthly Zumba on the Southwest Greenway
DESCRIPTION:Boost your mood and dance your way to better health.
URL:https://detroitartdao.com/event/zumba-on-the-southwest-greenway-4
LOCATION:Southwest Greenway Bagley Trailhead\, 2209 Bagley Street\, Detroit\, MI\, 48216\, United States
ATTACH;FMTTYPE=image/jpeg:https://dpop.nyc3.digitaloceanspaces.com/wp-content/uploads/2025/05/08141720/b83d1402251cc377f751af78dabd74b1.jpg
GEO:42.3264565;-83.0737614
X-APPLE-STRUCTURED-LOCATION;VALUE=URI;X-ADDRESS=Southwest Greenway Bagley Trailhead 2209 Bagley Street Detroit MI 48216 United States;X-APPLE-RADIUS=500;X-TITLE=2209 Bagley Street:geo:-83.0737614,42.3264565
END:VEVENT
BEGIN:VEVENT
DTSTART;TZID=America/Detroit:20250829T180000
DTEND;TZID=America/Detroit:20250829T230000
DTSTAMP:20260422T020750
CREATED:20250827T213202Z
LAST-MODIFIED:20250829T220143Z
UID:10014960-1756490400-1756508400@detroitartdao.com
SUMMARY:DSC DECKS
DESCRIPTION:
URL:https://detroitartdao.com/event/dsc-decks
LOCATION:Detroit Shipping Company\, 474 Peterboro\, Detroit\, MI\, 48201\, us
CATEGORIES:TheDetroitILove
GEO:42.344227;-83.06156
X-APPLE-STRUCTURED-LOCATION;VALUE=URI;X-ADDRESS=Detroit Shipping Company 474 Peterboro Detroit MI 48201 us;X-APPLE-RADIUS=500;X-TITLE=474 Peterboro:geo:-83.06156,42.344227
END:VEVENT
BEGIN:VEVENT
DTSTART;TZID=America/Detroit:20250829T190000
DTEND;TZID=America/Detroit:20250829T230000
DTSTAMP:20260422T020750
CREATED:20250827T213210Z
LAST-MODIFIED:20250829T220145Z
UID:10014958-1756494000-1756508400@detroitartdao.com
SUMMARY:Turnstyles Monthly
DESCRIPTION:
URL:https://detroitartdao.com/event/turnstyles-monthly
LOCATION:Third Street Bar
CATEGORIES:TheDetroitILove
END:VEVENT
BEGIN:VEVENT
DTSTART;TZID=America/Detroit:20250829T190000
DTEND;TZID=America/Detroit:20250830T000000
DTSTAMP:20260422T020750
CREATED:20250827T213203Z
LAST-MODIFIED:20250829T220144Z
UID:10014962-1756494000-1756512000@detroitartdao.com
SUMMARY:BMR 2 YEAR ANNIVERSARY
DESCRIPTION:
URL:https://detroitartdao.com/event/bmr-2-year-anniversary
LOCATION:Moondog Café\, 8045 Linwood Street\, Detroit\, MI\, 48206
CATEGORIES:TheDetroitILove
GEO:42.3648326;-83.1032111
X-APPLE-STRUCTURED-LOCATION;VALUE=URI;X-ADDRESS=Moondog Café 8045 Linwood Street Detroit MI 48206;X-APPLE-RADIUS=500;X-TITLE=8045 Linwood Street:geo:-83.1032111,42.3648326
END:VEVENT
BEGIN:VEVENT
DTSTART;TZID=America/Detroit:20250829T200000
DTEND;TZID=America/Detroit:20250830T000000
DTSTAMP:20260422T020750
CREATED:20250827T213211Z
LAST-MODIFIED:20250829T220145Z
UID:10014959-1756497600-1756512000@detroitartdao.com
SUMMARY:The Outpost
DESCRIPTION:
URL:https://detroitartdao.com/event/the-outpost-14
LOCATION:Traverse City Whiskey Co. – Ferndale\, 22812 Woodward Avenue\, Ferndale\, MI\, 48220
CATEGORIES:TheDetroitILove
GEO:42.4608616;-83.1341785
X-APPLE-STRUCTURED-LOCATION;VALUE=URI;X-ADDRESS=Traverse City Whiskey Co. – Ferndale 22812 Woodward Avenue Ferndale MI 48220;X-APPLE-RADIUS=500;X-TITLE=22812 Woodward Avenue:geo:-83.1341785,42.4608616
END:VEVENT
BEGIN:VEVENT
DTSTART;TZID=America/Detroit:20250829T210000
DTEND;TZID=America/Detroit:20250829T210000
DTSTAMP:20260422T020750
CREATED:20250827T213212Z
LAST-MODIFIED:20250829T220146Z
UID:10014961-1756501200-1756501200@detroitartdao.com
SUMMARY:Urban Art Orchestra
DESCRIPTION:
URL:https://detroitartdao.com/event/urban-art-orchestra-4
LOCATION:Spot Lite\, 2905 Beaufait\, Detroit\, MI\, 48207
CATEGORIES:TheDetroitILove
GEO:42.3580524;-83.0167091
X-APPLE-STRUCTURED-LOCATION;VALUE=URI;X-ADDRESS=Spot Lite 2905 Beaufait Detroit MI 48207;X-APPLE-RADIUS=500;X-TITLE=2905 Beaufait:geo:-83.0167091,42.3580524
END:VEVENT
BEGIN:VEVENT
DTSTART;TZID=America/Detroit:20250829T210000
DTEND;TZID=America/Detroit:20250830T020000
DTSTAMP:20260422T020750
CREATED:20250827T213201Z
LAST-MODIFIED:20250829T220147Z
UID:10014957-1756501200-1756519200@detroitartdao.com
SUMMARY:Fiesta House
DESCRIPTION:
URL:https://detroitartdao.com/event/fiesta-house-11
LOCATION:Northern Lights\, 660 W Baltimore Street\, Detroit\, MI\, 48202
CATEGORIES:TheDetroitILove
GEO:42.3668984;-83.0766966
X-APPLE-STRUCTURED-LOCATION;VALUE=URI;X-ADDRESS=Northern Lights 660 W Baltimore Street Detroit MI 48202;X-APPLE-RADIUS=500;X-TITLE=660 W Baltimore Street:geo:-83.0766966,42.3668984
END:VEVENT
BEGIN:VEVENT
DTSTART;TZID=America/Detroit:20250829T210000
DTEND;TZID=America/Detroit:20250830T020000
DTSTAMP:20260422T020750
CREATED:20250827T213213Z
LAST-MODIFIED:20250829T220148Z
UID:10014963-1756501200-1756519200@detroitartdao.com
SUMMARY:Meet Gene Hunt
DESCRIPTION:
URL:https://detroitartdao.com/event/meet-gene-hunt
LOCATION:TV Lounge\, 2548 Grand River Avenue\, Detroit\, MI\, 48201\, United States
CATEGORIES:TheDetroitILove
GEO:42.3380472;-83.0625672
X-APPLE-STRUCTURED-LOCATION;VALUE=URI;X-ADDRESS=TV Lounge 2548 Grand River Avenue Detroit MI 48201 United States;X-APPLE-RADIUS=500;X-TITLE=2548 Grand River Avenue:geo:-83.0625672,42.3380472
END:VEVENT
BEGIN:VEVENT
DTSTART;TZID=America/Detroit:20250829T220000
DTEND;TZID=America/Detroit:20250830T020000
DTSTAMP:20260422T020750
CREATED:20250827T213215Z
LAST-MODIFIED:20250829T220211Z
UID:10014965-1756504800-1756519200@detroitartdao.com
SUMMARY:2000S NIGHT
DESCRIPTION:
URL:https://detroitartdao.com/event/2000s-night-3
LOCATION:Big Pink\, 6440 Wight Street\, Detroit\, MI
CATEGORIES:TheDetroitILove
GEO:42.3423259;-83.0073267
X-APPLE-STRUCTURED-LOCATION;VALUE=URI;X-ADDRESS=Big Pink 6440 Wight Street Detroit MI;X-APPLE-RADIUS=500;X-TITLE=6440 Wight Street:geo:-83.0073267,42.3423259
END:VEVENT
BEGIN:VEVENT
DTSTART;TZID=America/Detroit:20250829T220000
DTEND;TZID=America/Detroit:20250830T020000
DTSTAMP:20260422T020750
CREATED:20250827T213215Z
LAST-MODIFIED:20250829T220212Z
UID:10014966-1756504800-1756519200@detroitartdao.com
SUMMARY:Hottie’s World
DESCRIPTION:
URL:https://detroitartdao.com/event/hotties-world-3
LOCATION:UFO Bar\, 2110 Trumbull Street\, Detroit\, MI\, 48216
CATEGORIES:TheDetroitILove
GEO:42.3321892;-83.0669471
X-APPLE-STRUCTURED-LOCATION;VALUE=URI;X-ADDRESS=UFO Bar 2110 Trumbull Street Detroit MI 48216;X-APPLE-RADIUS=500;X-TITLE=2110 Trumbull Street:geo:-83.0669471,42.3321892
END:VEVENT
BEGIN:VEVENT
DTSTART;TZID=America/Detroit:20250829T220000
DTEND;TZID=America/Detroit:20250830T020000
DTSTAMP:20260422T020750
CREATED:20250827T213216Z
LAST-MODIFIED:20250829T220212Z
UID:10014967-1756504800-1756519200@detroitartdao.com
SUMMARY:Werk-U-Late
DESCRIPTION:
URL:https://detroitartdao.com/event/werk-u-late
LOCATION:SPKR BOX\, 200 Grand River Avenue\, Detroit\, MI\, 48226\, United States
CATEGORIES:TheDetroitILove
GEO:42.3337987;-83.0499187
X-APPLE-STRUCTURED-LOCATION;VALUE=URI;X-ADDRESS=SPKR BOX 200 Grand River Avenue Detroit MI 48226 United States;X-APPLE-RADIUS=500;X-TITLE=200 Grand River Avenue:geo:-83.0499187,42.3337987
END:VEVENT
BEGIN:VEVENT
DTSTART;TZID=America/Detroit:20250829T220000
DTEND;TZID=America/Detroit:20250830T020000
DTSTAMP:20260422T020750
CREATED:20250827T213217Z
LAST-MODIFIED:20250829T220213Z
UID:10014968-1756504800-1756519200@detroitartdao.com
SUMMARY:Interface
DESCRIPTION:
URL:https://detroitartdao.com/event/interface-33
LOCATION:SPKR BOX\, 200 Grand River Avenue\, Detroit\, MI\, 48226\, United States
CATEGORIES:TheDetroitILove
GEO:42.3337987;-83.0499187
X-APPLE-STRUCTURED-LOCATION;VALUE=URI;X-ADDRESS=SPKR BOX 200 Grand River Avenue Detroit MI 48226 United States;X-APPLE-RADIUS=500;X-TITLE=200 Grand River Avenue:geo:-83.0499187,42.3337987
END:VEVENT
BEGIN:VEVENT
DTSTART;TZID=America/Detroit:20250829T220000
DTEND;TZID=America/Detroit:20250830T070000
DTSTAMP:20260422T020750
CREATED:20250827T213214Z
LAST-MODIFIED:20250829T220211Z
UID:10014964-1756504800-1756537200@detroitartdao.com
SUMMARY:Sleep Olympics
DESCRIPTION:
URL:https://detroitartdao.com/event/sleep-olympics-7
LOCATION:Secret Location
CATEGORIES:TheDetroitILove
END:VEVENT
BEGIN:VEVENT
DTSTART;TZID=America/Detroit:20250829T230000
DTEND;TZID=America/Detroit:20250830T030000
DTSTAMP:20260422T020750
CREATED:20250827T213217Z
LAST-MODIFIED:20250829T220214Z
UID:10014969-1756508400-1756522800@detroitartdao.com
SUMMARY:All Night
DESCRIPTION:
URL:https://detroitartdao.com/event/all-night-7
LOCATION:The Eagle Detroit\, 928 West McNichols Road\, Detroit\, MI\, 48203
CATEGORIES:TheDetroitILove
GEO:42.4178367;-83.1153867
X-APPLE-STRUCTURED-LOCATION;VALUE=URI;X-ADDRESS=The Eagle Detroit 928 West McNichols Road Detroit MI 48203;X-APPLE-RADIUS=500;X-TITLE=928 West McNichols Road:geo:-83.1153867,42.4178367
END:VEVENT
BEGIN:VEVENT
DTSTART;VALUE=DATE:20250830
DTEND;VALUE=DATE:20250903
DTSTAMP:20260422T020750
CREATED:20250828T214709Z
LAST-MODIFIED:20250830T221654Z
UID:10014983-1756512000-1756857599@detroitartdao.com
SUMMARY:Hamtramck Labor Day Festival
DESCRIPTION:
URL:https://detroitartdao.com/event/hamtramck-labor-day-festival-3
LOCATION:Hamtramck
CATEGORIES:TheDetroitILove
END:VEVENT
BEGIN:VEVENT
DTSTART;TZID=America/Detroit:20250830T090000
DTEND;TZID=America/Detroit:20250830T100000
DTSTAMP:20260422T020750
CREATED:20250511T000238Z
LAST-MODIFIED:20250824T013242Z
UID:10013203-1756544400-1756548000@detroitartdao.com
SUMMARY:FREE Yoga at Palmer Park in partnership with the People for Palmer Park
DESCRIPTION:Format: Hatha Yoga This is a traditional yoga class for all levels\n Membership & Cost: FREE!  REGISTRATION IS REQUIRED
URL:https://detroitartdao.com/event/free-yoga-at-palmer-park-in-partnership-with-the-people-for-palmer-park-39
LOCATION:Palmer Park\, 910 Merrill Plaissance\, Detroit\, MI\, 48203\, United States
ATTACH;FMTTYPE=image/jpeg:https://detroitartdao.com/wp-content/uploads/2023/07/5755d60d20e717c5704136aca9ed9cf7.jpg
GEO:42.4266309;-83.1179848
X-APPLE-STRUCTURED-LOCATION;VALUE=URI;X-ADDRESS=Palmer Park 910 Merrill Plaissance Detroit MI 48203 United States;X-APPLE-RADIUS=500;X-TITLE=910 Merrill Plaissance:geo:-83.1179848,42.4266309
END:VEVENT
BEGIN:VEVENT
DTSTART;TZID=America/Detroit:20250830T110000
DTEND;TZID=America/Detroit:20250830T140000
DTSTAMP:20260422T020750
CREATED:20250731T165023Z
LAST-MODIFIED:20250830T221657Z
UID:10014497-1756551600-1756562400@detroitartdao.com
SUMMARY:(Radio) Essential Music
DESCRIPTION:
URL:https://detroitartdao.com/event/radio-essential-music-47
LOCATION:WDET
CATEGORIES:TheDetroitILove
END:VEVENT
BEGIN:VEVENT
DTSTART;TZID=America/Detroit:20250830T110000
DTEND;TZID=America/Detroit:20250830T150000
DTSTAMP:20260422T020750
CREATED:20250809T183425Z
LAST-MODIFIED:20250830T221656Z
UID:10014645-1756551600-1756566000@detroitartdao.com
SUMMARY:Saturday Grind
DESCRIPTION:
URL:https://detroitartdao.com/event/saturday-grind-85
LOCATION:SPKR BOX\, 200 Grand River Avenue\, Detroit\, MI\, 48226\, United States
CATEGORIES:TheDetroitILove
GEO:42.3337987;-83.0499187
X-APPLE-STRUCTURED-LOCATION;VALUE=URI;X-ADDRESS=SPKR BOX 200 Grand River Avenue Detroit MI 48226 United States;X-APPLE-RADIUS=500;X-TITLE=200 Grand River Avenue:geo:-83.0499187,42.3337987
END:VEVENT
BEGIN:VEVENT
DTSTART;TZID=America/Detroit:20250830T140000
DTEND;TZID=America/Detroit:20250830T160000
DTSTAMP:20260422T020750
CREATED:20250731T165026Z
LAST-MODIFIED:20250801T170555Z
UID:10014498-1756562400-1756569600@detroitartdao.com
SUMMARY:(Radio) Essential Music
DESCRIPTION:
URL:https://detroitartdao.com/event/radio-essential-music-48
LOCATION:WDET
CATEGORIES:TheDetroitILove
END:VEVENT
BEGIN:VEVENT
DTSTART;TZID=America/Detroit:20250830T160000
DTEND;TZID=America/Detroit:20250830T180000
DTSTAMP:20260422T020750
CREATED:20250731T165028Z
LAST-MODIFIED:20250830T221827Z
UID:10014499-1756569600-1756576800@detroitartdao.com
SUMMARY:(Radio) Modern Music
DESCRIPTION:
URL:https://detroitartdao.com/event/radio-modern-music-13
LOCATION:WDET
CATEGORIES:TheDetroitILove
END:VEVENT
BEGIN:VEVENT
DTSTART;TZID=America/Detroit:20250830T170000
DTEND;TZID=America/Detroit:20250830T190000
DTSTAMP:20260422T020750
CREATED:20250731T164903Z
LAST-MODIFIED:20250830T221657Z
UID:10014489-1756573200-1756580400@detroitartdao.com
SUMMARY:(stream) G.M.H.D.
DESCRIPTION:
URL:https://detroitartdao.com/event/stream-g-m-h-d-8
LOCATION:Deep Space Radio
CATEGORIES:TheDetroitILove
END:VEVENT
END:VCALENDAR