BEGIN:VCALENDAR
VERSION:2.0
PRODID:-//Discover Detroit Art - ECPv6.0.1//NONSGML v1.0//EN
CALSCALE:GREGORIAN
METHOD:PUBLISH
X-WR-CALNAME:Discover Detroit Art
X-ORIGINAL-URL:https://detroitartdao.com
X-WR-CALDESC:Events for Discover Detroit Art
REFRESH-INTERVAL;VALUE=DURATION:PT1H
X-Robots-Tag:noindex
X-PUBLISHED-TTL:PT1H
BEGIN:VTIMEZONE
TZID:America/Detroit
BEGIN:DAYLIGHT
TZOFFSETFROM:-0500
TZOFFSETTO:-0400
TZNAME:EDT
DTSTART:20250309T070000
END:DAYLIGHT
BEGIN:STANDARD
TZOFFSETFROM:-0400
TZOFFSETTO:-0500
TZNAME:EST
DTSTART:20251102T060000
END:STANDARD
END:VTIMEZONE
BEGIN:VEVENT
DTSTART;TZID=America/Detroit:20250831T090000
DTEND;TZID=America/Detroit:20250831T100000
DTSTAMP:20260424T075708
CREATED:20250601T001822Z
LAST-MODIFIED:20250831T013153Z
UID:10013509-1756630800-1756634400@detroitartdao.com
SUMMARY:FREE Yoga at Rouge Park in partnership with Friends of Rouge Park
DESCRIPTION:Format: Hatha Yoga This is a traditional yoga class for all levels\n Membership & Cost: FREE!  REGISTRATION IS REQUIRED
URL:https://detroitartdao.com/event/free-yoga-at-rouge-park-in-partnership-with-friends-of-rouge-park-50
LOCATION:Rouge Park\, 21415 Plymouth Rd.\, Detroit\, MI\, 48228\, United States
ATTACH;FMTTYPE=image/jpeg:https://detroitartdao.com/wp-content/uploads/2023/07/5755d60d20e717c5704136aca9ed9cf7.jpg
GEO:42.3711393;-83.2529007
X-APPLE-STRUCTURED-LOCATION;VALUE=URI;X-ADDRESS=Rouge Park 21415 Plymouth Rd. Detroit MI 48228 United States;X-APPLE-RADIUS=500;X-TITLE=21415 Plymouth Rd.:geo:-83.2529007,42.3711393
END:VEVENT
BEGIN:VEVENT
DTSTART;TZID=America/Detroit:20250831T090000
DTEND;TZID=America/Detroit:20250831T110000
DTSTAMP:20260424T075708
CREATED:20250801T170306Z
LAST-MODIFIED:20250831T223143Z
UID:10014505-1756630800-1756638000@detroitartdao.com
SUMMARY:(stream) Sunday Service
DESCRIPTION:
URL:https://detroitartdao.com/event/stream-sunday-service-25
LOCATION:Deep Space Radio
CATEGORIES:TheDetroitILove
END:VEVENT
BEGIN:VEVENT
DTSTART;TZID=America/Detroit:20250831T100000
DTEND;TZID=America/Detroit:20250831T160000
DTSTAMP:20260424T075708
CREATED:20250801T191417Z
LAST-MODIFIED:20250831T213135Z
UID:10014552-1756634400-1756656000@detroitartdao.com
SUMMARY:Sunday Market 2025
DESCRIPTION:Join us at our annual summer Sunday Market! \nSunday Market runs from 10 am to 4 pm\, June through September and features local craftsmen\, artisans\, clothing\, and apparel with events in Shed 5.
URL:https://detroitartdao.com/event/sunday-market-2025-6
LOCATION:Eastern Market\, 2934 Russell\, Detroit\, 48207\, United States
ATTACH;FMTTYPE=image/jpeg:https://dpop.nyc3.digitaloceanspaces.com/wp-content/uploads/2025/08/01151251/IMG_2540-scaled-D3znfA.tmp_.jpg
ORGANIZER;CN="Eastern%20Market%20Partnership":MAILTO:admin@easternmarket.org
GEO:42.3464643;-83.0397667
X-APPLE-STRUCTURED-LOCATION;VALUE=URI;X-ADDRESS=Eastern Market 2934 Russell Detroit 48207 United States;X-APPLE-RADIUS=500;X-TITLE=2934 Russell:geo:-83.0397667,42.3464643
END:VEVENT
BEGIN:VEVENT
DTSTART;TZID=America/Detroit:20250831T110000
DTEND;TZID=America/Detroit:20250831T120000
DTSTAMP:20260424T075708
CREATED:20250506T180236Z
LAST-MODIFIED:20250831T071641Z
UID:10013158-1756638000-1756641600@detroitartdao.com
SUMMARY:Intro to the Detroit Riverfront Walking Tour
DESCRIPTION:Explore the Detroit Riverfront and learn the history of the organization responsible for its stewardship!
URL:https://detroitartdao.com/event/intro-to-the-detroit-riverfront-walking-tour-17
LOCATION:Cullen Plaza\, 1340 Atwater Street\, Detroit\, MI\, 48207\, United States
ATTACH;FMTTYPE=image/jpeg:https://dpop.nyc3.digitaloceanspaces.com/wp-content/uploads/2025/05/06140211/4d7a05afd9fd3be6deb91f6f602e6009-1.jpg
GEO:42.3304259;-83.0318999
X-APPLE-STRUCTURED-LOCATION;VALUE=URI;X-ADDRESS=Cullen Plaza 1340 Atwater Street Detroit MI 48207 United States;X-APPLE-RADIUS=500;X-TITLE=1340 Atwater Street:geo:-83.0318999,42.3304259
END:VEVENT
BEGIN:VEVENT
DTSTART;TZID=America/Detroit:20250831T110000
DTEND;TZID=America/Detroit:20250831T130000
DTSTAMP:20260424T075708
CREATED:20250801T170605Z
LAST-MODIFIED:20250831T223147Z
UID:10014508-1756638000-1756645200@detroitartdao.com
SUMMARY:(Radio) Essential Music
DESCRIPTION:
URL:https://detroitartdao.com/event/radio-essential-music-49
LOCATION:WDET
CATEGORIES:TheDetroitILove
END:VEVENT
BEGIN:VEVENT
DTSTART;TZID=America/Detroit:20250831T110000
DTEND;TZID=America/Detroit:20250831T160000
DTSTAMP:20260424T075708
CREATED:20250801T170307Z
LAST-MODIFIED:20250831T223144Z
UID:10014506-1756638000-1756656000@detroitartdao.com
SUMMARY:SPKR BRNCH
DESCRIPTION:
URL:https://detroitartdao.com/event/spkr-brnch-53
LOCATION:SPKR BOX\, 200 Grand River Avenue\, Detroit\, MI\, 48226\, United States
CATEGORIES:TheDetroitILove
GEO:42.3337987;-83.0499187
X-APPLE-STRUCTURED-LOCATION;VALUE=URI;X-ADDRESS=SPKR BOX 200 Grand River Avenue Detroit MI 48226 United States;X-APPLE-RADIUS=500;X-TITLE=200 Grand River Avenue:geo:-83.0499187,42.3337987
END:VEVENT
BEGIN:VEVENT
DTSTART;TZID=America/Detroit:20250831T110000
DTEND;TZID=America/Detroit:20250831T160000
DTSTAMP:20260424T075708
CREATED:20250801T191403Z
LAST-MODIFIED:20250817T194940Z
UID:10014546-1756638000-1756656000@detroitartdao.com
SUMMARY:Detroit Sandwich Party 2025
DESCRIPTION:Come eat the best Detroit sandwiches with all of your best friends! \nDetroit Sandwich Party is a one-day festival for sandwich enthusiasts by sandwich enthusiasts in partnership with the North Corktown Neighborhood Association and Eastern Market Corporation. Growing from Carlos Parisi and friends’ Detroit Sandwich Week every December\, the summer Detroit Sandwich Party pays homage to the great sandwich makers of our beautiful city. \nAs the title suggests\, we gather as a community to celebrate the humble and delicious creation that is the sandwich. Sandwich party-ers will have the opportunity to purchase as many small-format sandwiches as they’d like from all around Detroit. Anyone who enjoys eating sandwiches is welcome to join us in our revelry that will include music\, drinks\, and of course\, many many sandwiches. \nThe Party is free to attend! \n  \nDetroit Sandwich Party is organized by three Detroiters: Carlos Parisi\, Will McDowell\, and Bekah Galang. By bringing together their restaurant industry and community organizing experience\, they are dedicated to organizing events that feed Detroiters both food and community. And honestly\, they just want to eat sandwiches with you. \nDetroit Sandwich Party is made possible by M4 CIC\, George Gregory\, DeVries & Co 1887\, Faygo Inc\, McClure’s Pickles\, Casamara Club\, Batch Brewing Company\, Marrow Detroit Provisions\, Citizens Bank\, Midtown Home Mortgage\, Cabresto Tequila\, Two James Spirits\, The Bridal Studio\, & Lume Cannabis Co.
URL:https://detroitartdao.com/event/detroit-sandwich-party-2025
LOCATION:Eastern Market\, Shed 5\, 2810 Russell St.\, Detroit\, MI\, 48207
ATTACH;FMTTYPE=image/jpeg:https://dpop.nyc3.digitaloceanspaces.com/wp-content/uploads/2025/08/01151406/509182329_122232983612238817_910214359857439189_n-BsGUq9.tmp_.jpg
ORGANIZER;CN="Detroit%20Sandwich%20Party":MAILTO:detroitsandwichparty@gmail.com
GEO:42.3484955;-83.0409411
X-APPLE-STRUCTURED-LOCATION;VALUE=URI;X-ADDRESS=Eastern Market Shed 5 2810 Russell St. Detroit MI 48207;X-APPLE-RADIUS=500;X-TITLE=2810 Russell St.:geo:-83.0409411,42.3484955
END:VEVENT
BEGIN:VEVENT
DTSTART;TZID=America/Detroit:20250831T110000
DTEND;TZID=America/Detroit:20250831T170000
DTSTAMP:20260424T075708
CREATED:20250821T201644Z
LAST-MODIFIED:20250831T213136Z
UID:10014826-1756638000-1756659600@detroitartdao.com
SUMMARY:Detroit Sandwich Party
DESCRIPTION:Come eat the best Detroit sandwiches with all of your best friends! \nDetroit Sandwich Party is a one-day festival for sandwich enthusiasts by sandwich enthusiasts in partnership with the North Corktown Neighborhood Association and Eastern Market Corporation. Growing from Carlos Parisi and friends’ Detroit Sandwich Week every December\, the summer Detroit Sandwich Party pays homage to the great sandwich makers of our beautiful city. \nAs the title suggests\, we gather as a community to celebrate the delicious creation that is the sandwich\, both sweet and savory. Sandwich Party-ers will have the opportunity to purchase as many small-format sandwiches as they’d like\, accompanied by beer\, wine\, and non-alcoholic beverages for sale. Anyone who enjoys eating sandwiches is welcome to join us in our revelry that will feature some of the most prominent and important sandwich makers all in one place for one day\, with no cost to attend. \nEastern Market Shed 5\n\n\n\n\n\n\n\n\n\n\n\n2810 Russell St\, Detroit\, MI 48207. Shed 5 is handicap accessible and has public restrooms. Other public restrooms will be open around Eastern Market as Detroit Sandwich Party takes place during Eastern Market’s Sunday Market. We encourage Party-goers to explore the market and vendors (alcoholic drinks must stay in Shed 5)! Free street parking is available throughout the district
URL:https://detroitartdao.com/event/detroit-sandwich-party-2
LOCATION:Eastern Market\, Shed 5\, 2810 Russell St.\, Detroit\, MI\, 48207
ATTACH;FMTTYPE=image/png:https://dpop.nyc3.digitaloceanspaces.com/wp-content/uploads/2025/08/21161645/6151591407826650306-XdhCfO.tmp_.png
GEO:42.3484955;-83.0409411
X-APPLE-STRUCTURED-LOCATION;VALUE=URI;X-ADDRESS=Eastern Market Shed 5 2810 Russell St. Detroit MI 48207;X-APPLE-RADIUS=500;X-TITLE=2810 Russell St.:geo:-83.0409411,42.3484955
END:VEVENT
BEGIN:VEVENT
DTSTART;TZID=America/Detroit:20250831T130000
DTEND;TZID=America/Detroit:20250831T150000
DTSTAMP:20260424T075708
CREATED:20250801T170605Z
LAST-MODIFIED:20250831T223342Z
UID:10014509-1756645200-1756652400@detroitartdao.com
SUMMARY:(Radio) Acoustic Café
DESCRIPTION:
URL:https://detroitartdao.com/event/radio-acoustic-cafe-13
LOCATION:WDET
CATEGORIES:TheDetroitILove
END:VEVENT
BEGIN:VEVENT
DTSTART;TZID=America/Detroit:20250831T160000
DTEND;TZID=America/Detroit:20250831T210000
DTSTAMP:20260424T075708
CREATED:20250831T223149Z
LAST-MODIFIED:20250831T223149Z
UID:10015010-1756656000-1756674000@detroitartdao.com
SUMMARY:Sanctified Sundays
DESCRIPTION:
URL:https://detroitartdao.com/event/sanctified-sundays-4
LOCATION:Third Street Bar
CATEGORIES:TheDetroitILove
END:VEVENT
BEGIN:VEVENT
DTSTART;TZID=America/Detroit:20250831T160000
DTEND;TZID=America/Detroit:20250831T210000
DTSTAMP:20260424T075708
CREATED:20250831T223150Z
LAST-MODIFIED:20250831T223150Z
UID:10015008-1756656000-1756674000@detroitartdao.com
SUMMARY:Sanctified Sundays
DESCRIPTION:
URL:https://detroitartdao.com/event/sanctified-sundays-5
LOCATION:Third Street Bar
CATEGORIES:TheDetroitILove
END:VEVENT
BEGIN:VEVENT
DTSTART;TZID=America/Detroit:20250831T170000
DTEND;TZID=America/Detroit:20250831T210000
DTSTAMP:20260424T075708
CREATED:20250831T223151Z
LAST-MODIFIED:20250831T223151Z
UID:10015009-1756659600-1756674000@detroitartdao.com
SUMMARY:Sunday Sessions
DESCRIPTION:
URL:https://detroitartdao.com/event/sunday-sessions-9
LOCATION:Kiesling Detroit\, 449 East Milwaukee\, Detroit\, MI\, 48202
CATEGORIES:TheDetroitILove
GEO:42.3713764;-83.0669763
X-APPLE-STRUCTURED-LOCATION;VALUE=URI;X-ADDRESS=Kiesling Detroit 449 East Milwaukee Detroit MI 48202;X-APPLE-RADIUS=500;X-TITLE=449 East Milwaukee:geo:-83.0669763,42.3713764
END:VEVENT
BEGIN:VEVENT
DTSTART;TZID=America/Detroit:20250831T170000
DTEND;TZID=America/Detroit:20250831T210000
DTSTAMP:20260424T075709
CREATED:20250831T223151Z
LAST-MODIFIED:20250831T223151Z
UID:10015012-1756659600-1756674000@detroitartdao.com
SUMMARY:Sunday Sessions
DESCRIPTION:
URL:https://detroitartdao.com/event/sunday-sessions-8
LOCATION:Kiesling Detroit\, 449 East Milwaukee\, Detroit\, MI\, 48202
CATEGORIES:TheDetroitILove
GEO:42.3713764;-83.0669763
X-APPLE-STRUCTURED-LOCATION;VALUE=URI;X-ADDRESS=Kiesling Detroit 449 East Milwaukee Detroit MI 48202;X-APPLE-RADIUS=500;X-TITLE=449 East Milwaukee:geo:-83.0669763,42.3713764
END:VEVENT
BEGIN:VEVENT
DTSTART;TZID=America/Detroit:20250831T180000
DTEND;TZID=America/Detroit:20250831T220000
DTSTAMP:20260424T075709
CREATED:20250831T000134Z
LAST-MODIFIED:20250831T000144Z
UID:10015005-1756663200-1756677600@detroitartdao.com
SUMMARY:ROOFTOP VIBRATIONS V
DESCRIPTION:We are back on the Rooftop for the latest edition of ROOFTOP VIBRATIONS – AMAPIANO all night featuring BLAKITO & YOUNGD.\n\n\nROOFTOP VIBRATIONS IV\nCome join us for an unforgettable evening at AVLI Rooftop Detroit 501 Monroe St on August 17\, 2025 at 6:00 PM (Eastern Time)! Get ready to vibe with great dance music (ampaiano)\, delicious food at Mati below\, and amazing culture. Don’t miss out on this amazing Labor Day Weekend event!
URL:https://detroitartdao.com/event/rooftop-vibrations-v
LOCATION:501 Monroe St\, 501 Monroe Street\, Detroit\, MI\, 48226\, United States
ATTACH;FMTTYPE=image/jpeg:https://dpop.nyc3.digitaloceanspaces.com/wp-content/uploads/2025/08/30200138/4c69ef97d1944645fd6b3a7b6861d087.jpg
GEO:42.3351266;-83.0424727
X-APPLE-STRUCTURED-LOCATION;VALUE=URI;X-ADDRESS=501 Monroe St 501 Monroe Street Detroit MI 48226 United States;X-APPLE-RADIUS=500;X-TITLE=501 Monroe Street:geo:-83.0424727,42.3351266
END:VEVENT
BEGIN:VEVENT
DTSTART;TZID=America/Detroit:20250831T190000
DTEND;TZID=America/Detroit:20250831T210000
DTSTAMP:20260424T075709
CREATED:20250801T134644Z
LAST-MODIFIED:20250831T170143Z
UID:10014503-1756666800-1756674000@detroitartdao.com
SUMMARY:Community Yoga with Citizen Yoga
DESCRIPTION:Take time to center yourself with FREE yoga classes led by a certified instructor from Citizen Yoga\, while enjoying the peace and serenity of this activity in the stunning Capitol Park in Downtown Detroit.  \nClasses are offered on Wednesdays and Sundays from July 27 to Aug. 31.  All skill levels are welcome. 
URL:https://detroitartdao.com/event/community-yoga-with-citizen-yoga-43
LOCATION:Capitol Park\, Capitol Park Historic District\, Detroit\, MI\, 48226\, United States
CATEGORIES:Capitol Park,Park Events
ATTACH;FMTTYPE=image/webp:https://dpop.nyc3.digitaloceanspaces.com/wp-content/uploads/2025/06/16081654/DDP_CitizenYoga_CapitolPark_20230719-46-scaled-2Ygn6I.tmp_.webp
GEO:42.3297931;-83.0466592
X-APPLE-STRUCTURED-LOCATION;VALUE=URI;X-ADDRESS=Capitol Park Capitol Park Historic District Detroit MI 48226 United States;X-APPLE-RADIUS=500;X-TITLE=Capitol Park Historic District:geo:-83.0466592,42.3297931
END:VEVENT
BEGIN:VEVENT
DTSTART;TZID=America/Detroit:20250831T190000
DTEND;TZID=America/Detroit:20250831T210000
DTSTAMP:20260424T075709
CREATED:20250801T134644Z
LAST-MODIFIED:20250801T134644Z
UID:10014504-1756666800-1756674000@detroitartdao.com
SUMMARY:Community Yoga with Citizen Yoga
DESCRIPTION:Take time to center yourself with FREE yoga classes led by a certified instructor from Citizen Yoga\, while enjoying the peace and serenity of this activity in the stunning Capitol Park in Downtown Detroit.  \nClasses are offered on Wednesdays and Sundays from July 27 to Aug. 31.  All skill levels are welcome. 
URL:https://detroitartdao.com/event/community-yoga-with-citizen-yoga-44
LOCATION:Capitol Park\, Capitol Park Historic District\, Detroit\, MI\, 48226\, United States
CATEGORIES:Capitol Park,Park Events
ATTACH;FMTTYPE=image/webp:https://dpop.nyc3.digitaloceanspaces.com/wp-content/uploads/2025/06/16081654/DDP_CitizenYoga_CapitolPark_20230719-46-scaled-2Ygn6I.tmp_.webp
GEO:42.3297931;-83.0466592
X-APPLE-STRUCTURED-LOCATION;VALUE=URI;X-ADDRESS=Capitol Park Capitol Park Historic District Detroit MI 48226 United States;X-APPLE-RADIUS=500;X-TITLE=Capitol Park Historic District:geo:-83.0466592,42.3297931
END:VEVENT
BEGIN:VEVENT
DTSTART;TZID=America/Detroit:20250831T200000
DTEND;TZID=America/Detroit:20250901T020000
DTSTAMP:20260424T075709
CREATED:20250801T170307Z
LAST-MODIFIED:20250831T223152Z
UID:10014507-1756670400-1756692000@detroitartdao.com
SUMMARY:Jennyoke
DESCRIPTION:
URL:https://detroitartdao.com/event/jennyoke-38
LOCATION:UFO Bar\, 2110 Trumbull Street\, Detroit\, MI\, 48216
CATEGORIES:TheDetroitILove
GEO:42.3321892;-83.0669471
X-APPLE-STRUCTURED-LOCATION;VALUE=URI;X-ADDRESS=UFO Bar 2110 Trumbull Street Detroit MI 48216;X-APPLE-RADIUS=500;X-TITLE=2110 Trumbull Street:geo:-83.0669471,42.3321892
END:VEVENT
BEGIN:VEVENT
DTSTART;TZID=America/Detroit:20250831T210000
DTEND;TZID=America/Detroit:20250901T020000
DTSTAMP:20260424T075709
CREATED:20250831T223153Z
LAST-MODIFIED:20250831T223153Z
UID:10015011-1756674000-1756692000@detroitartdao.com
SUMMARY:Planet Friendly
DESCRIPTION:
URL:https://detroitartdao.com/event/planet-friendly-3
LOCATION:Spot Lite\, 2905 Beaufait\, Detroit\, MI\, 48207
CATEGORIES:TheDetroitILove
GEO:42.3580524;-83.0167091
X-APPLE-STRUCTURED-LOCATION;VALUE=URI;X-ADDRESS=Spot Lite 2905 Beaufait Detroit MI 48207;X-APPLE-RADIUS=500;X-TITLE=2905 Beaufait:geo:-83.0167091,42.3580524
END:VEVENT
BEGIN:VEVENT
DTSTART;TZID=America/Detroit:20250831T210000
DTEND;TZID=America/Detroit:20250901T020000
DTSTAMP:20260424T075709
CREATED:20250831T223153Z
LAST-MODIFIED:20250831T223153Z
UID:10015015-1756674000-1756692000@detroitartdao.com
SUMMARY:Planet Friendly
DESCRIPTION:
URL:https://detroitartdao.com/event/planet-friendly-2
LOCATION:Spot Lite\, 2905 Beaufait\, Detroit\, MI\, 48207
CATEGORIES:TheDetroitILove
GEO:42.3580524;-83.0167091
X-APPLE-STRUCTURED-LOCATION;VALUE=URI;X-ADDRESS=Spot Lite 2905 Beaufait Detroit MI 48207;X-APPLE-RADIUS=500;X-TITLE=2905 Beaufait:geo:-83.0167091,42.3580524
END:VEVENT
BEGIN:VEVENT
DTSTART;TZID=America/Detroit:20250831T210000
DTEND;TZID=America/Detroit:20250901T020000
DTSTAMP:20260424T075709
CREATED:20250831T223154Z
LAST-MODIFIED:20250831T223154Z
UID:10015013-1756674000-1756692000@detroitartdao.com
SUMMARY:Detroit Love
DESCRIPTION:
URL:https://detroitartdao.com/event/detroit-love-6
LOCATION:TV Lounge\, 2548 Grand River Avenue\, Detroit\, MI\, 48201\, United States
CATEGORIES:TheDetroitILove
GEO:42.3380472;-83.0625672
X-APPLE-STRUCTURED-LOCATION;VALUE=URI;X-ADDRESS=TV Lounge 2548 Grand River Avenue Detroit MI 48201 United States;X-APPLE-RADIUS=500;X-TITLE=2548 Grand River Avenue:geo:-83.0625672,42.3380472
END:VEVENT
BEGIN:VEVENT
DTSTART;TZID=America/Detroit:20250831T210000
DTEND;TZID=America/Detroit:20250901T020000
DTSTAMP:20260424T075709
CREATED:20250831T223154Z
LAST-MODIFIED:20250831T223154Z
UID:10015016-1756674000-1756692000@detroitartdao.com
SUMMARY:Detroit Love
DESCRIPTION:
URL:https://detroitartdao.com/event/detroit-love-5
LOCATION:TV Lounge\, 2548 Grand River Avenue\, Detroit\, MI\, 48201\, United States
CATEGORIES:TheDetroitILove
GEO:42.3380472;-83.0625672
X-APPLE-STRUCTURED-LOCATION;VALUE=URI;X-ADDRESS=TV Lounge 2548 Grand River Avenue Detroit MI 48201 United States;X-APPLE-RADIUS=500;X-TITLE=2548 Grand River Avenue:geo:-83.0625672,42.3380472
END:VEVENT
BEGIN:VEVENT
DTSTART;TZID=America/Detroit:20250831T220000
DTEND;TZID=America/Detroit:20250901T020000
DTSTAMP:20260424T075709
CREATED:20250831T223155Z
LAST-MODIFIED:20250831T223155Z
UID:10015014-1756677600-1756692000@detroitartdao.com
SUMMARY:Foggy Sundays – Third Time’s A Charm
DESCRIPTION:
URL:https://detroitartdao.com/event/foggy-sundays-third-times-a-charm-2
LOCATION:SPKR BOX\, 200 Grand River Avenue\, Detroit\, MI\, 48226\, United States
CATEGORIES:TheDetroitILove
GEO:42.3337987;-83.0499187
X-APPLE-STRUCTURED-LOCATION;VALUE=URI;X-ADDRESS=SPKR BOX 200 Grand River Avenue Detroit MI 48226 United States;X-APPLE-RADIUS=500;X-TITLE=200 Grand River Avenue:geo:-83.0499187,42.3337987
END:VEVENT
BEGIN:VEVENT
DTSTART;TZID=America/Detroit:20250831T220000
DTEND;TZID=America/Detroit:20250901T020000
DTSTAMP:20260424T075709
CREATED:20250831T223155Z
LAST-MODIFIED:20250831T223155Z
UID:10015017-1756677600-1756692000@detroitartdao.com
SUMMARY:Foggy Sundays – Third Time’s A Charm
DESCRIPTION:
URL:https://detroitartdao.com/event/foggy-sundays-third-times-a-charm
LOCATION:SPKR BOX\, 200 Grand River Avenue\, Detroit\, MI\, 48226\, United States
CATEGORIES:TheDetroitILove
GEO:42.3337987;-83.0499187
X-APPLE-STRUCTURED-LOCATION;VALUE=URI;X-ADDRESS=SPKR BOX 200 Grand River Avenue Detroit MI 48226 United States;X-APPLE-RADIUS=500;X-TITLE=200 Grand River Avenue:geo:-83.0499187,42.3337987
END:VEVENT
BEGIN:VEVENT
DTSTART;TZID=America/Detroit:20250901T000000
DTEND;TZID=America/Detroit:20250901T020000
DTSTAMP:20260424T075709
CREATED:20250801T170606Z
LAST-MODIFIED:20250831T223343Z
UID:10014510-1756684800-1756692000@detroitartdao.com
SUMMARY:(Radio) The Boulevard
DESCRIPTION:
URL:https://detroitartdao.com/event/radio-the-boulevard-35
LOCATION:WDET
CATEGORIES:TheDetroitILove
END:VEVENT
BEGIN:VEVENT
DTSTART;VALUE=DATE:20250901
DTEND;VALUE=DATE:20251002
DTSTAMP:20260424T075709
CREATED:20250831T223156Z
LAST-MODIFIED:20250901T224645Z
UID:10015018-1756684800-1759363199@detroitartdao.com
SUMMARY:Detroit Month of Design
DESCRIPTION:
URL:https://detroitartdao.com/event/detroit-month-of-design
LOCATION:Detroit
CATEGORIES:TheDetroitILove
GEO:42.3680073;-83.0723196
END:VEVENT
BEGIN:VEVENT
DTSTART;TZID=America/Detroit:20250901T160000
DTEND;TZID=America/Detroit:20250902T020000
DTSTAMP:20260424T075709
CREATED:20250901T224645Z
LAST-MODIFIED:20250901T224646Z
UID:10015022-1756742400-1756778400@detroitartdao.com
SUMMARY:Monday Is the New Monday
DESCRIPTION:
URL:https://detroitartdao.com/event/monday-is-the-new-monday-16
LOCATION:MotorCity Wine\, 1949 Michigan Avenue\, Detroit\, MI\, 48216
CATEGORIES:TheDetroitILove
GEO:42.3311806;-83.0730097
X-APPLE-STRUCTURED-LOCATION;VALUE=URI;X-ADDRESS=MotorCity Wine 1949 Michigan Avenue Detroit MI 48216;X-APPLE-RADIUS=500;X-TITLE=1949 Michigan Avenue:geo:-83.0730097,42.3311806
END:VEVENT
BEGIN:VEVENT
DTSTART;TZID=America/Detroit:20250901T180000
DTEND;TZID=America/Detroit:20250901T190000
DTSTAMP:20260424T075709
CREATED:20250511T000247Z
LAST-MODIFIED:20250831T013157Z
UID:10013221-1756749600-1756753200@detroitartdao.com
SUMMARY:FREE Yoga at Eliza Howell Park in partnership with Detroit Parks Coalition
DESCRIPTION:Format: Hatha Yoga This is a traditional yoga class for all levels\n Membership & Cost: FREE!  REGISTRATION IS REQUIRED
URL:https://detroitartdao.com/event/free-yoga-at-eliza-howell-park-in-partnership-with-detroit-parks-coalition-31
LOCATION:23751 Fenkell Ave\, 23751 Fenkell Avenue\, Detroit\, MI\, 48223\, United States
ATTACH;FMTTYPE=image/jpeg:https://detroitartdao.com/wp-content/uploads/2023/07/5755d60d20e717c5704136aca9ed9cf7.jpg
GEO:42.3999689;-83.2731852
X-APPLE-STRUCTURED-LOCATION;VALUE=URI;X-ADDRESS=23751 Fenkell Ave 23751 Fenkell Avenue Detroit MI 48223 United States;X-APPLE-RADIUS=500;X-TITLE=23751 Fenkell Avenue:geo:-83.2731852,42.3999689
END:VEVENT
BEGIN:VEVENT
DTSTART;TZID=America/Detroit:20250901T200000
DTEND;TZID=America/Detroit:20250901T220000
DTSTAMP:20260424T075709
CREATED:20250802T171749Z
LAST-MODIFIED:20250901T224647Z
UID:10014556-1756756800-1756764000@detroitartdao.com
SUMMARY:In The Mix
DESCRIPTION:
URL:https://detroitartdao.com/event/in-the-mix-8
LOCATION:Deep Space Radio
CATEGORIES:TheDetroitILove
END:VEVENT
BEGIN:VEVENT
DTSTART;TZID=America/Detroit:20250901T220000
DTEND;TZID=America/Detroit:20250902T020000
DTSTAMP:20260424T075709
CREATED:20250805T180242Z
LAST-MODIFIED:20250901T224647Z
UID:10014580-1756764000-1756778400@detroitartdao.com
SUMMARY:(weekly) Slow Jams
DESCRIPTION:
URL:https://detroitartdao.com/event/weekly-slow-jams-101
LOCATION:Woodbridge Pub\, 5169 Trumbull Street\, Detroit\, MI\, 48208
CATEGORIES:TheDetroitILove
GEO:42.3540344;-83.0801597
X-APPLE-STRUCTURED-LOCATION;VALUE=URI;X-ADDRESS=Woodbridge Pub 5169 Trumbull Street Detroit MI 48208;X-APPLE-RADIUS=500;X-TITLE=5169 Trumbull Street:geo:-83.0801597,42.3540344
END:VEVENT
BEGIN:VEVENT
DTSTART;TZID=America/Detroit:20250901T220000
DTEND;TZID=America/Detroit:20250902T020000
DTSTAMP:20260424T075709
CREATED:20250901T224648Z
LAST-MODIFIED:20250901T224648Z
UID:10015023-1756764000-1756778400@detroitartdao.com
SUMMARY:Dezi’s Listening Room
DESCRIPTION:
URL:https://detroitartdao.com/event/dezis-listening-room-5
LOCATION:SPKR BOX\, 200 Grand River Avenue\, Detroit\, MI\, 48226\, United States
CATEGORIES:TheDetroitILove
GEO:42.3337987;-83.0499187
X-APPLE-STRUCTURED-LOCATION;VALUE=URI;X-ADDRESS=SPKR BOX 200 Grand River Avenue Detroit MI 48226 United States;X-APPLE-RADIUS=500;X-TITLE=200 Grand River Avenue:geo:-83.0499187,42.3337987
END:VEVENT
END:VCALENDAR