BEGIN:VCALENDAR
VERSION:2.0
PRODID:-//Discover Detroit Art - ECPv6.0.1//NONSGML v1.0//EN
CALSCALE:GREGORIAN
METHOD:PUBLISH
X-WR-CALNAME:Discover Detroit Art
X-ORIGINAL-URL:https://detroitartdao.com
X-WR-CALDESC:Events for Discover Detroit Art
REFRESH-INTERVAL;VALUE=DURATION:PT1H
X-Robots-Tag:noindex
X-PUBLISHED-TTL:PT1H
BEGIN:VTIMEZONE
TZID:America/Detroit
BEGIN:DAYLIGHT
TZOFFSETFROM:-0500
TZOFFSETTO:-0400
TZNAME:EDT
DTSTART:20250309T070000
END:DAYLIGHT
BEGIN:STANDARD
TZOFFSETFROM:-0400
TZOFFSETTO:-0500
TZNAME:EST
DTSTART:20251102T060000
END:STANDARD
END:VTIMEZONE
BEGIN:VEVENT
DTSTART;TZID=America/Detroit:20250130T220000
DTEND;TZID=America/Detroit:20250131T020000
DTSTAMP:20260420T131014
CREATED:20250130T170144Z
LAST-MODIFIED:20250130T170205Z
UID:10012025-1738274400-1738288800@detroitartdao.com
SUMMARY:Zest
DESCRIPTION:
URL:https://detroitartdao.com/event/zest
LOCATION:SPKR BOX\, 200 Grand River Avenue\, Detroit\, MI\, 48226\, United States
CATEGORIES:TheDetroitILove
GEO:42.3337987;-83.0499187
X-APPLE-STRUCTURED-LOCATION;VALUE=URI;X-ADDRESS=SPKR BOX 200 Grand River Avenue Detroit MI 48226 United States;X-APPLE-RADIUS=500;X-TITLE=200 Grand River Avenue:geo:-83.0499187,42.3337987
END:VEVENT
BEGIN:VEVENT
DTSTART;TZID=America/Detroit:20250130T230000
DTEND;TZID=America/Detroit:20250131T040000
DTSTAMP:20260420T131014
CREATED:20250130T170144Z
LAST-MODIFIED:20250130T170206Z
UID:10012027-1738278000-1738296000@detroitartdao.com
SUMMARY:Digging Deep
DESCRIPTION:
URL:https://detroitartdao.com/event/digging-deep-18
LOCATION:The Eagle Detroit\, 928 West McNichols Road\, Detroit\, MI\, 48203
CATEGORIES:TheDetroitILove
GEO:42.4178367;-83.1153867
X-APPLE-STRUCTURED-LOCATION;VALUE=URI;X-ADDRESS=The Eagle Detroit 928 West McNichols Road Detroit MI 48203;X-APPLE-RADIUS=500;X-TITLE=928 West McNichols Road:geo:-83.1153867,42.4178367
END:VEVENT
BEGIN:VEVENT
DTSTART;TZID=America/Detroit:20250131T180000
DTEND;TZID=America/Detroit:20250131T210000
DTSTAMP:20260420T131014
CREATED:20241217T223140Z
LAST-MODIFIED:20250131T041651Z
UID:10011681-1738346400-1738357200@detroitartdao.com
SUMMARY:Fireside Fridays with the Karaoke Kingz
DESCRIPTION:Kick off your winter weekends with all-ages karaoke\, indoor and outdoor games\, food and warm drinks\, and oversized outdoor fireplaces!
URL:https://detroitartdao.com/event/fireside-fridays-with-the-karaoke-kingz-4
LOCATION:Robert C. Valade Park\, 2670 Atwater Street\, Detroit\, MI\, 48207\, United States
ATTACH;FMTTYPE=image/jpeg:https://dpop.nyc3.digitaloceanspaces.com/wp-content/uploads/2024/12/17173140/7cb5d6d5ef35b5d5dcb0dc8d937e513a-1.jpg
GEO:42.3351151;-83.0198724
X-APPLE-STRUCTURED-LOCATION;VALUE=URI;X-ADDRESS=Robert C. Valade Park 2670 Atwater Street Detroit MI 48207 United States;X-APPLE-RADIUS=500;X-TITLE=2670 Atwater Street:geo:-83.0198724,42.3351151
END:VEVENT
BEGIN:VEVENT
DTSTART;TZID=America/Detroit:20250131T180000
DTEND;TZID=America/Detroit:20250131T210000
DTSTAMP:20260420T131014
CREATED:20250130T170145Z
LAST-MODIFIED:20250131T171638Z
UID:10012030-1738346400-1738357200@detroitartdao.com
SUMMARY:Lunar New Year Celebration
DESCRIPTION:
URL:https://detroitartdao.com/event/lunar-new-year-celebration
LOCATION:Moondog Café\, 8045 Linwood Street\, Detroit\, MI\, 48206
CATEGORIES:TheDetroitILove
GEO:42.3648326;-83.1032111
X-APPLE-STRUCTURED-LOCATION;VALUE=URI;X-ADDRESS=Moondog Café 8045 Linwood Street Detroit MI 48206;X-APPLE-RADIUS=500;X-TITLE=8045 Linwood Street:geo:-83.1032111,42.3648326
END:VEVENT
BEGIN:VEVENT
DTSTART;TZID=America/Detroit:20250131T210000
DTEND;TZID=America/Detroit:20250201T020000
DTSTAMP:20260420T131014
CREATED:20250123T233143Z
LAST-MODIFIED:20250131T171639Z
UID:10011930-1738357200-1738375200@detroitartdao.com
SUMMARY:The Magic Touch
DESCRIPTION:
URL:https://detroitartdao.com/event/the-magic-touch
LOCATION:TV Lounge\, 2548 Grand River Avenue\, Detroit\, MI\, 48201\, United States
CATEGORIES:TheDetroitILove
GEO:42.3380472;-83.0625672
X-APPLE-STRUCTURED-LOCATION;VALUE=URI;X-ADDRESS=TV Lounge 2548 Grand River Avenue Detroit MI 48201 United States;X-APPLE-RADIUS=500;X-TITLE=2548 Grand River Avenue:geo:-83.0625672,42.3380472
END:VEVENT
BEGIN:VEVENT
DTSTART;TZID=America/Detroit:20250131T210000
DTEND;TZID=America/Detroit:20250201T020000
DTSTAMP:20260420T131014
CREATED:20250125T210140Z
LAST-MODIFIED:20250125T210140Z
UID:10011963-1738357200-1738375200@detroitartdao.com
SUMMARY:✨ *Grown Folks Fridays*
DESCRIPTION:Get ready for a night of good music\, great vibes\, and grown folks fun every Friday!
URL:https://detroitartdao.com/event/%e2%9c%a8-grown-folks-fridays
LOCATION:6531 Woodward Ave\, 6531 Woodward Avenue\, Detroit\, MI\, 48202\, United States
ATTACH;FMTTYPE=image/jpeg:https://dpop.nyc3.digitaloceanspaces.com/wp-content/uploads/2025/01/25160141/667dfdfe0fd119f291b8cff639918af7.jpg
GEO:42.3694879;-83.073206
X-APPLE-STRUCTURED-LOCATION;VALUE=URI;X-ADDRESS=6531 Woodward Ave 6531 Woodward Avenue Detroit MI 48202 United States;X-APPLE-RADIUS=500;X-TITLE=6531 Woodward Avenue:geo:-83.073206,42.3694879
END:VEVENT
BEGIN:VEVENT
DTSTART;TZID=America/Detroit:20250131T210000
DTEND;TZID=America/Detroit:20250201T020000
DTSTAMP:20260420T131014
CREATED:20250125T210141Z
LAST-MODIFIED:20250125T210141Z
UID:10011964-1738357200-1738375200@detroitartdao.com
SUMMARY:✨ *Grown Folks Fridays*
DESCRIPTION:Get ready for a night of good music\, great vibes\, and grown folks fun every Friday!
URL:https://detroitartdao.com/event/%e2%9c%a8-grown-folks-fridays-2
LOCATION:6531 Woodward Ave\, 6531 Woodward Avenue\, Detroit\, MI\, 48202\, United States
ATTACH;FMTTYPE=image/jpeg:https://dpop.nyc3.digitaloceanspaces.com/wp-content/uploads/2025/01/25160142/667dfdfe0fd119f291b8cff639918af7-1.jpg
GEO:42.3694879;-83.073206
X-APPLE-STRUCTURED-LOCATION;VALUE=URI;X-ADDRESS=6531 Woodward Ave 6531 Woodward Avenue Detroit MI 48202 United States;X-APPLE-RADIUS=500;X-TITLE=6531 Woodward Avenue:geo:-83.073206,42.3694879
END:VEVENT
BEGIN:VEVENT
DTSTART;TZID=America/Detroit:20250201T083000
DTEND;TZID=America/Detroit:20250201T092000
DTSTAMP:20260420T131014
CREATED:20250102T134643Z
LAST-MODIFIED:20250201T151641Z
UID:10011721-1738398600-1738401600@detroitartdao.com
SUMMARY:Little Red Wings – Learn To Play Clinics
DESCRIPTION:Thank you for your interest in the Learn to Play Hockey Program sponsored by the Michigan Amateur Hockey Association\, the Little Red Wings and the Detroit Downtown Partnership. \nThe six-week session for players ages 5-9\, will run on Saturday mornings from 8:30 A.M. – 9:20 A.M. on the Rink at Campus Martius Presented By Visit Detroit.  The sessions will be on January 11\, 18\, 25\, and February 1\, 8\, 15.  The cost will be $25\, payable at the first session.  If you attend all 6 sessions\, the $25 will be refunded.  Space is limited\, and no experience is necessary. \nFREE hockey equipment will be provided by the Little Red Wings.  Once you are registered\, a link will be emailed to you to order the equipment. \nRegister Here: https://maha.sportngin.com/register/form/517168777
URL:https://detroitartdao.com/event/little-red-wings-learn-to-play-clinics-4
LOCATION:Campus Martius Park
CATEGORIES:Campus Martius,Park Events
ATTACH;FMTTYPE=image/webp:https://dpop.nyc3.digitaloceanspaces.com/wp-content/uploads/2024/12/12073150/Koss_DDP_NationalHockeyDay2019_Supplemental-77-scaled-1huIhK.tmp_.webp
GEO:42.3314128;-83.0465629
END:VEVENT
BEGIN:VEVENT
DTSTART;TZID=America/Detroit:20250201T110000
DTEND;TZID=America/Detroit:20250201T150000
DTSTAMP:20260420T131014
CREATED:20250125T234646Z
LAST-MODIFIED:20250201T171637Z
UID:10011996-1738407600-1738422000@detroitartdao.com
SUMMARY:Saturday Grind
DESCRIPTION:
URL:https://detroitartdao.com/event/saturday-grind-56
LOCATION:SPKR BOX\, 200 Grand River Avenue\, Detroit\, MI\, 48226\, United States
CATEGORIES:TheDetroitILove
GEO:42.3337987;-83.0499187
X-APPLE-STRUCTURED-LOCATION;VALUE=URI;X-ADDRESS=SPKR BOX 200 Grand River Avenue Detroit MI 48226 United States;X-APPLE-RADIUS=500;X-TITLE=200 Grand River Avenue:geo:-83.0499187,42.3337987
END:VEVENT
BEGIN:VEVENT
DTSTART;TZID=America/Detroit:20250201T140000
DTEND;TZID=America/Detroit:20250201T160000
DTSTAMP:20260420T131014
CREATED:20250123T001634Z
LAST-MODIFIED:20250201T013133Z
UID:10011927-1738418400-1738425600@detroitartdao.com
SUMMARY:Closing Reception + Artist Talk: Dustin Cook on "Contours"
DESCRIPTION:Join Dustin Cook for his Closing Reception with an in-person conversation and Artist Talk about “Contours.” on the last day of his exhibit.\n\n\nJoin featured artist\, Dustin Cook for his Closing Reception with an in-person conversation and Artist Talk about “Contours.” \n \nDustin Cook (b.1995) is an artist living and working in Detroit\, Michigan. As an abstract artist\, his work is a vibrant exploration of color\, energy\, and the interplay between form and atmosphere.  \n \n“My artistic process is driven by a playful and intuitive approach. Using bold\, clean lines and geometric precision\, I create compositions that dance with rhythmic vitality\, inviting the viewer to immerse themselves in a world of dynamic abstraction.” \n \nThe shaped canvases in his solo exhibition\, “Contours” redefine the traditional canvas\, creating abstract pieces that are as much about the physical form as they are about the interplay of color and texture. Dustin Cook’s abstract paintings invite the viewer to find their own meaning within the interplay of color and form. \n \n“Color plays a pivotal role in my work\, acting as a conduit for expressing the rich and varied emotional qualities found in nature and the urban environment. I employ a vibrant palette that harmonizes contrasting hues\, creating a sense of harmony and tension within the canvas. By harnessing the power of color\, I aim to evoke the essence of different atmospheres\, whether it be the tranquil serenity of a flowing river or the pulsating energy of a bustling cityscape.”  \n \nHis art aims to evoke a sense of joy\, wonder\, and contemplation. I strive to create visual experiences that invite viewers into a realm where color\, energy\, and form coalesce\, transcending the boundaries of the tangible world. Through the language of abstraction\, he seeks to capture the dynamism of our surroundings\, drawing inspiration from the beauty of nature\, the boldness of architectural forms\, and the pulsating energy of urban life. \n \nThis is the last day to view the exhibition in-person.
URL:https://detroitartdao.com/event/closing-reception-artist-talk-dustin-cook-on-contours
LOCATION:PLAYGROUND DETROIT Gallery\, 2845 Gratiot Avenue\, Detroit\, MI\, 48207\, United States
CATEGORIES:Art
ATTACH;FMTTYPE=image/jpeg:https://dpop.nyc3.digitaloceanspaces.com/wp-content/uploads/2025/01/22191641/b44a858c103c8eb92b1317c0d01a662e-1.jpg
GEO:42.355062;-83.0307461
X-APPLE-STRUCTURED-LOCATION;VALUE=URI;X-ADDRESS=PLAYGROUND DETROIT Gallery 2845 Gratiot Avenue Detroit MI 48207 United States;X-APPLE-RADIUS=500;X-TITLE=2845 Gratiot Avenue:geo:-83.0307461,42.355062
END:VEVENT
BEGIN:VEVENT
DTSTART;TZID=America/Detroit:20250201T210000
DTEND;TZID=America/Detroit:20250202T020000
DTSTAMP:20260420T131014
CREATED:20250123T233152Z
LAST-MODIFIED:20250201T171637Z
UID:10011931-1738443600-1738461600@detroitartdao.com
SUMMARY:Jimpster
DESCRIPTION:
URL:https://detroitartdao.com/event/jimpster
LOCATION:TV Lounge\, 2548 Grand River Avenue\, Detroit\, MI\, 48201\, United States
CATEGORIES:TheDetroitILove
GEO:42.3380472;-83.0625672
X-APPLE-STRUCTURED-LOCATION;VALUE=URI;X-ADDRESS=TV Lounge 2548 Grand River Avenue Detroit MI 48201 United States;X-APPLE-RADIUS=500;X-TITLE=2548 Grand River Avenue:geo:-83.0625672,42.3380472
END:VEVENT
BEGIN:VEVENT
DTSTART;TZID=America/Detroit:20250202T100000
DTEND;TZID=America/Detroit:20250202T110000
DTSTAMP:20260420T131014
CREATED:20250111T194705Z
LAST-MODIFIED:20250201T212224Z
UID:10011781-1738490400-1738494000@detroitartdao.com
SUMMARY:Yoganic Flow Virtual Yoga Class
DESCRIPTION:Yoganic Flow All-Levels 60-Minute Virtual Yoga Class\nThis donation-based session includes breathwork\, meditation and asana practice.
URL:https://detroitartdao.com/event/yoganic-flow-virtual-yoga-class-37
LOCATION:MI
ATTACH;FMTTYPE=image/jpeg:https://dpop.nyc3.digitaloceanspaces.com/wp-content/uploads/2024/04/20104702/4e1fc4d59bf96721fae8bb51939fcd4e.jpg
END:VEVENT
BEGIN:VEVENT
DTSTART;TZID=America/Detroit:20250202T110000
DTEND;TZID=America/Detroit:20250202T120000
DTSTAMP:20260420T131014
CREATED:20241221T181651Z
LAST-MODIFIED:20241228T185644Z
UID:10011693-1738494000-1738497600@detroitartdao.com
SUMMARY:Yoganic Flow 200-Hour Community-Based Yoga Teacher Training Q&A
DESCRIPTION:Question and Answer session for those interested in becoming a yoga instructor certified through the Yoga Alliance.
URL:https://detroitartdao.com/event/yoganic-flow-200-hour-community-based-yoga-teacher-training-qa-4
LOCATION:MI
ATTACH;FMTTYPE=image/jpeg:https://dpop.nyc3.digitaloceanspaces.com/wp-content/uploads/2024/12/21131652/908decebf4c549c2848c9e824d56f741-1.jpg
END:VEVENT
BEGIN:VEVENT
DTSTART;TZID=America/Detroit:20250202T110000
DTEND;TZID=America/Detroit:20250202T160000
DTSTAMP:20260420T131014
CREATED:20250119T224648Z
LAST-MODIFIED:20250202T221151Z
UID:10011905-1738494000-1738512000@detroitartdao.com
SUMMARY:SPKR BRNCH
DESCRIPTION:
URL:https://detroitartdao.com/event/spkr-brnch-25
LOCATION:SPKR BOX\, 200 Grand River Avenue\, Detroit\, MI\, 48226\, United States
CATEGORIES:TheDetroitILove
GEO:42.3337987;-83.0499187
X-APPLE-STRUCTURED-LOCATION;VALUE=URI;X-ADDRESS=SPKR BOX 200 Grand River Avenue Detroit MI 48226 United States;X-APPLE-RADIUS=500;X-TITLE=200 Grand River Avenue:geo:-83.0499187,42.3337987
END:VEVENT
BEGIN:VEVENT
DTSTART;TZID=America/Detroit:20250202T140000
DTEND;TZID=America/Detroit:20250202T150000
DTSTAMP:20260420T131014
CREATED:20241218T223153Z
LAST-MODIFIED:20250202T043140Z
UID:10011688-1738504800-1738508400@detroitartdao.com
SUMMARY:Self-Care Sunday Stroll at the Detroit Riverfront
DESCRIPTION:Make time for your physical and mental health this winter along the Detroit Riverfront.
URL:https://detroitartdao.com/event/self-care-sunday-stroll-at-the-detroit-riverfront-2
LOCATION:Robert C. Valade Park\, 2670 Atwater Street\, Detroit\, MI\, 48207\, United States
ATTACH;FMTTYPE=image/jpeg:https://dpop.nyc3.digitaloceanspaces.com/wp-content/uploads/2024/12/18173146/d28307b63ec039623989bedc0cd1d23d.jpg
GEO:42.3351151;-83.0198724
X-APPLE-STRUCTURED-LOCATION;VALUE=URI;X-ADDRESS=Robert C. Valade Park 2670 Atwater Street Detroit MI 48207 United States;X-APPLE-RADIUS=500;X-TITLE=2670 Atwater Street:geo:-83.0198724,42.3351151
END:VEVENT
BEGIN:VEVENT
DTSTART;TZID=America/Detroit:20250202T190000
DTEND;TZID=America/Detroit:20250203T000000
DTSTAMP:20260420T131014
CREATED:20250202T221151Z
LAST-MODIFIED:20250202T221151Z
UID:10012036-1738522800-1738540800@detroitartdao.com
SUMMARY:Public Healing
DESCRIPTION:
URL:https://detroitartdao.com/event/public-healing-3
LOCATION:Northern Lights\, 660 W Baltimore Street\, Detroit\, MI\, 48202
CATEGORIES:TheDetroitILove
GEO:42.3668984;-83.0766966
X-APPLE-STRUCTURED-LOCATION;VALUE=URI;X-ADDRESS=Northern Lights 660 W Baltimore Street Detroit MI 48202;X-APPLE-RADIUS=500;X-TITLE=660 W Baltimore Street:geo:-83.0766966,42.3668984
END:VEVENT
BEGIN:VEVENT
DTSTART;TZID=America/Detroit:20250202T200000
DTEND;TZID=America/Detroit:20250203T020000
DTSTAMP:20260420T131014
CREATED:20250106T213138Z
LAST-MODIFIED:20250202T221152Z
UID:10011742-1738526400-1738548000@detroitartdao.com
SUMMARY:Jennnyoke
DESCRIPTION:
URL:https://detroitartdao.com/event/jennnyoke-4
LOCATION:UFO Bar\, 2110 Trumbull Street\, Detroit\, MI\, 48216
CATEGORIES:TheDetroitILove
GEO:42.3321892;-83.0669471
X-APPLE-STRUCTURED-LOCATION;VALUE=URI;X-ADDRESS=UFO Bar 2110 Trumbull Street Detroit MI 48216;X-APPLE-RADIUS=500;X-TITLE=2110 Trumbull Street:geo:-83.0669471,42.3321892
END:VEVENT
BEGIN:VEVENT
DTSTART;TZID=America/Detroit:20250202T210000
DTEND;TZID=America/Detroit:20250203T020000
DTSTAMP:20260420T131014
CREATED:20250202T221152Z
LAST-MODIFIED:20250202T221152Z
UID:10012037-1738530000-1738548000@detroitartdao.com
SUMMARY:AYYBO
DESCRIPTION:
URL:https://detroitartdao.com/event/ayybo
LOCATION:Magic Stick\, 4120 Woodward Avenue\, Detroit\, MI\, 48201
CATEGORIES:TheDetroitILove
GEO:42.3511486;-83.0598804
X-APPLE-STRUCTURED-LOCATION;VALUE=URI;X-ADDRESS=Magic Stick 4120 Woodward Avenue Detroit MI 48201;X-APPLE-RADIUS=500;X-TITLE=4120 Woodward Avenue:geo:-83.0598804,42.3511486
END:VEVENT
BEGIN:VEVENT
DTSTART;TZID=America/Detroit:20250202T220000
DTEND;TZID=America/Detroit:20250203T020000
DTSTAMP:20260420T131014
CREATED:20250202T221152Z
LAST-MODIFIED:20250202T221152Z
UID:10012038-1738533600-1738548000@detroitartdao.com
SUMMARY:Foggy Sundays
DESCRIPTION:
URL:https://detroitartdao.com/event/foggy-sundays-52
LOCATION:SPKR BOX\, 200 Grand River Avenue\, Detroit\, MI\, 48226\, United States
CATEGORIES:TheDetroitILove
GEO:42.3337987;-83.0499187
X-APPLE-STRUCTURED-LOCATION;VALUE=URI;X-ADDRESS=SPKR BOX 200 Grand River Avenue Detroit MI 48226 United States;X-APPLE-RADIUS=500;X-TITLE=200 Grand River Avenue:geo:-83.0499187,42.3337987
END:VEVENT
BEGIN:VEVENT
DTSTART;TZID=America/Detroit:20250203T120000
DTEND;TZID=America/Detroit:20250203T160000
DTSTAMP:20260420T131014
CREATED:20250125T023143Z
LAST-MODIFIED:20250203T033142Z
UID:10011947-1738584000-1738598400@detroitartdao.com
SUMMARY:Maptime Winter 2025
DESCRIPTION:Join a community of learners making maps together. Students\, faculty\, and community members welcome! Free coffee & snacks.
URL:https://detroitartdao.com/event/maptime-winter-2025-2
LOCATION:Prentis Building\, 5201 Cass Avenue\, Detroit\, MI\, 48202\, United States
CATEGORIES:Real Estate
ATTACH;FMTTYPE=image/jpeg:https://dpop.nyc3.digitaloceanspaces.com/wp-content/uploads/2025/01/24213144/40fd096604cec522a201abcdf95df20a-1.jpg
GEO:42.3579922;-83.0682345
X-APPLE-STRUCTURED-LOCATION;VALUE=URI;X-ADDRESS=Prentis Building 5201 Cass Avenue Detroit MI 48202 United States;X-APPLE-RADIUS=500;X-TITLE=5201 Cass Avenue:geo:-83.0682345,42.3579922
END:VEVENT
BEGIN:VEVENT
DTSTART;TZID=America/Detroit:20250203T220000
DTEND;TZID=America/Detroit:20250204T020000
DTSTAMP:20260420T131014
CREATED:20250113T223148Z
LAST-MODIFIED:20250203T221640Z
UID:10011816-1738620000-1738634400@detroitartdao.com
SUMMARY:(weekly) Slow Jams
DESCRIPTION:
URL:https://detroitartdao.com/event/weekly-slow-jams-73
LOCATION:Woodbridge Pub\, 5169 Trumbull Street\, Detroit\, MI\, 48208
CATEGORIES:TheDetroitILove
GEO:42.3540344;-83.0801597
X-APPLE-STRUCTURED-LOCATION;VALUE=URI;X-ADDRESS=Woodbridge Pub 5169 Trumbull Street Detroit MI 48208;X-APPLE-RADIUS=500;X-TITLE=5169 Trumbull Street:geo:-83.0801597,42.3540344
END:VEVENT
BEGIN:VEVENT
DTSTART;TZID=America/Detroit:20250204T180000
DTEND;TZID=America/Detroit:20250204T200000
DTSTAMP:20260420T131014
CREATED:20250105T213138Z
LAST-MODIFIED:20250204T221636Z
UID:10011738-1738692000-1738699200@detroitartdao.com
SUMMARY:(stream) Queen Beats Radio
DESCRIPTION:
URL:https://detroitartdao.com/event/stream-queen-beats-radio-24
LOCATION:Deep Space Radio
CATEGORIES:Broadcast,TheDetroitILove
END:VEVENT
BEGIN:VEVENT
DTSTART;TZID=America/Detroit:20250204T190000
DTEND;TZID=America/Detroit:20250205T220000
DTSTAMP:20260420T131014
CREATED:20250204T221636Z
LAST-MODIFIED:20250204T221637Z
UID:10012048-1738695600-1738792800@detroitartdao.com
SUMMARY:In Transit
DESCRIPTION:
URL:https://detroitartdao.com/event/in-transit
LOCATION:Northern Lights\, 660 W Baltimore Street\, Detroit\, MI\, 48202
CATEGORIES:TheDetroitILove
GEO:42.3668984;-83.0766966
X-APPLE-STRUCTURED-LOCATION;VALUE=URI;X-ADDRESS=Northern Lights 660 W Baltimore Street Detroit MI 48202;X-APPLE-RADIUS=500;X-TITLE=660 W Baltimore Street:geo:-83.0766966,42.3668984
END:VEVENT
BEGIN:VEVENT
DTSTART;TZID=America/Detroit:20250204T210000
DTEND;TZID=America/Detroit:20250205T020000
DTSTAMP:20260420T131014
CREATED:20250114T223205Z
LAST-MODIFIED:20250204T221637Z
UID:10011832-1738702800-1738720800@detroitartdao.com
SUMMARY:Open Decks
DESCRIPTION:
URL:https://detroitartdao.com/event/open-decks-18
LOCATION:The Eagle Detroit\, 928 West McNichols Road\, Detroit\, MI\, 48203
CATEGORIES:TheDetroitILove
GEO:42.4178367;-83.1153867
X-APPLE-STRUCTURED-LOCATION;VALUE=URI;X-ADDRESS=The Eagle Detroit 928 West McNichols Road Detroit MI 48203;X-APPLE-RADIUS=500;X-TITLE=928 West McNichols Road:geo:-83.1153867,42.4178367
END:VEVENT
BEGIN:VEVENT
DTSTART;TZID=America/Detroit:20250204T210000
DTEND;TZID=America/Detroit:20250205T020000
DTSTAMP:20260420T131014
CREATED:20250204T221636Z
LAST-MODIFIED:20250204T221638Z
UID:10012049-1738702800-1738720800@detroitartdao.com
SUMMARY:Taco Tuesday’s
DESCRIPTION:
URL:https://detroitartdao.com/event/taco-tuesdays-31
LOCATION:UFO Bar\, 2110 Trumbull Street\, Detroit\, MI\, 48216
CATEGORIES:TheDetroitILove
GEO:42.3321892;-83.0669471
X-APPLE-STRUCTURED-LOCATION;VALUE=URI;X-ADDRESS=UFO Bar 2110 Trumbull Street Detroit MI 48216;X-APPLE-RADIUS=500;X-TITLE=2110 Trumbull Street:geo:-83.0669471,42.3321892
END:VEVENT
BEGIN:VEVENT
DTSTART;TZID=America/Detroit:20250204T220000
DTEND;TZID=America/Detroit:20250205T020000
DTSTAMP:20260420T131014
CREATED:20250204T221637Z
LAST-MODIFIED:20250204T221638Z
UID:10012050-1738706400-1738720800@detroitartdao.com
SUMMARY:Go Down – Gay Anthem Edition
DESCRIPTION:
URL:https://detroitartdao.com/event/go-down-gay-anthem-edition
LOCATION:SPKR BOX\, 200 Grand River Avenue\, Detroit\, MI\, 48226\, United States
CATEGORIES:TheDetroitILove
GEO:42.3337987;-83.0499187
X-APPLE-STRUCTURED-LOCATION;VALUE=URI;X-ADDRESS=SPKR BOX 200 Grand River Avenue Detroit MI 48226 United States;X-APPLE-RADIUS=500;X-TITLE=200 Grand River Avenue:geo:-83.0499187,42.3337987
END:VEVENT
BEGIN:VEVENT
DTSTART;TZID=America/Detroit:20250205T190000
DTEND;TZID=America/Detroit:20250205T220000
DTSTAMP:20260420T131014
CREATED:20250113T223150Z
LAST-MODIFIED:20250205T231642Z
UID:10011817-1738782000-1738792800@detroitartdao.com
SUMMARY:Planet Funk
DESCRIPTION:
URL:https://detroitartdao.com/event/planet-funk-52
LOCATION:SPKR BOX\, 200 Grand River Avenue\, Detroit\, MI\, 48226\, United States
CATEGORIES:TheDetroitILove
GEO:42.3337987;-83.0499187
X-APPLE-STRUCTURED-LOCATION;VALUE=URI;X-ADDRESS=SPKR BOX 200 Grand River Avenue Detroit MI 48226 United States;X-APPLE-RADIUS=500;X-TITLE=200 Grand River Avenue:geo:-83.0499187,42.3337987
END:VEVENT
BEGIN:VEVENT
DTSTART;TZID=America/Detroit:20250205T200000
DTEND;TZID=America/Detroit:20250205T230000
DTSTAMP:20260420T131014
CREATED:20250114T223205Z
LAST-MODIFIED:20250205T231643Z
UID:10011833-1738785600-1738796400@detroitartdao.com
SUMMARY:Wednesday Parfait
DESCRIPTION:
URL:https://detroitartdao.com/event/wednesday-parfait-4
LOCATION:Northern Lights\, 660 W Baltimore Street\, Detroit\, MI\, 48202
CATEGORIES:TheDetroitILove
GEO:42.3668984;-83.0766966
X-APPLE-STRUCTURED-LOCATION;VALUE=URI;X-ADDRESS=Northern Lights 660 W Baltimore Street Detroit MI 48202;X-APPLE-RADIUS=500;X-TITLE=660 W Baltimore Street:geo:-83.0766966,42.3668984
END:VEVENT
BEGIN:VEVENT
DTSTART;TZID=America/Detroit:20250205T200000
DTEND;TZID=America/Detroit:20250205T230000
DTSTAMP:20260420T131014
CREATED:20250205T231643Z
LAST-MODIFIED:20250205T231643Z
UID:10012060-1738785600-1738796400@detroitartdao.com
SUMMARY:Vinyl Night
DESCRIPTION:
URL:https://detroitartdao.com/event/vinyl-night-4
LOCATION:Ghost Light\, 2314 Caniff\, Hamtramck\, MI\, 48212
CATEGORIES:TheDetroitILove
GEO:42.3979695;-83.0642841
X-APPLE-STRUCTURED-LOCATION;VALUE=URI;X-ADDRESS=Ghost Light 2314 Caniff Hamtramck MI 48212;X-APPLE-RADIUS=500;X-TITLE=2314 Caniff:geo:-83.0642841,42.3979695
END:VEVENT
BEGIN:VEVENT
DTSTART;TZID=America/Detroit:20250205T200000
DTEND;TZID=America/Detroit:20250205T230000
DTSTAMP:20260420T131014
CREATED:20250205T231643Z
LAST-MODIFIED:20250205T231643Z
UID:10012061-1738785600-1738796400@detroitartdao.com
SUMMARY:Wednesday Parfait
DESCRIPTION:
URL:https://detroitartdao.com/event/wednesday-parfait-8
LOCATION:Northern Lights\, 660 W Baltimore Street\, Detroit\, MI\, 48202
CATEGORIES:TheDetroitILove
GEO:42.3668984;-83.0766966
X-APPLE-STRUCTURED-LOCATION;VALUE=URI;X-ADDRESS=Northern Lights 660 W Baltimore Street Detroit MI 48202;X-APPLE-RADIUS=500;X-TITLE=660 W Baltimore Street:geo:-83.0766966,42.3668984
END:VEVENT
END:VCALENDAR