BEGIN:VCALENDAR
VERSION:2.0
PRODID:-//Discover Detroit Art - ECPv6.0.1//NONSGML v1.0//EN
CALSCALE:GREGORIAN
METHOD:PUBLISH
X-ORIGINAL-URL:https://detroitartdao.com
X-WR-CALDESC:Events for Discover Detroit Art
REFRESH-INTERVAL;VALUE=DURATION:PT1H
X-Robots-Tag:noindex
X-PUBLISHED-TTL:PT1H
BEGIN:VTIMEZONE
TZID:America/Detroit
BEGIN:DAYLIGHT
TZOFFSETFROM:-0500
TZOFFSETTO:-0400
TZNAME:EDT
DTSTART:20230312T070000
END:DAYLIGHT
BEGIN:STANDARD
TZOFFSETFROM:-0400
TZOFFSETTO:-0500
TZNAME:EST
DTSTART:20231105T060000
END:STANDARD
BEGIN:DAYLIGHT
TZOFFSETFROM:-0500
TZOFFSETTO:-0400
TZNAME:EDT
DTSTART:20240310T070000
END:DAYLIGHT
BEGIN:STANDARD
TZOFFSETFROM:-0400
TZOFFSETTO:-0500
TZNAME:EST
DTSTART:20241103T060000
END:STANDARD
BEGIN:DAYLIGHT
TZOFFSETFROM:-0500
TZOFFSETTO:-0400
TZNAME:EDT
DTSTART:20250309T070000
END:DAYLIGHT
BEGIN:STANDARD
TZOFFSETFROM:-0400
TZOFFSETTO:-0500
TZNAME:EST
DTSTART:20251102T060000
END:STANDARD
END:VTIMEZONE
BEGIN:VEVENT
DTSTART;TZID=America/Detroit:20250219T200000
DTEND;TZID=America/Detroit:20250220T010000
DTSTAMP:20260425T092828
CREATED:20250218T060840Z
LAST-MODIFIED:20250218T162738Z
UID:10012175-1739995200-1740013200@detroitartdao.com
SUMMARY:Art Night Detroit x Stu 202 Window Art
DESCRIPTION:Come by Stu 202 for a evening of window art and hacker energy as we launch the new artnightdetroit.com website!
URL:https://detroitartdao.com/event/art-night-detroit-x-stu-202-window-art
LOCATION:The Russell Industrial Center
CATEGORIES:Art
ATTACH;FMTTYPE=image/jpeg:https://dpop.nyc3.digitaloceanspaces.com/wp-content/uploads/2025/02/18112731/IMG_8790.jpg
GEO:42.3784203;-83.0603837
END:VEVENT
BEGIN:VEVENT
DTSTART;TZID=America/Detroit:20230823T190000
DTEND;TZID=America/Detroit:20230824T010000
DTSTAMP:20260425T092828
CREATED:20230823T052625Z
LAST-MODIFIED:20231228T075749Z
UID:10001848-1692817200-1692838800@detroitartdao.com
SUMMARY:Art Night Detroit x Big Pink IV
DESCRIPTION:Heads up\, round 4 of Art Night x @bigpinklovesyou is tomorrow 6/22!  \nBring your art projects and your dancing shoes for a night dedicated to fun and creativity!  \nWe will be debuting a brand new projected VR experience with automotive concept artist @dhwanil.panchal!  \n$10 at the door\, 7PM-1AM can’t wait!
URL:https://detroitartdao.com/event/art-night-detroit-x-big-pink-iv
LOCATION:Big Pink\, 6440 Wight Street\, Detroit\, MI
CATEGORIES:Art,Networking
ATTACH;FMTTYPE=image/jpeg:https://dpop.nyc3.digitaloceanspaces.com/wp-content/uploads/2023/08/23012619/64e597dd9225e.jpeg
GEO:42.3423259;-83.0073267
X-APPLE-STRUCTURED-LOCATION;VALUE=URI;X-ADDRESS=Big Pink 6440 Wight Street Detroit MI;X-APPLE-RADIUS=500;X-TITLE=6440 Wight Street:geo:-83.0073267,42.3423259
END:VEVENT
BEGIN:VEVENT
DTSTART;TZID=America/Detroit:20230816T190000
DTEND;TZID=America/Detroit:20230817T000000
DTSTAMP:20260425T092828
CREATED:20230814T180934Z
LAST-MODIFIED:20231228T075750Z
UID:10001776-1692212400-1692230400@detroitartdao.com
SUMMARY:Art Night Detroit x Detroit Club
DESCRIPTION:Art Night Detroit x @thedetroitclub Vol. 1 is here 8/16! Join us in the historic Detroit Club Ballroom for a night dedicated to the arts & great music! \nDress to impress and showcase your fashion! *Athletic Wear\, Workout Attire\, Flip-Flops\, Beachwear\, Torn or Excessively Distressed Clothing\, and Overly Casual or Revealing Clothing are not permitted \nTwo ticket types will be available $10 standard ticket and a $40 VIP ticket which includes unlimited drinks during the 7pm-9pm happy hour! Otherwise enjoy cocktails from the 3rd floor cigar lounge or 1st floor library bar. \nEnjoy tunes from @lo.dazz @yeriko_dj @nathankarinen @realdjthinman & @c.r.crank \nLive art\, photography\, and Candle pop up from @elleartistworks @sapmillington & @dylan.pproj \nTicket link for presales in the bio\, tickets also available at the door.
URL:https://detroitartdao.com/event/art-night-detroit-x-detroit-club
LOCATION:The Detroit Club\, 712 Cass Ave\, Detroit\, MI\, 48226\, United States
CATEGORIES:Art,Networking
ATTACH;FMTTYPE=image/jpeg:https://dpop.nyc3.digitaloceanspaces.com/wp-content/uploads/2023/08/14140842/366439542_1442197673240156_1667620267284176198_n.jpg
GEO:42.3296588;-83.0507786
X-APPLE-STRUCTURED-LOCATION;VALUE=URI;X-ADDRESS=The Detroit Club 712 Cass Ave Detroit MI 48226 United States;X-APPLE-RADIUS=500;X-TITLE=712 Cass Ave:geo:-83.0507786,42.3296588
END:VEVENT
BEGIN:VEVENT
DTSTART;TZID=America/Detroit:20230726T190000
DTEND;TZID=America/Detroit:20230727T010000
DTSTAMP:20260425T092828
CREATED:20230724T205707Z
LAST-MODIFIED:20231228T075750Z
UID:10001492-1690398000-1690419600@detroitartdao.com
SUMMARY:Art Night Detroit x Midnight Temple – Sidewalk Chalk Edition
DESCRIPTION:This Wednesday 7/26 we’re hosting round three of Art Night Detroit x @midnighttemple! This is a completely FREE event. Based on the weather day of we will be hosting in the plaza outside Midnight Temple until 10pm then moving inside for the rest of the night. \nWe’ll have sidewall chalk available for everyone to decorate the streets of the plaza. Drinks and food will be provided by @detroitcitydistillery & @midnighttemple all night! Tunes by yours truly and @yeriko_dj in the plaza till 10pm and @djsevenwhales will take over inside Midnight Temple at 10 for a 3 hour set. \nBring your art supplies\, dancing shoes\, and an appetite for a night dedicated to fun and creativity in Detroit’s Historic Eastern Market.
URL:https://detroitartdao.com/event/art-night-detroit-x-midnight-temple-sidewalk-chalk-edition
LOCATION:Midnight Temple\, 2466 Riopelle Street\, Detroit\, MI\, 48207
CATEGORIES:Art,Music,Networking
ATTACH;FMTTYPE=image/jpeg:https://detroitartdao.com/wp-content/uploads/2023/07/362858117_1008208023640901_3732445287401987175_n.jpg
GEO:42.3463247;-83.038309
X-APPLE-STRUCTURED-LOCATION;VALUE=URI;X-ADDRESS=Midnight Temple 2466 Riopelle Street Detroit MI 48207;X-APPLE-RADIUS=500;X-TITLE=2466 Riopelle Street:geo:-83.038309,42.3463247
END:VEVENT
BEGIN:VEVENT
DTSTART;TZID=America/Detroit:20230719T190000
DTEND;TZID=America/Detroit:20230720T020000
DTSTAMP:20260425T092828
CREATED:20230718T113721Z
LAST-MODIFIED:20231228T075750Z
UID:10001357-1689793200-1689818400@detroitartdao.com
SUMMARY:Art Night Detroit x Big Pink - Act III
DESCRIPTION:Art Night Detroit is back with some new additions! \nKick off the night with some yoga before we spend the night painting & dancing together!
URL:https://detroitartdao.com/event/art-night-detroit-x-big-pink-act-iii
LOCATION:Big Pink\, 6440 Wight Street\, Detroit\, MI
CATEGORIES:Art
GEO:42.3423259;-83.0073267
X-APPLE-STRUCTURED-LOCATION;VALUE=URI;X-ADDRESS=Big Pink 6440 Wight Street Detroit MI;X-APPLE-RADIUS=500;X-TITLE=6440 Wight Street:geo:-83.0073267,42.3423259
END:VEVENT
BEGIN:VEVENT
DTSTART;TZID=America/Detroit:20230614T190000
DTEND;TZID=America/Detroit:20230615T010000
DTSTAMP:20260425T092828
CREATED:20230614T092019Z
LAST-MODIFIED:20231228T075750Z
UID:10001234-1686769200-1686790800@detroitartdao.com
SUMMARY:Art Night Detroit x Extra Cripsy Studios
DESCRIPTION:Art Night Detroit x Extra Cripsy Studios Wednesday 6/14! Bringing Art Night to Southwest Detroit for the first time. Partnering with @extracrispystudios a vintage clothing retailer\, art studio\, and event space. Bring your creative projects and dancing shoes for a night dedicated to creativity and community! $5 cover at the door\, no pre-sales. \nDON’T MISS THE LIVE ART AUCTION!!!
URL:https://detroitartdao.com/event/art-night-detroit-x-extra-cripsy-studios
LOCATION:Extra Cripsy Studios\, 4859 Michigan Ave\, Detroit\, MI\, 48210\, United States
CATEGORIES:Art
ATTACH;FMTTYPE=image/jpeg:https://detroitartdao.com/wp-content/uploads/2023/06/352769601_277178204727052_1085206300967700001_n.jpg
GEO:42.3309185;-83.1094718
X-APPLE-STRUCTURED-LOCATION;VALUE=URI;X-ADDRESS=Extra Cripsy Studios 4859 Michigan Ave Detroit MI 48210 United States;X-APPLE-RADIUS=500;X-TITLE=4859 Michigan Ave:geo:-83.1094718,42.3309185
END:VEVENT
BEGIN:VEVENT
DTSTART;TZID=America/Detroit:20230524T190000
DTEND;TZID=America/Detroit:20230525T010000
DTSTAMP:20260425T092828
CREATED:20230523T233220Z
LAST-MODIFIED:20230523T233220Z
UID:10000999-1684954800-1684976400@detroitartdao.com
SUMMARY:Art Night Detroit x Big Pink
DESCRIPTION:THIS WEDNESDAY! (05/24) Before the madness that is memorial weekend\, we partnered up with @artnightdetroit for an Art Party! 🎨 Join us for drinks\, music\, ping pong\, and painting all night long! We’ve got a stacked line up of local djs – see you soooooon 🕊️
URL:https://detroitartdao.com/event/art-night-detroit-x-big-pink
LOCATION:Big Pink\, 6440 Wight Street\, Detroit\, MI
CATEGORIES:Art,Tech
ATTACH;FMTTYPE=image/jpeg:https://detroitartdao.com/wp-content/uploads/2023/05/348514450_635390268069156_5140722689521462810_n.jpg
GEO:42.3423259;-83.0073267
X-APPLE-STRUCTURED-LOCATION;VALUE=URI;X-ADDRESS=Big Pink 6440 Wight Street Detroit MI;X-APPLE-RADIUS=500;X-TITLE=6440 Wight Street:geo:-83.0073267,42.3423259
END:VEVENT
BEGIN:VEVENT
DTSTART;TZID=America/Detroit:20230426T190000
DTEND;TZID=America/Detroit:20230427T010000
DTSTAMP:20260425T092828
CREATED:20230424T135818Z
LAST-MODIFIED:20230424T135818Z
UID:10000991-1682535600-1682557200@detroitartdao.com
SUMMARY:Art Night @ Avant Garden Collective
DESCRIPTION:Art Night is to be held at Avant Garden Collective
URL:https://detroitartdao.com/event/art-night-at-avant-garden-collective
LOCATION:Avant Garden Collective
CATEGORIES:Art
END:VEVENT
BEGIN:VEVENT
DTSTART;TZID=America/Detroit:20230412T193000
DTEND;TZID=America/Detroit:20230413T003000
DTSTAMP:20260425T092828
CREATED:20230410T185321Z
LAST-MODIFIED:20230410T224550Z
UID:10000974-1681327800-1681345800@detroitartdao.com
SUMMARY:Art Night x The Convent
DESCRIPTION:This weeks Art Night will be held at The Convent Detroit\, a unique hub for health and wellness businesses in Detroit’s Campau/Banglatown neighborhood whose conversion was funded in part through the Strategic Neighborhood Fund (SNF).   \nArt supplies will be available.
URL:https://detroitartdao.com/event/art-night-x-the-convent
LOCATION:The Convent\, 13301 Mound Rd\, Detroit\, MI\, 48212\, United States
CATEGORIES:Art
GEO:42.414936;-83.0435444
X-APPLE-STRUCTURED-LOCATION;VALUE=URI;X-ADDRESS=The Convent 13301 Mound Rd Detroit MI 48212 United States;X-APPLE-RADIUS=500;X-TITLE=13301 Mound Rd:geo:-83.0435444,42.414936
END:VEVENT
BEGIN:VEVENT
DTSTART;TZID=America/Detroit:20230315T190000
DTEND;TZID=America/Detroit:20230316T000000
DTSTAMP:20260425T092828
CREATED:20230314T021606Z
LAST-MODIFIED:20230314T021606Z
UID:10000921-1678906800-1678924800@detroitartdao.com
SUMMARY:Art Night Detroit at Midnight Temple - Act II
DESCRIPTION:Join us at Midnight Temple in Eastern Market on Wednesday\, March 15th at 7pm for a night to feast in the arts!
URL:https://detroitartdao.com/event/art-night-detroit-at-midnight-temple-act-ii
LOCATION:Midnight Temple\, 2466 Riopelle Street\, Detroit\, MI\, 48207
CATEGORIES:Art,Food,Music
ATTACH;FMTTYPE=image/jpeg:https://detroitartdao.com/wp-content/uploads/2023/02/IMG_5280-scaled-e1677508143977.jpeg
GEO:42.3463247;-83.038309
X-APPLE-STRUCTURED-LOCATION;VALUE=URI;X-ADDRESS=Midnight Temple 2466 Riopelle Street Detroit MI 48207;X-APPLE-RADIUS=500;X-TITLE=2466 Riopelle Street:geo:-83.038309,42.3463247
END:VEVENT
BEGIN:VEVENT
DTSTART;TZID=America/Detroit:20230301T190000
DTEND;TZID=America/Detroit:20230302T000000
DTSTAMP:20260425T092828
CREATED:20230227T104129Z
LAST-MODIFIED:20230228T000034Z
UID:10000888-1677697200-1677715200@detroitartdao.com
SUMMARY:Art Night Detroit at Midnight Temple
DESCRIPTION:Join us at Midnight Temple in Eastern Market on Wednesday\, March 1st at 7pm for a night of the arts!
URL:https://detroitartdao.com/event/art-night-at-midnight-temple
LOCATION:Midnight Temple\, 2466 Riopelle Street\, Detroit\, MI\, 48207
CATEGORIES:Art
ATTACH;FMTTYPE=image/jpeg:https://detroitartdao.com/wp-content/uploads/2023/02/IMG_5280-scaled-e1677508143977.jpeg
GEO:42.3463247;-83.038309
X-APPLE-STRUCTURED-LOCATION;VALUE=URI;X-ADDRESS=Midnight Temple 2466 Riopelle Street Detroit MI 48207;X-APPLE-RADIUS=500;X-TITLE=2466 Riopelle Street:geo:-83.038309,42.3463247
END:VEVENT
END:VCALENDAR