BEGIN:VCALENDAR
VERSION:2.0
PRODID:-//Discover Detroit Art - ECPv6.0.1//NONSGML v1.0//EN
CALSCALE:GREGORIAN
METHOD:PUBLISH
X-WR-CALNAME:Discover Detroit Art
X-ORIGINAL-URL:https://detroitartdao.com
X-WR-CALDESC:Events for Discover Detroit Art
REFRESH-INTERVAL;VALUE=DURATION:PT1H
X-Robots-Tag:noindex
X-PUBLISHED-TTL:PT1H
BEGIN:VTIMEZONE
TZID:America/Detroit
BEGIN:DAYLIGHT
TZOFFSETFROM:-0500
TZOFFSETTO:-0400
TZNAME:EDT
DTSTART:20220313T070000
END:DAYLIGHT
BEGIN:STANDARD
TZOFFSETFROM:-0400
TZOFFSETTO:-0500
TZNAME:EST
DTSTART:20221106T060000
END:STANDARD
END:VTIMEZONE
BEGIN:VEVENT
DTSTART;TZID=America/Detroit:20221013T170000
DTEND;TZID=America/Detroit:20221013T200000
DTSTAMP:20260422T212340
CREATED:20221003T201008Z
LAST-MODIFIED:20221003T203332Z
UID:10000380-1665680400-1665691200@detroitartdao.com
SUMMARY:BOSCH MEET & GREET
DESCRIPTION:Join Let’s Detroit on Thursday\, Oct. 13 for an exclusive meet and greet opportunity with Bosch\, a leading global automotive supplier of technology and services. Starting at 5 p.m.\, explore careers with Bosch\, network with other young professionals\, and view demos while taking a tour of the Detroit Smart Parking Lab. Following the tour and demos\, join Bosch and Let’s Detroit at Brew Detroit to experience the Detroit social scene. \n\nTour and Demos 5-6:30 p.m.\nNetworking Reception 6:30-8 p.m.\n\nRSVP by Tuesday\, Oct. 11 at 5 p.m.
URL:https://detroitartdao.com/event/bosch-meet-greet
LOCATION:DETROIT SMART PARKING LAB\, 1701 W. Lafayette Boulevard\, Detroit\, MI\, 48216
CATEGORIES:AUTOMOTIVE,Business,Networking,Tech
GEO:42.3239443;-83.0654936
X-APPLE-STRUCTURED-LOCATION;VALUE=URI;X-ADDRESS=DETROIT SMART PARKING LAB 1701 W. Lafayette Boulevard Detroit MI 48216;X-APPLE-RADIUS=500;X-TITLE=1701 W. Lafayette Boulevard:geo:-83.0654936,42.3239443
END:VEVENT
END:VCALENDAR