BEGIN:VCALENDAR
VERSION:2.0
PRODID:-//Discover Detroit Art - ECPv6.0.1//NONSGML v1.0//EN
CALSCALE:GREGORIAN
METHOD:PUBLISH
X-ORIGINAL-URL:https://detroitartdao.com
X-WR-CALDESC:Events for Discover Detroit Art
REFRESH-INTERVAL;VALUE=DURATION:PT1H
X-Robots-Tag:noindex
X-PUBLISHED-TTL:PT1H
BEGIN:VTIMEZONE
TZID:America/Detroit
BEGIN:DAYLIGHT
TZOFFSETFROM:-0500
TZOFFSETTO:-0400
TZNAME:EDT
DTSTART:20260308T070000
END:DAYLIGHT
BEGIN:STANDARD
TZOFFSETFROM:-0400
TZOFFSETTO:-0500
TZNAME:EST
DTSTART:20261101T060000
END:STANDARD
END:VTIMEZONE
BEGIN:VEVENT
DTSTART;TZID=America/Detroit:20260505T180000
DTEND;TZID=America/Detroit:20260505T203000
DTSTAMP:20260423T034946
CREATED:20260405T034702Z
LAST-MODIFIED:20260423T044648Z
UID:10017493-1778004000-1778013000@detroitartdao.com
SUMMARY:Evelyn’s Midtown Kitchen – Taco Tuesday: a Cinco de Mayo Celebration!
DESCRIPTION:Join us for a fun-filled evening of hands-on cooking\, where you’ll learn to create a delectable cuisine with Evelyn’s Midtown Kitchen.\n\n\n\nTurn up the heat with a lively and flavorful evening in our Mexican Fiesta-themed date night cooking class! Designed for couples who love to cook and connect\, this hands-on experience guides you through creating a delicious spread of Mexican favorites. Together\, you’ll master the art of perfectly seasoned\, sizzling fajitas\, prepare esquites—a creamy\, tangy take on Mexican street corn—and whip up a fresh\, zesty pico de gallo to top it all off. Along the way\, you’ll learn key techniques\, discover new ingredients\, and enjoy a fun\, relaxed atmosphere. It’s the perfect way to spice up your evening and share a memorable meal made with love. \nMenu: \n\nSweet and Spicy Coffee Rubbed Flank Steak – Carne Asada Street Tacos\nVeggie & Black Bean Tacos (Vegan) – MUST notify us post registration\nEsquites (Elote off the cob)\nPico de gallo\nMini Churro Bites with Dulce de Leche
URL:https://detroitartdao.com/event/evelyns-midtown-kitchen-taco-tuesday-a-cinco-de-mayo-celebration
LOCATION:Eastern Market\, Shed 5\, 2810 Russell St.\, Detroit\, MI\, 48207
ATTACH;FMTTYPE=image/jpeg:https://dpop.nyc3.digitaloceanspaces.com/wp-content/uploads/2025/10/03201651/417138445_965115771717691_5961021592254802427_n-IvuF1D.tmp_.jpg
ORGANIZER;CN="Evelyn%26%238217%3Bs%20Midtown%20Kitchen":MAILTO:emkculinary@gmail.com
GEO:42.3484955;-83.0409411
X-APPLE-STRUCTURED-LOCATION;VALUE=URI;X-ADDRESS=Eastern Market Shed 5 2810 Russell St. Detroit MI 48207;X-APPLE-RADIUS=500;X-TITLE=2810 Russell St.:geo:-83.0409411,42.3484955
END:VEVENT
BEGIN:VEVENT
DTSTART;TZID=America/Detroit:20260523T100000
DTEND;TZID=America/Detroit:20260523T113000
DTSTAMP:20260423T034946
CREATED:20260423T044652Z
LAST-MODIFIED:20260423T044652Z
UID:10017714-1779530400-1779535800@detroitartdao.com
SUMMARY:Evelyn’s Midtown Kitchen – The Cookie Lab: Live Demo & Gourmet Gift Box Experience
DESCRIPTION:Join us for an in-depth technical class to learn the artful technique of French Macaron baking!\n\n\n\nThe Cookie Lab: Live Demo & Gourmet Gift Box Experience\nStep inside The Cookie Lab\, an interactive dessert experience where science meets indulgence. Watch a live\, chef-led cookie demonstration that breaks down technique\, texture\, and flavor\, then take home a curated gourmet cookie gift box featuring frech\, bakery-style cookies. \nPerfectly approachable\, deeply satisfying\, and designed to inspire confident baking at home. \nWhat to Expect\nLive demonstration covering: \nEnjoy a chef-led live demonstration covering essential cookie techniques\, with a focus on achieving the perfect balance of crisp edges and gooey centers. You’ll gain insight into proven methods that elevate everyday cookie baking into consistently delicious results. \nTake-Home Experience\n· A beautifully packaged cookie gift box \n· Recipe cards + chef insights \nGift Box Menu Options: \nItalian Lemon Pistachio Cookies \nWhite Chocolate Raspberry Cookies \nSoft & Chewy S’mores Cookies \nCaramel Coconut Chocolate Chip Cookies (Contain Cocanut) \nNote: Gratuity is appreciated! Our team is dedicated to providing you with an exceptional and memorable experience\, and we truly enjoy serving you! \nWhat to Expect: \n• You’ll partner with other students in groups of four\, sharing workstations and culinary equipment. \n• Classes typically run for 2 to 2 1/2 hours\, unless otherwise indicated. \n• Our hands-on classes maintain a cozy size\, accommodating 12-20 students\, in Shed 5 at Eastern Market \n• Be prepared for an active session\, as you’ll be on your feet\, cooking\, and fully engaged for the majority of the class. \n• For your comfort and safety\, we recommend wearing comfortable\, closed-toe shoes and securing long hair away from your face. \n• Evelyn’s Midtown Kitchen is committed to maintaining common sanitation standards\, and for this reason\, you may be asked to wash your hands multiple times to contribute to the safety of food handling. \n\nParking is free
URL:https://detroitartdao.com/event/evelyns-midtown-kitchen-the-cookie-lab-live-demo-gourmet-gift-box-experience-2
LOCATION:Eastern Market\, Shed 5\, 2810 Russell St.\, Detroit\, MI\, 48207
ATTACH;FMTTYPE=image/jpeg:https://dpop.nyc3.digitaloceanspaces.com/wp-content/uploads/2025/10/03201651/417138445_965115771717691_5961021592254802427_n-IvuF1D.tmp_.jpg
ORGANIZER;CN="Evelyn%26%238217%3Bs%20Midtown%20Kitchen":MAILTO:emkculinary@gmail.com
GEO:42.3484955;-83.0409411
X-APPLE-STRUCTURED-LOCATION;VALUE=URI;X-ADDRESS=Eastern Market Shed 5 2810 Russell St. Detroit MI 48207;X-APPLE-RADIUS=500;X-TITLE=2810 Russell St.:geo:-83.0409411,42.3484955
END:VEVENT
END:VCALENDAR