BEGIN:VCALENDAR
VERSION:2.0
PRODID:-//Discover Detroit Art - ECPv6.0.1//NONSGML v1.0//EN
CALSCALE:GREGORIAN
METHOD:PUBLISH
X-WR-CALNAME:Discover Detroit Art
X-ORIGINAL-URL:https://detroitartdao.com
X-WR-CALDESC:Events for Discover Detroit Art
REFRESH-INTERVAL;VALUE=DURATION:PT1H
X-Robots-Tag:noindex
X-PUBLISHED-TTL:PT1H
BEGIN:VTIMEZONE
TZID:America/Detroit
BEGIN:DAYLIGHT
TZOFFSETFROM:-0500
TZOFFSETTO:-0400
TZNAME:EDT
DTSTART:20230312T070000
END:DAYLIGHT
BEGIN:STANDARD
TZOFFSETFROM:-0400
TZOFFSETTO:-0500
TZNAME:EST
DTSTART:20231105T060000
END:STANDARD
END:VTIMEZONE
BEGIN:VEVENT
DTSTART;TZID=America/Detroit:20230401T093000
DTEND;TZID=America/Detroit:20230401T163000
DTSTAMP:20260421T223329
CREATED:20230309T180642Z
LAST-MODIFIED:20230401T155747Z
UID:10000916-1680341400-1680366600@detroitartdao.com
SUMMARY:Detroit International Women's Day Summit
DESCRIPTION:The Detroit International Women’s Day Summit is sponsored by Google Detroit and Google Women Techmakers. \nGoogle Detroit is our main sponsor that will be hosting the event\, and there will be breakfast and lunch provided by Google Women Techmakers and SWE Detroit as well as a Happy Hour sponsored by NSBE and SHPE Detroit chapters with a Photobooth provided by Let’s Go Viral 360 Entertainment. \nWe welcome you to come grab some food and drinks\, grow your professional network\, get the support you need in today’s volatile job market\, and walk away with some new communities that will help connect you to your next opportunity. \nAgenda: \n9:30am – Check-In & Breakfast \n10am – What Up Doe! Ice Breaker \n10:30am – Lightning Talks by Local Detroit Techies \n– SWE\, SHPE\, NSBE Detroit Chapters \n– Visualize\, Cultivate\, Leverage: How to Build Relationships in Business \n– Leveraging AI for Design \n– Low-Code/No-Code MVPs \n12pm – Collaboration Space Breakout Sessions \n12:30pm – LinkedIn Lunch & Networking \n1:30pm – History of Detroit & Profitable Economics of Tech Diversity \n2:30pm – By Detroiters\, For Detroiters: Building a More Equitable Detroit Panel Discussion w Local Detroit Leaders in Tech \n3:30pm – Networking Happy Hour
URL:https://detroitartdao.com/event/detroit-international-womens-day-summit
LOCATION:Google\, 52 Henry St\, Detroit\, MI
CATEGORIES:Business,Finance,Mobility,Networking,Tech
GEO:42.340458;-83.054494
X-APPLE-STRUCTURED-LOCATION;VALUE=URI;X-ADDRESS=Google 52 Henry St Detroit MI;X-APPLE-RADIUS=500;X-TITLE=52 Henry St:geo:-83.054494,42.340458
END:VEVENT
END:VCALENDAR