BEGIN:VCALENDAR
VERSION:2.0
PRODID:-//Discover Detroit Art - ECPv6.0.1//NONSGML v1.0//EN
CALSCALE:GREGORIAN
METHOD:PUBLISH
X-ORIGINAL-URL:https://detroitartdao.com
X-WR-CALDESC:Events for Discover Detroit Art
REFRESH-INTERVAL;VALUE=DURATION:PT1H
X-Robots-Tag:noindex
X-PUBLISHED-TTL:PT1H
BEGIN:VTIMEZONE
TZID:America/Detroit
BEGIN:DAYLIGHT
TZOFFSETFROM:-0500
TZOFFSETTO:-0400
TZNAME:EDT
DTSTART:20230312T070000
END:DAYLIGHT
BEGIN:STANDARD
TZOFFSETFROM:-0400
TZOFFSETTO:-0500
TZNAME:EST
DTSTART:20231105T060000
END:STANDARD
END:VTIMEZONE
BEGIN:VEVENT
DTSTART;TZID=America/Detroit:20230921T160000
DTEND;TZID=America/Detroit:20230921T210000
DTSTAMP:20260421T193647
CREATED:20230918T050251Z
LAST-MODIFIED:20230918T050251Z
UID:10002270-1695312000-1695330000@detroitartdao.com
SUMMARY:E. Warrenfest
DESCRIPTION:Join us for the E. Warrenfest on September 21 from 4 – 9 p.m. This event will celebrate all the amazing things happening in the neighborhood – Upcoming opening of Terri’s Cakes\, completion of the streetscape\, and all the investments along East Warren. There will be food trucks and live music! Come and support all of the amazing East Warren businesses. \nInvest Detroit\, in partnership with @bcbsmichigan is thrilled to support the event and several investments in the East Warren corridor through the Strategic Neighborhood Fund (SNF).
URL:https://detroitartdao.com/event/e-warrenfest
LOCATION:E. Warren Farmers Market\, 16835 E Warren Ave\, Detroit\, MI
GEO:42.4053433;-82.932614
X-APPLE-STRUCTURED-LOCATION;VALUE=URI;X-ADDRESS=E. Warren Farmers Market 16835 E Warren Ave Detroit MI;X-APPLE-RADIUS=500;X-TITLE=16835 E Warren Ave:geo:-82.932614,42.4053433
END:VEVENT
END:VCALENDAR