BEGIN:VCALENDAR
VERSION:2.0
PRODID:-//Discover Detroit Art - ECPv6.0.1//NONSGML v1.0//EN
CALSCALE:GREGORIAN
METHOD:PUBLISH
X-WR-CALNAME:Discover Detroit Art
X-ORIGINAL-URL:https://detroitartdao.com
X-WR-CALDESC:Events for Discover Detroit Art
REFRESH-INTERVAL;VALUE=DURATION:PT1H
X-Robots-Tag:noindex
X-PUBLISHED-TTL:PT1H
BEGIN:VTIMEZONE
TZID:America/Detroit
BEGIN:DAYLIGHT
TZOFFSETFROM:-0500
TZOFFSETTO:-0400
TZNAME:EDT
DTSTART:20220313T070000
END:DAYLIGHT
BEGIN:STANDARD
TZOFFSETFROM:-0400
TZOFFSETTO:-0500
TZNAME:EST
DTSTART:20221106T060000
END:STANDARD
END:VTIMEZONE
BEGIN:VEVENT
DTSTART;TZID=America/Detroit:20220902T190000
DTEND;TZID=America/Detroit:20220902T210000
DTSTAMP:20260424T092517
CREATED:20220829T073237Z
LAST-MODIFIED:20220829T073515Z
UID:10000359-1662145200-1662152400@detroitartdao.com
SUMMARY:It Takes A Village - One-Night-Only Exhibition At Library Street Collective
DESCRIPTION:On September 2nd\, 2022\, Library Street Collective and @LouisBuhl are hosting 𝙄𝙩 𝙏𝙖𝙠𝙚𝙨 𝙖 𝙑𝙞𝙡𝙡𝙖𝙜𝙚\, a one-night-only benefit exhibition featuring over 70 artists to raise funds for a public skatepark on the grounds of @theShepherdDetroit in Detroit’s East Village\, designed by @TonyHawk and artist @McArthurBinion and built by @NewLineSkateparks. The project is in partnership with @JeffersonEastInc\, a non-profit organization that serves low-income populations on Detroit’s east side. ⁠⠀⁠⠀\n⁠⠀⁠⠀\nIncluded in the exhibition is @JudyBowmanArtist‘s “Rise Up I\,” 2022. Bowman is a Detroit-based artist who reframes narratives around the Black experience\, rooted in scenes that have nurtured her upbringing in Detroit’s Eastside community and Black Bottom neighborhood. Bowman’s emotionally charged mixed-media collages represent everyday life\, with vibrant portraits that reflect human relationships\, love\, faith and moments in time and place.\n⁠⠀⁠⠀\n𝙄𝙩 𝙏𝙖𝙠𝙚𝙨 𝙖 𝙑𝙞𝙡𝙡𝙖𝙜𝙚 will be on display for one night only on September 2nd from 7-9 PM at Library Street Collective and Louis Buhl in downtown Detroit.⁠⠀
URL:https://detroitartdao.com/event/it-takes-a-village-one-night-only-exhibition-at-library-street-collective
LOCATION:Library Street Collective\, 1260 Library Street\, Detroit\, MI\, 48226
CATEGORIES:Art
GEO:42.334728;-83.047255
X-APPLE-STRUCTURED-LOCATION;VALUE=URI;X-ADDRESS=Library Street Collective 1260 Library Street Detroit MI 48226;X-APPLE-RADIUS=500;X-TITLE=1260 Library Street:geo:-83.047255,42.334728
END:VEVENT
BEGIN:VEVENT
DTSTART;TZID=America/Detroit:20220815T080000
DTEND;TZID=America/Detroit:20220815T170000
DTSTAMP:20260424T092517
CREATED:20220816T032929Z
LAST-MODIFIED:20220816T032929Z
UID:10000339-1660550400-1660582800@detroitartdao.com
SUMMARY:Library Street Collective Exhibition  José Parlá – Polarities
DESCRIPTION:
URL:https://detroitartdao.com/event/library-street-collective-exhibition-jose-parla-polarities
LOCATION:Library Street Collective\, 1260 Library Street\, Detroit\, MI\, 48226
CATEGORIES:Art
GEO:42.334728;-83.047255
X-APPLE-STRUCTURED-LOCATION;VALUE=URI;X-ADDRESS=Library Street Collective 1260 Library Street Detroit MI 48226;X-APPLE-RADIUS=500;X-TITLE=1260 Library Street:geo:-83.047255,42.334728
END:VEVENT
END:VCALENDAR