BEGIN:VCALENDAR
VERSION:2.0
PRODID:-//Discover Detroit Art - ECPv6.0.1//NONSGML v1.0//EN
CALSCALE:GREGORIAN
METHOD:PUBLISH
X-WR-CALNAME:Discover Detroit Art
X-ORIGINAL-URL:https://detroitartdao.com
X-WR-CALDESC:Events for Discover Detroit Art
REFRESH-INTERVAL;VALUE=DURATION:PT1H
X-Robots-Tag:noindex
X-PUBLISHED-TTL:PT1H
BEGIN:VTIMEZONE
TZID:America/Detroit
BEGIN:DAYLIGHT
TZOFFSETFROM:-0500
TZOFFSETTO:-0400
TZNAME:EDT
DTSTART:20230312T070000
END:DAYLIGHT
BEGIN:STANDARD
TZOFFSETFROM:-0400
TZOFFSETTO:-0500
TZNAME:EST
DTSTART:20231105T060000
END:STANDARD
END:VTIMEZONE
BEGIN:VEVENT
DTSTART;TZID=America/Detroit:20230518T180000
DTEND;TZID=America/Detroit:20230518T200000
DTSTAMP:20260425T114224
CREATED:20230419T020255Z
LAST-MODIFIED:20230419T020255Z
UID:10000985-1684432800-1684440000@detroitartdao.com
SUMMARY:WOMEN IN WEB3 DETROIT
DESCRIPTION:Join us for Women in Web3\, a 3-part event series in Metro Detroit. Connect with women in the Web3 industry\, gain insights\, and enjoy interactive discussions. All experience levels are welcome. Meet like-minded individuals in a trendy bar setting and be part of a supportive community dedicated to empowering women to succeed in Web3. Don’t miss out. Register now! \nRegardless of your experience level\, you are invited to participate and take advantage of the many networking opportunities and interactive discussions. By attending the Women in Web3 Networking Mixer\, you will be part of a supportive community that is dedicated to empowering and inspiring women in the Web3 industry to succeed. \nThe event takes place in a trendy bar setting\, creating a relaxed and inviting atmosphere for attendees to engage and connect with like-minded individuals. This unique setting adds to the event’s appeal and helps to create a welcoming and inclusive environment for women interested in or working in the Web3 space. \nDon’t miss out on this exciting opportunity to connect with other women in the field and expand your knowledge and network! Register now for the Women in Web3 Networking Mixer and be part of a growing community that is contributing to Detroit’s growth as a leader in technology and innovation.
URL:https://detroitartdao.com/event/women-in-web3-detroit
LOCATION:Spotlite Detroit\, 2905 Beaufait Street #4\, Detroit\, MI\, 48207\, United States
CATEGORIES:Business,Crypto,Networking,Tech,WEB3
GEO:42.3580524;-83.0167091
X-APPLE-STRUCTURED-LOCATION;VALUE=URI;X-ADDRESS=Spotlite Detroit 2905 Beaufait Street #4 Detroit MI 48207 United States;X-APPLE-RADIUS=500;X-TITLE=2905 Beaufait Street #4:geo:-83.0167091,42.3580524
END:VEVENT
BEGIN:VEVENT
DTSTART;TZID=America/Detroit:20230420T180000
DTEND;TZID=America/Detroit:20230420T200000
DTSTAMP:20260425T114224
CREATED:20230419T020140Z
LAST-MODIFIED:20230419T020141Z
UID:10000984-1682013600-1682020800@detroitartdao.com
SUMMARY:WOMEN IN WEB3 DETROIT
DESCRIPTION:Join us for Women in Web3\, a 3-part event series in Metro Detroit. Connect with women in the Web3 industry\, gain insights\, and enjoy interactive discussions. All experience levels are welcome. Meet like-minded individuals in a trendy bar setting and be part of a supportive community dedicated to empowering women to succeed in Web3. Don’t miss out. Register now! \nRegardless of your experience level\, you are invited to participate and take advantage of the many networking opportunities and interactive discussions. By attending the Women in Web3 Networking Mixer\, you will be part of a supportive community that is dedicated to empowering and inspiring women in the Web3 industry to succeed. \nThe event takes place in a trendy bar setting\, creating a relaxed and inviting atmosphere for attendees to engage and connect with like-minded individuals. This unique setting adds to the event’s appeal and helps to create a welcoming and inclusive environment for women interested in or working in the Web3 space. \nDon’t miss out on this exciting opportunity to connect with other women in the field and expand your knowledge and network! Register now for the Women in Web3 Networking Mixer and be part of a growing community that is contributing to Detroit’s growth as a leader in technology and innovation.
URL:https://detroitartdao.com/event/women-in-web3-detroit-2
LOCATION:Spotlite Detroit\, 2905 Beaufait Street #4\, Detroit\, MI\, 48207\, United States
CATEGORIES:Business,Crypto,Networking,Tech,WEB3
GEO:42.3580524;-83.0167091
X-APPLE-STRUCTURED-LOCATION;VALUE=URI;X-ADDRESS=Spotlite Detroit 2905 Beaufait Street #4 Detroit MI 48207 United States;X-APPLE-RADIUS=500;X-TITLE=2905 Beaufait Street #4:geo:-83.0167091,42.3580524
END:VEVENT
END:VCALENDAR