BEGIN:VCALENDAR
VERSION:2.0
PRODID:-//Discover Detroit Art - ECPv6.0.1//NONSGML v1.0//EN
CALSCALE:GREGORIAN
METHOD:PUBLISH
X-WR-CALNAME:Discover Detroit Art
X-ORIGINAL-URL:https://detroitartdao.com
X-WR-CALDESC:Events for Discover Detroit Art
REFRESH-INTERVAL;VALUE=DURATION:PT1H
X-Robots-Tag:noindex
X-PUBLISHED-TTL:PT1H
BEGIN:VTIMEZONE
TZID:America/Detroit
BEGIN:DAYLIGHT
TZOFFSETFROM:-0500
TZOFFSETTO:-0400
TZNAME:EDT
DTSTART:20230312T070000
END:DAYLIGHT
BEGIN:STANDARD
TZOFFSETFROM:-0400
TZOFFSETTO:-0500
TZNAME:EST
DTSTART:20231105T060000
END:STANDARD
END:VTIMEZONE
BEGIN:VEVENT
DTSTART;TZID=America/Detroit:20230412T110000
DTEND;TZID=America/Detroit:20230412T130000
DTSTAMP:20260422T191536
CREATED:20230411T024022Z
LAST-MODIFIED:20230411T024023Z
UID:10000977-1681297200-1681304400@detroitartdao.com
SUMMARY:ChatGPT\, AI & The Future of Business
DESCRIPTION:The latest news about Open AI’s ChatGPT has caused an uproar. The solution is a generative AI\, a set of conversational algorithms enhanced with training data. \nSince the free version of ChatGPT went public\, we’re witnessing similar tools spreading at lightspeed. There are resources available to create texts\, images\, and audio content — and they’re achieving good results even in tasks such as writing songs and books. \nWhy tune in?\nMJV will put together a team of experts in design\, data\, product management\, and market research to address how AI will impact business from now on. We’ll cover: \n– The changing paradigms of ChatGPT and similar tools in business.\n– The role of professionals managing AI tools.\n– The competitive difference of investing in Artificial Intelligence.\n– Why ChatGPT tends to overtake Metaverse in companies’ list of priorities. \nWhen\nApril 12\, Wednesday (11am ET / 8am PT) \nThe Speakers\nFor this challenge\, we chose our home experts Hugo Gripa (Anthropologist & Service Design Lead)\, Tiago Esteves (Data & Product Lead)\, and Lucas Mindêllo (Technology Strategist). \nJoin on Linkedin live on April 12 (11am ET)\, and find out how ChatGPT and Artificial Intelligence will shape the future of business.
URL:https://detroitartdao.com/event/chatgpt-ai-the-future-of-business
CATEGORIES:AI,Business,Networking,Tech
END:VEVENT
END:VCALENDAR