BEGIN:VCALENDAR
VERSION:2.0
PRODID:-//Discover Detroit Art - ECPv6.0.1//NONSGML v1.0//EN
CALSCALE:GREGORIAN
METHOD:PUBLISH
X-WR-CALNAME:Discover Detroit Art
X-ORIGINAL-URL:https://detroitartdao.com
X-WR-CALDESC:Events for Discover Detroit Art
REFRESH-INTERVAL;VALUE=DURATION:PT1H
X-Robots-Tag:noindex
X-PUBLISHED-TTL:PT1H
BEGIN:VTIMEZONE
TZID:America/Detroit
BEGIN:DAYLIGHT
TZOFFSETFROM:-0500
TZOFFSETTO:-0400
TZNAME:EDT
DTSTART:20260308T070000
END:DAYLIGHT
BEGIN:STANDARD
TZOFFSETFROM:-0400
TZOFFSETTO:-0500
TZNAME:EST
DTSTART:20261101T060000
END:STANDARD
END:VTIMEZONE
BEGIN:VEVENT
DTSTART;TZID=America/Detroit:20260420T170000
DTEND;TZID=America/Detroit:20260420T190000
DTSTAMP:20260420T081541
CREATED:20260325T134642Z
LAST-MODIFIED:20260419T163133Z
UID:10017345-1776704400-1776711600@detroitartdao.com
SUMMARY:Alumni Cluster # 1: Food and Beverage Roundtable
DESCRIPTION:Monday\, April 20 | 5:00 p.m. – 7:00 p.m. Lunes 20 de abril \n\n\nThis session will be held in-person at La Terraza Restaurant. Check-in opens at 4:45 p.m. \nEsta sesión se llevará a cabo de manera presencial en el restaurante La Terraza. Bienvenida comienza a las 4:45 p.m. \n\n\n\nSession 1: The Business Behind the Plate\nOur first session will bring together food and beverage entrepreneurs: from cafés and restaurants to caterers\, food trucks\, and meal prep businesses. Whether you run a storefront\, pop-up\, or delivery-based operation through platforms like DoorDash or UberEats\, this is a chance to share experiences and talk about what’s working in today’s F&B climate. \nWhat to expect? \n\nPeer-to-peer conversations\, no panels.\nDiscuss what’s actually working and what’s not.\nShare real-world experiences.\nGrow your brand together.\n\nCome ready for an open\, slide-free conversation about the real-world grind. \nSesión 1: El Negocio Detrás del Plato\nNuestra primera sesión reunirá a emprendedores del sector de alimentos y bebidas: desde cafeterías y restaurantes hasta servicios de catering\, food trucks y negocios de preparación de comidas (meal prep). \nYa sea que tengas un local físico\, una tienda pop-up o que operes mediante entregas a domicilio a través de plataformas como DoorDash o UberEats\, esta es una oportunidad para compartir experiencias y hablar sobre lo que realmente está funcionando en el clima actual del sector. \n¿Qué puedes esperar? \n\nSolo conversación\, no panelistas.\nDiscutir lo que realmente funciona y lo que no.\nCompartir experiencias reales\nHacer crecer tu marca en conjunto.\n\n\nVen listo para una conversacion abierta\, sin diapositivas\, sobre el día a día real del mundo del negocio detrals del plato.
URL:https://detroitartdao.com/event/alumni-cluster-1-food-and-beverage-roundtable
LOCATION:La Terraza Restaurant\, 8445 Vernor Hwy\,\, Detroit\, MI\, 48209\, United States
ATTACH;FMTTYPE=image/png:https://dpop.nyc3.digitaloceanspaces.com/wp-content/uploads/2026/03/25094646/Screenshot-2026-03-24-at-1.25.53-PM-5M2qST.tmp_.png
ORGANIZER;CN="TechTown%20Detroit":MAILTO:marketing@techtowndetroit.org
GEO:42.3097774;-83.1308413
X-APPLE-STRUCTURED-LOCATION;VALUE=URI;X-ADDRESS=La Terraza Restaurant 8445 Vernor Hwy Detroit MI 48209 United States;X-APPLE-RADIUS=500;X-TITLE=8445 Vernor Hwy\,:geo:-83.1308413,42.3097774
END:VEVENT
BEGIN:VEVENT
DTSTART;TZID=America/Detroit:20260421T170000
DTEND;TZID=America/Detroit:20260421T200000
DTSTAMP:20260420T081541
CREATED:20260323T134646Z
LAST-MODIFIED:20260419T163134Z
UID:10017309-1776790800-1776801600@detroitartdao.com
SUMMARY:Comerica Hatch Detroit Contest Top 10 Reveal
DESCRIPTION:The moment we’ve all been waiting for is here! After a rigorous selection process\, the Top 10 semifinalists of the 2026 Comerica Hatch Detroit Contest by TechTown will be announced. Join us to be the first to meet the contestants! \nPURCHASE TICKETS HERE \nDoors at 5 p.m. | 5:30 – 6 p.m. | Sneak Peek Meet & Greet Happy Hour \nThis talk show-style fireside chat is your chance to meet the Top 10 semifinalists and ask questions about their business: how and why they got started\, where and why they want to be in your neighborhood\, and what it would mean if they win. \nNote: Seating capacity is limited. The Meet\, Mix & Mingle Open House will immediately follow. \n6:15 – 8 p.m. | Meet\, Mix & Mingle Open House \nMix and mingle with the Top 10 semifinalists and learn about their businesses. Stop by the Open House anytime; come as you are and bring the whole family! \nDetails \nTickets are $20 and include complimentary drinks and small bites from Hatch Detroit alumni businesses. A donation with your ticket purchase will help provide dedicated support to Hatch alumni as they continue their entrepreneurial journey of opening a storefront. \nPURCHASE TICKETS HERE \n\nABOUT THE CONTEST \nThe Comerica Hatch Detroit Contest by TechTown is a retail competition that gives savvy entrepreneurs the chance to win a $100\,000 cash grant and a package of in-kind services to open up their brick-and-mortar storefront in Detroit\, Hamtramck\, or Highland Park. \nThe Comerica Hatch Detroit Contest by TechTown is supported by Comerica\, EY\, and Goldman Sachs 10\,000 Small Businesses. \nLearn more at hatchdetroit.com. \nSign up to receive Hatch Detroit emails and stay in the loop about the contest\, alumni and more!
URL:https://detroitartdao.com/event/comerica-hatch-detroit-contest-top-10-reveal-2
LOCATION:TechTown Detroit\, 440 Burroughs Street\, Detroit\, MI\, 48202\, United States
ATTACH;FMTTYPE=image/png:https://dpop.nyc3.digitaloceanspaces.com/wp-content/uploads/2026/01/23023327/HatchDetroit-BLUE-scaled-tPBGof.tmp_.png
ORGANIZER;CN="TechTown%20Detroit":MAILTO:marketing@techtowndetroit.org
GEO:42.3650544;-83.0730212
X-APPLE-STRUCTURED-LOCATION;VALUE=URI;X-ADDRESS=TechTown Detroit 440 Burroughs Street Detroit MI 48202 United States;X-APPLE-RADIUS=500;X-TITLE=440 Burroughs Street:geo:-83.0730212,42.3650544
END:VEVENT
BEGIN:VEVENT
DTSTART;TZID=America/Detroit:20260428T113000
DTEND;TZID=America/Detroit:20260428T130000
DTSTAMP:20260420T081541
CREATED:20260329T140145Z
LAST-MODIFIED:20260419T163135Z
UID:10017427-1777375800-1777381200@detroitartdao.com
SUMMARY:Building a Resilient Business
DESCRIPTION:All businesses face adversity sooner or later\, but the ones that recover and thrive are those that understand how to take inventory of what they have and adapt to changes. \nJoin TechTown and ACCESS for this two-hour session to learn how to assess and enhance your business’s resilience. Through engaging activities\, expert guidance\, and collaborative discussions\, you’ll identify key areas of vulnerability and explore practical strategies to adapt\, innovate\, and grow — even in the face of adversity. Walk away with a personalized resiliency plan tailored to your business’s unique needs. \nWhy Attend? \n\nHands-on approach: Build practical\, actionable plans tailored to your business.\nInteractive learning: Engage with industry experts and fellow business owners for fresh insights and ideas.\nTake home results: Leave with a comprehensive\, ready-to-implement plan.\n\nDon’t let uncertainty hold you back. Invest in your business’s future with this dynamic workshop and gain the tools\, confidence and strategies to weather any storm and seize new opportunities. \n\n\n\n\n\n\n\n\n\n\n\n\n\n\n\n\n\n\n\n\n\nThis workshop is made possible with support from LISC Detroit.
URL:https://detroitartdao.com/event/building-a-resilient-business-2
LOCATION:TechTown Detroit\, 440 Burroughs Street\, Detroit\, MI\, 48202\, United States
ATTACH;FMTTYPE=image/png:https://dpop.nyc3.digitaloceanspaces.com/wp-content/uploads/2026/03/29100148/Screenshot-2026-03-13-at-4.31.23-PM-geSiG6.tmp_.png
ORGANIZER;CN="TechTown%20Detroit":MAILTO:marketing@techtowndetroit.org
GEO:42.3650544;-83.0730212
X-APPLE-STRUCTURED-LOCATION;VALUE=URI;X-ADDRESS=TechTown Detroit 440 Burroughs Street Detroit MI 48202 United States;X-APPLE-RADIUS=500;X-TITLE=440 Burroughs Street:geo:-83.0730212,42.3650544
END:VEVENT
BEGIN:VEVENT
DTSTART;TZID=America/Detroit:20260429T110000
DTEND;TZID=America/Detroit:20260429T140000
DTSTAMP:20260420T081541
CREATED:20260330T141646Z
LAST-MODIFIED:20260419T163136Z
UID:10017428-1777460400-1777471200@detroitartdao.com
SUMMARY:The SHOP at TechTown
DESCRIPTION:Experience the best of Detroit’s small business community at The SHOP\, TechTown Detroit’s monthly retail pop-up marketplace! Join us in person on the last Wednesday of every month to explore unique products\, connect with local entrepreneurs and uncover your next favorite find. Mark your calendar and join us for a vibrant shopping experience celebrating Detroit’s small business community! \nInterested in participating in The SHOP? Submit an interest form today! \nThe SHOP at TechTown is made possible with support from the Ralph C. Wilson\, Jr. Foundation and Wells Fargo.
URL:https://detroitartdao.com/event/the-shop-at-techtown-4
LOCATION:TechTown Detroit\, 440 Burroughs Street\, Detroit\, MI\, 48202\, United States
ATTACH;FMTTYPE=image/png:https://dpop.nyc3.digitaloceanspaces.com/wp-content/uploads/2026/03/30101648/600x337-Newsletter-SHOP-Graphics-1-OYElHU.tmp_.png
ORGANIZER;CN="TechTown%20Detroit":MAILTO:marketing@techtowndetroit.org
GEO:42.3650544;-83.0730212
X-APPLE-STRUCTURED-LOCATION;VALUE=URI;X-ADDRESS=TechTown Detroit 440 Burroughs Street Detroit MI 48202 United States;X-APPLE-RADIUS=500;X-TITLE=440 Burroughs Street:geo:-83.0730212,42.3650544
END:VEVENT
BEGIN:VEVENT
DTSTART;TZID=America/Detroit:20260507T173000
DTEND;TZID=America/Detroit:20260507T193000
DTSTAMP:20260420T081541
CREATED:20260407T153201Z
LAST-MODIFIED:20260419T163137Z
UID:10017518-1778175000-1778182200@detroitartdao.com
SUMMARY:First Thursdays
DESCRIPTION:Join us for a dynamic networking event that brings together entrepreneurs\, startups\, and ecosystem partners in a celebration of innovation and collaboration. First Thursdays is a monthly gathering where the entrepreneurial community comes together to share ideas\, learn from one another\, and build meaningful relationships. Whether you’re a seasoned business owner or just starting out\, you’ll find value in this welcoming space. \nConnect with fellow entrepreneurs and industry experts\, and discover opportunities to collaborate with like-minded individuals. Each month\, we spotlight up-and-coming business owners to share what they do and inspire others in the community. Interested in being featured as a business spotlight participant? Complete the interest form! Join us at First Thursdays and become part of a thriving community. \nFirst Thursdays is made possible with support from the Canadian Imperial Bank of Commerce (CIBC). \nReserve your spot today!
URL:https://detroitartdao.com/event/first-thursdays-17
LOCATION:TechTown Detroit\, 440 Burroughs Street\, Detroit\, MI\, 48202\, United States
ATTACH;FMTTYPE=image/jpeg:https://dpop.nyc3.digitaloceanspaces.com/wp-content/uploads/2025/12/08233133/FirstThursday_GenericSocial600x337-1-4B5HtN.tmp_.jpg
ORGANIZER;CN="TechTown%20Detroit":MAILTO:marketing@techtowndetroit.org
GEO:42.3650544;-83.0730212
X-APPLE-STRUCTURED-LOCATION;VALUE=URI;X-ADDRESS=TechTown Detroit 440 Burroughs Street Detroit MI 48202 United States;X-APPLE-RADIUS=500;X-TITLE=440 Burroughs Street:geo:-83.0730212,42.3650544
END:VEVENT
BEGIN:VEVENT
DTSTART;TZID=America/Detroit:20260513T183000
DTEND;TZID=America/Detroit:20260513T210000
DTSTAMP:20260420T081541
CREATED:20260413T160146Z
LAST-MODIFIED:20260419T163139Z
UID:10017616-1778697000-1778706000@detroitartdao.com
SUMMARY:Comerica Hatch Detroit Contest Hatch Off
DESCRIPTION:Join us at the Hatch Off to watch the Top 4 finalists of the 2026 Comerica Hatch Detroit Contest compete for a cash grant to open up their brick-and-mortar retail business! \nThe finalists will make one last pitch in front of a panel of judges and a live audience. Thanks to Comerica Bank’s support\, the winning business will be awarded $100\,000! The winner will also receive an in-kind business support package from TechTown Detroit and its partners. We’ll make a dream come true\, and you’ll have a front-row seat. \nTickets are $25 and include complimentary drinks and small bites from Hatch Detroit alumni businesses. A donation with your ticket purchase will help provide dedicated support to Hatch alumni as they continue their entrepreneurial journey of opening a storefront. \nThis is a celebration of all things local in Detroit: food\, music\, and fun! \n\nABOUT THE CONTEST \nThe Comerica Hatch Detroit Contest by TechTown is a retail competition that gives savvy entrepreneurs the chance to win a cash grant and a package of in-kind services to open up their brick-and-mortar storefront in Detroit\, Hamtramck\, or Highland Park. \nThe Comerica Hatch Detroit Contest is supported by Comerica\, EY\, and Goldman Sachs 10\,000 Small Businesses. \nLearn more at hatchdetroit.com. \nSign up to receive Hatch Detroit emails and stay in the loop about the contest\, alumni and more!
URL:https://detroitartdao.com/event/comerica-hatch-detroit-contest-hatch-off-2
LOCATION:WSU Industry Innovation Center (I2C)\, 461 Burroughs St\, Detroit\, MI\, 48202\, United States
ATTACH;FMTTYPE=image/png:https://dpop.nyc3.digitaloceanspaces.com/wp-content/uploads/2026/01/23023327/HatchDetroit-BLUE-scaled-tPBGof.tmp_.png
ORGANIZER;CN="TechTown%20Detroit":MAILTO:marketing@techtowndetroit.org
GEO:42.364594;-83.072755
X-APPLE-STRUCTURED-LOCATION;VALUE=URI;X-ADDRESS=WSU Industry Innovation Center (I2C) 461 Burroughs St Detroit MI 48202 United States;X-APPLE-RADIUS=500;X-TITLE=461 Burroughs St:geo:-83.072755,42.364594
END:VEVENT
END:VCALENDAR