BEGIN:VCALENDAR
VERSION:2.0
PRODID:-//Discover Detroit Art - ECPv6.0.1//NONSGML v1.0//EN
CALSCALE:GREGORIAN
METHOD:PUBLISH
X-ORIGINAL-URL:https://detroitartdao.com
X-WR-CALDESC:Events for Discover Detroit Art
REFRESH-INTERVAL;VALUE=DURATION:PT1H
X-Robots-Tag:noindex
X-PUBLISHED-TTL:PT1H
BEGIN:VTIMEZONE
TZID:America/Detroit
BEGIN:DAYLIGHT
TZOFFSETFROM:-0500
TZOFFSETTO:-0400
TZNAME:EDT
DTSTART:20220313T070000
END:DAYLIGHT
BEGIN:STANDARD
TZOFFSETFROM:-0400
TZOFFSETTO:-0500
TZNAME:EST
DTSTART:20221106T060000
END:STANDARD
BEGIN:DAYLIGHT
TZOFFSETFROM:-0500
TZOFFSETTO:-0400
TZNAME:EDT
DTSTART:20230312T070000
END:DAYLIGHT
BEGIN:STANDARD
TZOFFSETFROM:-0400
TZOFFSETTO:-0500
TZNAME:EST
DTSTART:20231105T060000
END:STANDARD
END:VTIMEZONE
BEGIN:VEVENT
DTSTART;TZID=America/Detroit:20221125T200000
DTEND;TZID=America/Detroit:20221126T020000
DTSTAMP:20260425T082455
CREATED:20221122T032139Z
LAST-MODIFIED:20221122T033346Z
UID:10000413-1669406400-1669428000@detroitartdao.com
SUMMARY:Big Pink Opening Weekend -  PART ONE
DESCRIPTION:~BIG PINK PRESENTS~ \nFRIDAY • PART ONE \n– JONAH BAEBALL\n– DEON JAMAR\n– ???????????? \nMUSIC // DRINKS // ART \n6440 WIGHT ST. DETROIT\, MI \nBig Pink is opening on the east side of Detroit\, located in a facility previously owned by Detroit Urban Survival Training.
URL:https://detroitartdao.com/event/big-pink-opening-night
LOCATION:Big Pink\, 6440 Wight Street\, Detroit\, MI
GEO:42.3423259;-83.0073267
X-APPLE-STRUCTURED-LOCATION;VALUE=URI;X-ADDRESS=Big Pink 6440 Wight Street Detroit MI;X-APPLE-RADIUS=500;X-TITLE=6440 Wight Street:geo:-83.0073267,42.3423259
END:VEVENT
BEGIN:VEVENT
DTSTART;TZID=America/Detroit:20221126T200000
DTEND;TZID=America/Detroit:20221127T020000
DTSTAMP:20260425T082455
CREATED:20221122T032544Z
LAST-MODIFIED:20221122T033321Z
UID:10000414-1669492800-1669514400@detroitartdao.com
SUMMARY:Big Pink Opening Weekend -  PART TWO
DESCRIPTION:~BIG PINK PRESENTS~ \nSATURDAY • PART TWO \n– BLAAQGOLD\n– SILLYGIRLCARMEN\n– JON DIXON *LIVE* \nMUSIC // DRINKS // ART \n6440 WIGHT ST. DETROIT\, MI \nBig Pink is opening on the east side of Detroit\, located in a facility previously owned by Detroit Urban Survival Training.
URL:https://detroitartdao.com/event/big-pink-opening-weekend-part-two
LOCATION:Big Pink\, 6440 Wight Street\, Detroit\, MI
GEO:42.3423259;-83.0073267
X-APPLE-STRUCTURED-LOCATION;VALUE=URI;X-ADDRESS=Big Pink 6440 Wight Street Detroit MI;X-APPLE-RADIUS=500;X-TITLE=6440 Wight Street:geo:-83.0073267,42.3423259
END:VEVENT
BEGIN:VEVENT
DTSTART;TZID=America/Detroit:20230524T190000
DTEND;TZID=America/Detroit:20230525T010000
DTSTAMP:20260425T082455
CREATED:20230523T233220Z
LAST-MODIFIED:20230523T233220Z
UID:10000999-1684954800-1684976400@detroitartdao.com
SUMMARY:Art Night Detroit x Big Pink
DESCRIPTION:THIS WEDNESDAY! (05/24) Before the madness that is memorial weekend\, we partnered up with @artnightdetroit for an Art Party! 🎨 Join us for drinks\, music\, ping pong\, and painting all night long! We’ve got a stacked line up of local djs – see you soooooon 🕊️
URL:https://detroitartdao.com/event/art-night-detroit-x-big-pink
LOCATION:Big Pink\, 6440 Wight Street\, Detroit\, MI
CATEGORIES:Art,Tech
ATTACH;FMTTYPE=image/jpeg:https://detroitartdao.com/wp-content/uploads/2023/05/348514450_635390268069156_5140722689521462810_n.jpg
GEO:42.3423259;-83.0073267
X-APPLE-STRUCTURED-LOCATION;VALUE=URI;X-ADDRESS=Big Pink 6440 Wight Street Detroit MI;X-APPLE-RADIUS=500;X-TITLE=6440 Wight Street:geo:-83.0073267,42.3423259
END:VEVENT
BEGIN:VEVENT
DTSTART;TZID=America/Detroit:20230525T210000
DTEND;TZID=America/Detroit:20230526T040000
DTSTAMP:20260425T082455
CREATED:20230525T003032Z
LAST-MODIFIED:20230525T003726Z
UID:10001019-1685048400-1685073600@detroitartdao.com
SUMMARY:That Bounce
DESCRIPTION:
URL:https://detroitartdao.com/event/that-bounce
LOCATION:Big Pink\, 6440 Wight Street\, Detroit\, MI
CATEGORIES:Art,Music
GEO:42.3423259;-83.0073267
X-APPLE-STRUCTURED-LOCATION;VALUE=URI;X-ADDRESS=Big Pink 6440 Wight Street Detroit MI;X-APPLE-RADIUS=500;X-TITLE=6440 Wight Street:geo:-83.0073267,42.3423259
END:VEVENT
BEGIN:VEVENT
DTSTART;TZID=America/Detroit:20230526T230000
DTEND;TZID=America/Detroit:20230527T040000
DTSTAMP:20260425T082455
CREATED:20230525T003108Z
LAST-MODIFIED:20230525T003716Z
UID:10001208-1685142000-1685160000@detroitartdao.com
SUMMARY:A Really Big Party
DESCRIPTION:
URL:https://detroitartdao.com/event/a-really-big-party
LOCATION:Big Pink\, 6440 Wight Street\, Detroit\, MI
CATEGORIES:Art,Music
GEO:42.3423259;-83.0073267
X-APPLE-STRUCTURED-LOCATION;VALUE=URI;X-ADDRESS=Big Pink 6440 Wight Street Detroit MI;X-APPLE-RADIUS=500;X-TITLE=6440 Wight Street:geo:-83.0073267,42.3423259
END:VEVENT
BEGIN:VEVENT
DTSTART;TZID=America/Detroit:20230527T220000
DTEND;TZID=America/Detroit:20230528T040000
DTSTAMP:20260425T082455
CREATED:20230525T003109Z
LAST-MODIFIED:20230525T003710Z
UID:10001210-1685224800-1685246400@detroitartdao.com
SUMMARY:Memory Palace x DEF – Detroit Takeover
DESCRIPTION:
URL:https://detroitartdao.com/event/memory-palace-x-def-detroit-takeover
LOCATION:Big Pink\, 6440 Wight Street\, Detroit\, MI
CATEGORIES:Art,Music
GEO:42.3423259;-83.0073267
X-APPLE-STRUCTURED-LOCATION;VALUE=URI;X-ADDRESS=Big Pink 6440 Wight Street Detroit MI;X-APPLE-RADIUS=500;X-TITLE=6440 Wight Street:geo:-83.0073267,42.3423259
END:VEVENT
BEGIN:VEVENT
DTSTART;TZID=America/Detroit:20230528T235900
DTEND;TZID=America/Detroit:20230529T040000
DTSTAMP:20260425T082455
CREATED:20230525T003110Z
LAST-MODIFIED:20230525T003635Z
UID:10001214-1685318340-1685332800@detroitartdao.com
SUMMARY:Terminal Velocity
DESCRIPTION:
URL:https://detroitartdao.com/event/terminal-velocity
LOCATION:Big Pink\, 6440 Wight Street\, Detroit\, MI
CATEGORIES:Art,Music
GEO:42.3423259;-83.0073267
X-APPLE-STRUCTURED-LOCATION;VALUE=URI;X-ADDRESS=Big Pink 6440 Wight Street Detroit MI;X-APPLE-RADIUS=500;X-TITLE=6440 Wight Street:geo:-83.0073267,42.3423259
END:VEVENT
BEGIN:VEVENT
DTSTART;TZID=America/Detroit:20230529T210000
DTEND;TZID=America/Detroit:20230530T040000
DTSTAMP:20260425T082455
CREATED:20230525T003110Z
LAST-MODIFIED:20230525T003633Z
UID:10001216-1685394000-1685419200@detroitartdao.com
SUMMARY:Habstrakt
DESCRIPTION:
URL:https://detroitartdao.com/event/habstrakt
LOCATION:Big Pink\, 6440 Wight Street\, Detroit\, MI
CATEGORIES:Art,Music
GEO:42.3423259;-83.0073267
X-APPLE-STRUCTURED-LOCATION;VALUE=URI;X-ADDRESS=Big Pink 6440 Wight Street Detroit MI;X-APPLE-RADIUS=500;X-TITLE=6440 Wight Street:geo:-83.0073267,42.3423259
END:VEVENT
BEGIN:VEVENT
DTSTART;TZID=America/Detroit:20230715T210000
DTEND;TZID=America/Detroit:20230716T020000
DTSTAMP:20260425T082455
CREATED:20230715T232533Z
LAST-MODIFIED:20230715T232534Z
UID:10001253-1689454800-1689472800@detroitartdao.com
SUMMARY:Pure House
DESCRIPTION:
URL:https://detroitartdao.com/event/pure-house
LOCATION:Big Pink\, 6440 Wight Street\, Detroit\, MI
CATEGORIES:Music
GEO:42.3423259;-83.0073267
X-APPLE-STRUCTURED-LOCATION;VALUE=URI;X-ADDRESS=Big Pink 6440 Wight Street Detroit MI;X-APPLE-RADIUS=500;X-TITLE=6440 Wight Street:geo:-83.0073267,42.3423259
END:VEVENT
BEGIN:VEVENT
DTSTART;TZID=America/Detroit:20230719T190000
DTEND;TZID=America/Detroit:20230720T020000
DTSTAMP:20260425T082455
CREATED:20230718T113721Z
LAST-MODIFIED:20231228T075750Z
UID:10001357-1689793200-1689818400@detroitartdao.com
SUMMARY:Art Night Detroit x Big Pink - Act III
DESCRIPTION:Art Night Detroit is back with some new additions! \nKick off the night with some yoga before we spend the night painting & dancing together!
URL:https://detroitartdao.com/event/art-night-detroit-x-big-pink-act-iii
LOCATION:Big Pink\, 6440 Wight Street\, Detroit\, MI
CATEGORIES:Art
GEO:42.3423259;-83.0073267
X-APPLE-STRUCTURED-LOCATION;VALUE=URI;X-ADDRESS=Big Pink 6440 Wight Street Detroit MI;X-APPLE-RADIUS=500;X-TITLE=6440 Wight Street:geo:-83.0073267,42.3423259
END:VEVENT
BEGIN:VEVENT
DTSTART;TZID=America/Detroit:20230721T210000
DTEND;TZID=America/Detroit:20230722T020000
DTSTAMP:20260425T082455
CREATED:20230718T234647Z
LAST-MODIFIED:20230720T234738Z
UID:10001371-1689973200-1689991200@detroitartdao.com
SUMMARY:Detlef
DESCRIPTION:
URL:https://detroitartdao.com/event/detlef
LOCATION:Big Pink\, 6440 Wight Street\, Detroit\, MI
CATEGORIES:Music
GEO:42.3423259;-83.0073267
X-APPLE-STRUCTURED-LOCATION;VALUE=URI;X-ADDRESS=Big Pink 6440 Wight Street Detroit MI;X-APPLE-RADIUS=500;X-TITLE=6440 Wight Street:geo:-83.0073267,42.3423259
END:VEVENT
BEGIN:VEVENT
DTSTART;TZID=America/Detroit:20230728T210000
DTEND;TZID=America/Detroit:20230729T020000
DTSTAMP:20260425T082455
CREATED:20230727T042024Z
LAST-MODIFIED:20230728T164649Z
UID:10001510-1690578000-1690596000@detroitartdao.com
SUMMARY:Planet Vibes
DESCRIPTION:
URL:https://detroitartdao.com/event/planet-vibes
LOCATION:Big Pink\, 6440 Wight Street\, Detroit\, MI
CATEGORIES:TheDetroitILove
GEO:42.3423259;-83.0073267
X-APPLE-STRUCTURED-LOCATION;VALUE=URI;X-ADDRESS=Big Pink 6440 Wight Street Detroit MI;X-APPLE-RADIUS=500;X-TITLE=6440 Wight Street:geo:-83.0073267,42.3423259
END:VEVENT
BEGIN:VEVENT
DTSTART;TZID=America/Detroit:20230729T210000
DTEND;TZID=America/Detroit:20230730T020000
DTSTAMP:20260425T082455
CREATED:20230727T042029Z
LAST-MODIFIED:20230729T164640Z
UID:10001523-1690664400-1690682400@detroitartdao.com
SUMMARY:Charivari Detroit BIG BIG Big Pink Prefestival Party
DESCRIPTION:
URL:https://detroitartdao.com/event/charivari-detroit-big-big-big-pink-prefestival-party
LOCATION:Big Pink\, 6440 Wight Street\, Detroit\, MI
CATEGORIES:TheDetroitILove
GEO:42.3423259;-83.0073267
X-APPLE-STRUCTURED-LOCATION;VALUE=URI;X-ADDRESS=Big Pink 6440 Wight Street Detroit MI;X-APPLE-RADIUS=500;X-TITLE=6440 Wight Street:geo:-83.0073267,42.3423259
END:VEVENT
BEGIN:VEVENT
DTSTART;TZID=America/Detroit:20230804T210000
DTEND;TZID=America/Detroit:20230805T020000
DTSTAMP:20260425T082455
CREATED:20230803T164641Z
LAST-MODIFIED:20230804T164638Z
UID:10001625-1691182800-1691200800@detroitartdao.com
SUMMARY:That Bounce
DESCRIPTION:
URL:https://detroitartdao.com/event/that-bounce-2
LOCATION:Big Pink\, 6440 Wight Street\, Detroit\, MI
CATEGORIES:TheDetroitILove
GEO:42.3423259;-83.0073267
X-APPLE-STRUCTURED-LOCATION;VALUE=URI;X-ADDRESS=Big Pink 6440 Wight Street Detroit MI;X-APPLE-RADIUS=500;X-TITLE=6440 Wight Street:geo:-83.0073267,42.3423259
END:VEVENT
BEGIN:VEVENT
DTSTART;TZID=America/Detroit:20230805T210000
DTEND;TZID=America/Detroit:20230806T020000
DTSTAMP:20260425T082455
CREATED:20230803T164650Z
LAST-MODIFIED:20230805T170140Z
UID:10001651-1691269200-1691287200@detroitartdao.com
SUMMARY:Future Blends
DESCRIPTION:
URL:https://detroitartdao.com/event/future-blends
LOCATION:Big Pink\, 6440 Wight Street\, Detroit\, MI
CATEGORIES:TheDetroitILove
GEO:42.3423259;-83.0073267
X-APPLE-STRUCTURED-LOCATION;VALUE=URI;X-ADDRESS=Big Pink 6440 Wight Street Detroit MI;X-APPLE-RADIUS=500;X-TITLE=6440 Wight Street:geo:-83.0073267,42.3423259
END:VEVENT
BEGIN:VEVENT
DTSTART;TZID=America/Detroit:20230810T200000
DTEND;TZID=America/Detroit:20230811T000000
DTSTAMP:20260425T082455
CREATED:20230809T171638Z
LAST-MODIFIED:20230810T171727Z
UID:10001707-1691697600-1691712000@detroitartdao.com
SUMMARY:Underground Village Fashion Show
DESCRIPTION:
URL:https://detroitartdao.com/event/underground-village-fashion-show
LOCATION:Big Pink\, 6440 Wight Street\, Detroit\, MI
CATEGORIES:TheDetroitILove
GEO:42.3423259;-83.0073267
X-APPLE-STRUCTURED-LOCATION;VALUE=URI;X-ADDRESS=Big Pink 6440 Wight Street Detroit MI;X-APPLE-RADIUS=500;X-TITLE=6440 Wight Street:geo:-83.0073267,42.3423259
END:VEVENT
BEGIN:VEVENT
DTSTART;TZID=America/Detroit:20230811T210000
DTEND;TZID=America/Detroit:20230812T020000
DTSTAMP:20260425T082455
CREATED:20230809T171652Z
LAST-MODIFIED:20230811T171641Z
UID:10001755-1691787600-1691805600@detroitartdao.com
SUMMARY:Throwbacks Night
DESCRIPTION:
URL:https://detroitartdao.com/event/throwbacks-night
LOCATION:Big Pink\, 6440 Wight Street\, Detroit\, MI
CATEGORIES:TheDetroitILove
GEO:42.3423259;-83.0073267
X-APPLE-STRUCTURED-LOCATION;VALUE=URI;X-ADDRESS=Big Pink 6440 Wight Street Detroit MI;X-APPLE-RADIUS=500;X-TITLE=6440 Wight Street:geo:-83.0073267,42.3423259
END:VEVENT
BEGIN:VEVENT
DTSTART;TZID=America/Detroit:20230812T210000
DTEND;TZID=America/Detroit:20230813T020000
DTSTAMP:20260425T082455
CREATED:20230809T171652Z
LAST-MODIFIED:20230812T171652Z
UID:10001756-1691874000-1691892000@detroitartdao.com
SUMMARY:No Phones
DESCRIPTION:
URL:https://detroitartdao.com/event/no-phones
LOCATION:Big Pink\, 6440 Wight Street\, Detroit\, MI
CATEGORIES:TheDetroitILove
GEO:42.3423259;-83.0073267
X-APPLE-STRUCTURED-LOCATION;VALUE=URI;X-ADDRESS=Big Pink 6440 Wight Street Detroit MI;X-APPLE-RADIUS=500;X-TITLE=6440 Wight Street:geo:-83.0073267,42.3423259
END:VEVENT
BEGIN:VEVENT
DTSTART;TZID=America/Detroit:20230818T210000
DTEND;TZID=America/Detroit:20230819T020000
DTSTAMP:20260425T082455
CREATED:20230815T223252Z
LAST-MODIFIED:20230818T164638Z
UID:10001793-1692392400-1692410400@detroitartdao.com
SUMMARY:Big Blends
DESCRIPTION:
URL:https://detroitartdao.com/event/big-blends
LOCATION:Big Pink\, 6440 Wight Street\, Detroit\, MI
CATEGORIES:TheDetroitILove
GEO:42.3423259;-83.0073267
X-APPLE-STRUCTURED-LOCATION;VALUE=URI;X-ADDRESS=Big Pink 6440 Wight Street Detroit MI;X-APPLE-RADIUS=500;X-TITLE=6440 Wight Street:geo:-83.0073267,42.3423259
END:VEVENT
BEGIN:VEVENT
DTSTART;TZID=America/Detroit:20230819T220000
DTEND;TZID=America/Detroit:20230820T020000
DTSTAMP:20260425T082455
CREATED:20230815T223318Z
LAST-MODIFIED:20230819T170157Z
UID:10001812-1692482400-1692496800@detroitartdao.com
SUMMARY:House Party
DESCRIPTION:
URL:https://detroitartdao.com/event/house-party
LOCATION:Big Pink\, 6440 Wight Street\, Detroit\, MI
CATEGORIES:TheDetroitILove
GEO:42.3423259;-83.0073267
X-APPLE-STRUCTURED-LOCATION;VALUE=URI;X-ADDRESS=Big Pink 6440 Wight Street Detroit MI;X-APPLE-RADIUS=500;X-TITLE=6440 Wight Street:geo:-83.0073267,42.3423259
END:VEVENT
BEGIN:VEVENT
DTSTART;TZID=America/Detroit:20230823T190000
DTEND;TZID=America/Detroit:20230824T010000
DTSTAMP:20260425T082455
CREATED:20230823T052625Z
LAST-MODIFIED:20231228T075749Z
UID:10001848-1692817200-1692838800@detroitartdao.com
SUMMARY:Art Night Detroit x Big Pink IV
DESCRIPTION:Heads up\, round 4 of Art Night x @bigpinklovesyou is tomorrow 6/22!  \nBring your art projects and your dancing shoes for a night dedicated to fun and creativity!  \nWe will be debuting a brand new projected VR experience with automotive concept artist @dhwanil.panchal!  \n$10 at the door\, 7PM-1AM can’t wait!
URL:https://detroitartdao.com/event/art-night-detroit-x-big-pink-iv
LOCATION:Big Pink\, 6440 Wight Street\, Detroit\, MI
CATEGORIES:Art,Networking
ATTACH;FMTTYPE=image/jpeg:https://dpop.nyc3.digitaloceanspaces.com/wp-content/uploads/2023/08/23012619/64e597dd9225e.jpeg
GEO:42.3423259;-83.0073267
X-APPLE-STRUCTURED-LOCATION;VALUE=URI;X-ADDRESS=Big Pink 6440 Wight Street Detroit MI;X-APPLE-RADIUS=500;X-TITLE=6440 Wight Street:geo:-83.0073267,42.3423259
END:VEVENT
BEGIN:VEVENT
DTSTART;TZID=America/Detroit:20230825T210000
DTEND;TZID=America/Detroit:20230826T020000
DTSTAMP:20260425T082455
CREATED:20230824T170138Z
LAST-MODIFIED:20230825T171638Z
UID:10001864-1692997200-1693015200@detroitartdao.com
SUMMARY:Disco Party
DESCRIPTION:
URL:https://detroitartdao.com/event/disco-party
LOCATION:Big Pink\, 6440 Wight Street\, Detroit\, MI
CATEGORIES:TheDetroitILove
GEO:42.3423259;-83.0073267
X-APPLE-STRUCTURED-LOCATION;VALUE=URI;X-ADDRESS=Big Pink 6440 Wight Street Detroit MI;X-APPLE-RADIUS=500;X-TITLE=6440 Wight Street:geo:-83.0073267,42.3423259
END:VEVENT
BEGIN:VEVENT
DTSTART;TZID=America/Detroit:20230826T220000
DTEND;TZID=America/Detroit:20230827T020000
DTSTAMP:20260425T082455
CREATED:20230824T170147Z
LAST-MODIFIED:20230826T173217Z
UID:10001898-1693087200-1693101600@detroitartdao.com
SUMMARY:Club Soda
DESCRIPTION:
URL:https://detroitartdao.com/event/club-soda
LOCATION:Big Pink\, 6440 Wight Street\, Detroit\, MI
CATEGORIES:TheDetroitILove
GEO:42.3423259;-83.0073267
X-APPLE-STRUCTURED-LOCATION;VALUE=URI;X-ADDRESS=Big Pink 6440 Wight Street Detroit MI;X-APPLE-RADIUS=500;X-TITLE=6440 Wight Street:geo:-83.0073267,42.3423259
END:VEVENT
BEGIN:VEVENT
DTSTART;TZID=America/Detroit:20230901T220000
DTEND;TZID=America/Detroit:20230902T020000
DTSTAMP:20260425T082455
CREATED:20230901T173153Z
LAST-MODIFIED:20230901T173153Z
UID:10002011-1693605600-1693620000@detroitartdao.com
SUMMARY:That Bounce
DESCRIPTION:
URL:https://detroitartdao.com/event/that-bounce-3
LOCATION:Big Pink\, 6440 Wight Street\, Detroit\, MI
CATEGORIES:TheDetroitILove
GEO:42.3423259;-83.0073267
X-APPLE-STRUCTURED-LOCATION;VALUE=URI;X-ADDRESS=Big Pink 6440 Wight Street Detroit MI;X-APPLE-RADIUS=500;X-TITLE=6440 Wight Street:geo:-83.0073267,42.3423259
END:VEVENT
BEGIN:VEVENT
DTSTART;TZID=America/Detroit:20230902T220000
DTEND;TZID=America/Detroit:20230903T020000
DTSTAMP:20260425T082455
CREATED:20230901T173159Z
LAST-MODIFIED:20230902T173135Z
UID:10002030-1693692000-1693706400@detroitartdao.com
SUMMARY:The Saunderson Brothers
DESCRIPTION:
URL:https://detroitartdao.com/event/the-saunderson-brothers
LOCATION:Big Pink\, 6440 Wight Street\, Detroit\, MI
CATEGORIES:TheDetroitILove
GEO:42.3423259;-83.0073267
X-APPLE-STRUCTURED-LOCATION;VALUE=URI;X-ADDRESS=Big Pink 6440 Wight Street Detroit MI;X-APPLE-RADIUS=500;X-TITLE=6440 Wight Street:geo:-83.0073267,42.3423259
END:VEVENT
BEGIN:VEVENT
DTSTART;TZID=America/Detroit:20230908T210000
DTEND;TZID=America/Detroit:20230909T020000
DTSTAMP:20260425T082455
CREATED:20230906T173138Z
LAST-MODIFIED:20230908T184930Z
UID:10002056-1694206800-1694224800@detroitartdao.com
SUMMARY:Funky House
DESCRIPTION:
URL:https://detroitartdao.com/event/funky-house
LOCATION:Big Pink\, 6440 Wight Street\, Detroit\, MI
CATEGORIES:TheDetroitILove
GEO:42.3423259;-83.0073267
X-APPLE-STRUCTURED-LOCATION;VALUE=URI;X-ADDRESS=Big Pink 6440 Wight Street Detroit MI;X-APPLE-RADIUS=500;X-TITLE=6440 Wight Street:geo:-83.0073267,42.3423259
END:VEVENT
BEGIN:VEVENT
DTSTART;TZID=America/Detroit:20230909T220000
DTEND;TZID=America/Detroit:20230910T020000
DTSTAMP:20260425T082455
CREATED:20230906T173142Z
LAST-MODIFIED:20230909T190152Z
UID:10002071-1694296800-1694311200@detroitartdao.com
SUMMARY:House Party
DESCRIPTION:
URL:https://detroitartdao.com/event/house-party-2
LOCATION:Big Pink\, 6440 Wight Street\, Detroit\, MI
CATEGORIES:TheDetroitILove
GEO:42.3423259;-83.0073267
X-APPLE-STRUCTURED-LOCATION;VALUE=URI;X-ADDRESS=Big Pink 6440 Wight Street Detroit MI;X-APPLE-RADIUS=500;X-TITLE=6440 Wight Street:geo:-83.0073267,42.3423259
END:VEVENT
BEGIN:VEVENT
DTSTART;TZID=America/Detroit:20230915T220000
DTEND;TZID=America/Detroit:20230916T020000
DTSTAMP:20260425T082455
CREATED:20230912T191650Z
LAST-MODIFIED:20230915T191645Z
UID:10002170-1694815200-1694829600@detroitartdao.com
SUMMARY:Good Vibes
DESCRIPTION:
URL:https://detroitartdao.com/event/good-vibes
LOCATION:Big Pink\, 6440 Wight Street\, Detroit\, MI
CATEGORIES:TheDetroitILove
GEO:42.3423259;-83.0073267
X-APPLE-STRUCTURED-LOCATION;VALUE=URI;X-ADDRESS=Big Pink 6440 Wight Street Detroit MI;X-APPLE-RADIUS=500;X-TITLE=6440 Wight Street:geo:-83.0073267,42.3423259
END:VEVENT
BEGIN:VEVENT
DTSTART;TZID=America/Detroit:20230916T220000
DTEND;TZID=America/Detroit:20230917T020000
DTSTAMP:20260425T082455
CREATED:20230912T191657Z
LAST-MODIFIED:20230916T191640Z
UID:10002206-1694901600-1694916000@detroitartdao.com
SUMMARY:Slide
DESCRIPTION:
URL:https://detroitartdao.com/event/slide
LOCATION:Big Pink\, 6440 Wight Street\, Detroit\, MI
CATEGORIES:TheDetroitILove
GEO:42.3423259;-83.0073267
X-APPLE-STRUCTURED-LOCATION;VALUE=URI;X-ADDRESS=Big Pink 6440 Wight Street Detroit MI;X-APPLE-RADIUS=500;X-TITLE=6440 Wight Street:geo:-83.0073267,42.3423259
END:VEVENT
BEGIN:VEVENT
DTSTART;TZID=America/Detroit:20230922T220000
DTEND;TZID=America/Detroit:20230923T020000
DTSTAMP:20260425T082455
CREATED:20230919T193152Z
LAST-MODIFIED:20230922T193142Z
UID:10002305-1695420000-1695434400@detroitartdao.com
SUMMARY:Foreign Exchange Tour
DESCRIPTION:
URL:https://detroitartdao.com/event/foreign-exchange-tour
LOCATION:Big Pink\, 6440 Wight Street\, Detroit\, MI
CATEGORIES:TheDetroitILove
GEO:42.3423259;-83.0073267
X-APPLE-STRUCTURED-LOCATION;VALUE=URI;X-ADDRESS=Big Pink 6440 Wight Street Detroit MI;X-APPLE-RADIUS=500;X-TITLE=6440 Wight Street:geo:-83.0073267,42.3423259
END:VEVENT
END:VCALENDAR