BEGIN:VCALENDAR
VERSION:2.0
PRODID:-//Discover Detroit Art - ECPv6.0.1//NONSGML v1.0//EN
CALSCALE:GREGORIAN
METHOD:PUBLISH
X-ORIGINAL-URL:https://detroitartdao.com
X-WR-CALDESC:Events for Discover Detroit Art
REFRESH-INTERVAL;VALUE=DURATION:PT1H
X-Robots-Tag:noindex
X-PUBLISHED-TTL:PT1H
BEGIN:VTIMEZONE
TZID:America/Detroit
BEGIN:DAYLIGHT
TZOFFSETFROM:-0500
TZOFFSETTO:-0400
TZNAME:EDT
DTSTART:20230312T070000
END:DAYLIGHT
BEGIN:STANDARD
TZOFFSETFROM:-0400
TZOFFSETTO:-0500
TZNAME:EST
DTSTART:20231105T060000
END:STANDARD
END:VTIMEZONE
BEGIN:VEVENT
DTSTART;TZID=America/Detroit:20230411T140000
DTEND;TZID=America/Detroit:20230411T163000
DTSTAMP:20260424T062732
CREATED:20230401T021457Z
LAST-MODIFIED:20230401T021457Z
UID:10000930-1681221600-1681230600@detroitartdao.com
SUMMARY:Design Core: Product Development | Focus Group: Makers & Artisanal Products
DESCRIPTION:Design Core is currently working on the Design Guide for Product Development. The content curation process includes input session with industry leaders\, stakeholders\, and subject matter experts for development of this collaborative and infomative resource. \nThe purpose of the Design Guide:Product Development is to: \nInitiate\, develop\, and manage relationships with product designers \nInform product entrepreneurs on the iterative process of ideation\, prototyping\, testing and adapting their specifications for optimal product design and manufacturing \nDetermine the most cost effective and appropriate materials and parts for commercial products \nAccelerate production and go to market strategies for product-based businesses \nWelcoming Artisanal Product Designers to join
URL:https://detroitartdao.com/event/design-core-product-development-focus-group-makers-artisanal-products
LOCATION:Design Core Detroit\, 460 West Baltimore St\, Detroit\, MI
CATEGORIES:Art,Design,Networking
GEO:42.3678755;-83.0750971
X-APPLE-STRUCTURED-LOCATION;VALUE=URI;X-ADDRESS=Design Core Detroit 460 West Baltimore St Detroit MI;X-APPLE-RADIUS=500;X-TITLE=460 West Baltimore St:geo:-83.0750971,42.3678755
END:VEVENT
END:VCALENDAR