BEGIN:VCALENDAR
VERSION:2.0
PRODID:-//Discover Detroit Art - ECPv6.0.1//NONSGML v1.0//EN
CALSCALE:GREGORIAN
METHOD:PUBLISH
X-ORIGINAL-URL:https://detroitartdao.com
X-WR-CALDESC:Events for Discover Detroit Art
REFRESH-INTERVAL;VALUE=DURATION:PT1H
X-Robots-Tag:noindex
X-PUBLISHED-TTL:PT1H
BEGIN:VTIMEZONE
TZID:America/Detroit
BEGIN:DAYLIGHT
TZOFFSETFROM:-0500
TZOFFSETTO:-0400
TZNAME:EDT
DTSTART:20240310T070000
END:DAYLIGHT
BEGIN:STANDARD
TZOFFSETFROM:-0400
TZOFFSETTO:-0500
TZNAME:EST
DTSTART:20241103T060000
END:STANDARD
END:VTIMEZONE
BEGIN:VEVENT
DTSTART;TZID=America/Detroit:20240928T180000
DTEND;TZID=America/Detroit:20240929T010000
DTSTAMP:20260420T182850
CREATED:20240926T180205Z
LAST-MODIFIED:20240926T180205Z
UID:10010937-1727546400-1727571600@detroitartdao.com
SUMMARY:Art in Motion
DESCRIPTION:
URL:https://detroitartdao.com/event/art-in-motion-3
LOCATION:District 5\, 2463 Riopelle Street\, Detroit\, MI\, 48207
CATEGORIES:TheDetroitILove
GEO:42.3460918;-83.0386759
X-APPLE-STRUCTURED-LOCATION;VALUE=URI;X-ADDRESS=District 5 2463 Riopelle Street Detroit MI 48207;X-APPLE-RADIUS=500;X-TITLE=2463 Riopelle Street:geo:-83.0386759,42.3460918
END:VEVENT
BEGIN:VEVENT
DTSTART;TZID=America/Detroit:20240928T180000
DTEND;TZID=America/Detroit:20240929T010000
DTSTAMP:20260420T182850
CREATED:20240926T180205Z
LAST-MODIFIED:20240928T232742Z
UID:10010939-1727546400-1727571600@detroitartdao.com
SUMMARY:Art in Motion
DESCRIPTION:
URL:https://detroitartdao.com/event/art-in-motion-2
LOCATION:District 5\, 2463 Riopelle Street\, Detroit\, MI\, 48207
CATEGORIES:TheDetroitILove
GEO:42.3460918;-83.0386759
X-APPLE-STRUCTURED-LOCATION;VALUE=URI;X-ADDRESS=District 5 2463 Riopelle Street Detroit MI 48207;X-APPLE-RADIUS=500;X-TITLE=2463 Riopelle Street:geo:-83.0386759,42.3460918
END:VEVENT
END:VCALENDAR