BEGIN:VCALENDAR
VERSION:2.0
PRODID:-//Discover Detroit Art - ECPv6.0.1//NONSGML v1.0//EN
CALSCALE:GREGORIAN
METHOD:PUBLISH
X-ORIGINAL-URL:https://detroitartdao.com
X-WR-CALDESC:Events for Discover Detroit Art
REFRESH-INTERVAL;VALUE=DURATION:PT1H
X-Robots-Tag:noindex
X-PUBLISHED-TTL:PT1H
BEGIN:VTIMEZONE
TZID:America/Detroit
BEGIN:DAYLIGHT
TZOFFSETFROM:-0500
TZOFFSETTO:-0400
TZNAME:EDT
DTSTART:20230312T070000
END:DAYLIGHT
BEGIN:STANDARD
TZOFFSETFROM:-0400
TZOFFSETTO:-0500
TZNAME:EST
DTSTART:20231105T060000
END:STANDARD
END:VTIMEZONE
BEGIN:VEVENT
DTSTART;TZID=America/Detroit:20231116T180000
DTEND;TZID=America/Detroit:20231116T220000
DTSTAMP:20260423T112046
CREATED:20231102T201656Z
LAST-MODIFIED:20231113T073144Z
UID:10002812-1700157600-1700172000@detroitartdao.com
SUMMARY:A Night of Pasta.
DESCRIPTION:A Night of Pasta. A Tasting Experience at the former Detroit Red Bull House Of Arts\n\n\nA 5-course dinner focused around gourmet hand-crafted pasta by Pasta Chef Aladji Ferebory. Aladji is the Pasta Chef at San Morello inside the Shinola Hotel located in downtown Detroit. \nA t this dinner you’ll experience and taste the specially crafted pasta that showcases creativity and the art of pasta making. The menu will feature unique shapes\, colors\, fillings\, and flavors of pasta. Complimentary wine will be served during dinner which is sponsored by Veritas Distributors & Sid Gold’s. Please arrive at 6:00pm\, dinner will be served at 6:30pm. \nThis event takes place at the Xchange Detroit\, which is formally known as The Red Bull House Of Arts. \nMusic throughout the night by Medha Achar \nT he official afterparty will be sponsored by and hosted at Sid Gold’s Request Room\, a live piano karaoke bar located in the heart of downtown Detroit. Each guest will receive a free drink at the after-party that same night only.
URL:https://detroitartdao.com/event/a-night-of-pasta
LOCATION:E & B Brewery Lofts Office\, 1551 Winder Street\, Detroit\, MI\, 48207\, United States
ATTACH;FMTTYPE=image/jpeg:https://dpop.nyc3.digitaloceanspaces.com/wp-content/uploads/2023/11/02161659/a811e00f2804e86a3c5e7e0fd363bf06.jpg
GEO:42.3470918;-83.0376367
X-APPLE-STRUCTURED-LOCATION;VALUE=URI;X-ADDRESS=E & B Brewery Lofts Office 1551 Winder Street Detroit MI 48207 United States;X-APPLE-RADIUS=500;X-TITLE=1551 Winder Street:geo:-83.0376367,42.3470918
END:VEVENT
END:VCALENDAR