BEGIN:VCALENDAR
VERSION:2.0
PRODID:-//Discover Detroit Art - ECPv6.0.1//NONSGML v1.0//EN
CALSCALE:GREGORIAN
METHOD:PUBLISH
X-WR-CALNAME:Discover Detroit Art
X-ORIGINAL-URL:https://detroitartdao.com
X-WR-CALDESC:Events for Discover Detroit Art
REFRESH-INTERVAL;VALUE=DURATION:PT1H
X-Robots-Tag:noindex
X-PUBLISHED-TTL:PT1H
BEGIN:VTIMEZONE
TZID:America/Detroit
BEGIN:DAYLIGHT
TZOFFSETFROM:-0500
TZOFFSETTO:-0400
TZNAME:EDT
DTSTART:20220313T070000
END:DAYLIGHT
BEGIN:STANDARD
TZOFFSETFROM:-0400
TZOFFSETTO:-0500
TZNAME:EST
DTSTART:20221106T060000
END:STANDARD
END:VTIMEZONE
BEGIN:VEVENT
DTSTART;TZID=America/Detroit:20220922T190000
DTEND;TZID=America/Detroit:20220922T210000
DTSTAMP:20260423T210857
CREATED:20220920T004051Z
LAST-MODIFIED:20220920T004110Z
UID:10000371-1663873200-1663880400@detroitartdao.com
SUMMARY:HARD GALLERY PRESENTS ART BUDDIES VOLUME 16
DESCRIPTION:Art buddies volume 16 is returning to Core City at the new Gunner Animation studio! This Thursday 9.22 @ 7p featuring loads of artists\, beverages\, sounds by Masquenada and a very nice raffle!
URL:https://detroitartdao.com/event/hard-galleries-presents-art-buddies-volume-16
LOCATION:Gunner Animation\, 4885 15th street\, Detroit\, MI\, 48208
CATEGORIES:Art
GEO:42.3489133;-83.0881006
X-APPLE-STRUCTURED-LOCATION;VALUE=URI;X-ADDRESS=Gunner Animation 4885 15th street Detroit MI 48208;X-APPLE-RADIUS=500;X-TITLE=4885 15th street:geo:-83.0881006,42.3489133
END:VEVENT
END:VCALENDAR