BEGIN:VCALENDAR
VERSION:2.0
PRODID:-//Discover Detroit Art - ECPv6.0.1//NONSGML v1.0//EN
CALSCALE:GREGORIAN
METHOD:PUBLISH
X-WR-CALNAME:Discover Detroit Art
X-ORIGINAL-URL:https://detroitartdao.com
X-WR-CALDESC:Events for Discover Detroit Art
REFRESH-INTERVAL;VALUE=DURATION:PT1H
X-Robots-Tag:noindex
X-PUBLISHED-TTL:PT1H
BEGIN:VTIMEZONE
TZID:America/Detroit
BEGIN:DAYLIGHT
TZOFFSETFROM:-0500
TZOFFSETTO:-0400
TZNAME:EDT
DTSTART:20230312T070000
END:DAYLIGHT
BEGIN:STANDARD
TZOFFSETFROM:-0400
TZOFFSETTO:-0500
TZNAME:EST
DTSTART:20231105T060000
END:STANDARD
END:VTIMEZONE
BEGIN:VEVENT
DTSTART;TZID=America/Detroit:20230915T180000
DTEND;TZID=America/Detroit:20230915T220000
DTSTAMP:20260420T103927
CREATED:20230912T191648Z
LAST-MODIFIED:20230915T191643Z
UID:10002159-1694800800-1694815200@detroitartdao.com
SUMMARY:Vibe on the Vin
DESCRIPTION:
URL:https://detroitartdao.com/event/vibe-on-the-vin
LOCATION:House of Pure Vin\, 1433 Woodward Avenue\, Detroit\, MI\, 48226
CATEGORIES:TheDetroitILove
GEO:42.3343959;-83.0493524
X-APPLE-STRUCTURED-LOCATION;VALUE=URI;X-ADDRESS=House of Pure Vin 1433 Woodward Avenue Detroit MI 48226;X-APPLE-RADIUS=500;X-TITLE=1433 Woodward Avenue:geo:-83.0493524,42.3343959
END:VEVENT
BEGIN:VEVENT
DTSTART;TZID=America/Detroit:20230922T180000
DTEND;TZID=America/Detroit:20230922T220000
DTSTAMP:20260420T103927
CREATED:20230912T191653Z
LAST-MODIFIED:20230922T193140Z
UID:10002190-1695405600-1695420000@detroitartdao.com
SUMMARY:Vibe on the Vin
DESCRIPTION:
URL:https://detroitartdao.com/event/vibe-on-the-vin-2
LOCATION:House of Pure Vin\, 1433 Woodward Avenue\, Detroit\, MI\, 48226
CATEGORIES:TheDetroitILove
GEO:42.3343959;-83.0493524
X-APPLE-STRUCTURED-LOCATION;VALUE=URI;X-ADDRESS=House of Pure Vin 1433 Woodward Avenue Detroit MI 48226;X-APPLE-RADIUS=500;X-TITLE=1433 Woodward Avenue:geo:-83.0493524,42.3343959
END:VEVENT
BEGIN:VEVENT
DTSTART;TZID=America/Detroit:20230929T180000
DTEND;TZID=America/Detroit:20230929T220000
DTSTAMP:20260420T103927
CREATED:20230912T191655Z
LAST-MODIFIED:20230929T164646Z
UID:10002195-1696010400-1696024800@detroitartdao.com
SUMMARY:Vibe on the Vin
DESCRIPTION:
URL:https://detroitartdao.com/event/vibe-on-the-vin-3
LOCATION:House of Pure Vin\, 1433 Woodward Avenue\, Detroit\, MI\, 48226
CATEGORIES:TheDetroitILove
GEO:42.3343959;-83.0493524
X-APPLE-STRUCTURED-LOCATION;VALUE=URI;X-ADDRESS=House of Pure Vin 1433 Woodward Avenue Detroit MI 48226;X-APPLE-RADIUS=500;X-TITLE=1433 Woodward Avenue:geo:-83.0493524,42.3343959
END:VEVENT
BEGIN:VEVENT
DTSTART;TZID=America/Detroit:20231006T180000
DTEND;TZID=America/Detroit:20231006T220000
DTSTAMP:20260420T103927
CREATED:20230912T191655Z
LAST-MODIFIED:20231006T164649Z
UID:10002199-1696615200-1696629600@detroitartdao.com
SUMMARY:Vibe on the Vin
DESCRIPTION:
URL:https://detroitartdao.com/event/vibe-on-the-vin-4
LOCATION:House of Pure Vin\, 1433 Woodward Avenue\, Detroit\, MI\, 48226
CATEGORIES:TheDetroitILove
GEO:42.3343959;-83.0493524
X-APPLE-STRUCTURED-LOCATION;VALUE=URI;X-ADDRESS=House of Pure Vin 1433 Woodward Avenue Detroit MI 48226;X-APPLE-RADIUS=500;X-TITLE=1433 Woodward Avenue:geo:-83.0493524,42.3343959
END:VEVENT
BEGIN:VEVENT
DTSTART;TZID=America/Detroit:20231013T180000
DTEND;TZID=America/Detroit:20231013T220000
DTSTAMP:20260420T103927
CREATED:20230913T191702Z
LAST-MODIFIED:20231013T164639Z
UID:10002254-1697220000-1697234400@detroitartdao.com
SUMMARY:Vibe on the Vin
DESCRIPTION:
URL:https://detroitartdao.com/event/vibe-on-the-vin-5
LOCATION:House of Pure Vin\, 1433 Woodward Avenue\, Detroit\, MI\, 48226
CATEGORIES:TheDetroitILove
GEO:42.3343959;-83.0493524
X-APPLE-STRUCTURED-LOCATION;VALUE=URI;X-ADDRESS=House of Pure Vin 1433 Woodward Avenue Detroit MI 48226;X-APPLE-RADIUS=500;X-TITLE=1433 Woodward Avenue:geo:-83.0493524,42.3343959
END:VEVENT
BEGIN:VEVENT
DTSTART;TZID=America/Detroit:20231020T180000
DTEND;TZID=America/Detroit:20231020T220000
DTSTAMP:20260420T103927
CREATED:20230920T193200Z
LAST-MODIFIED:20231020T170135Z
UID:10002331-1697824800-1697839200@detroitartdao.com
SUMMARY:Vibe on the Vin
DESCRIPTION:
URL:https://detroitartdao.com/event/vibe-on-the-vin-6
LOCATION:House of Pure Vin\, 1433 Woodward Avenue\, Detroit\, MI\, 48226
CATEGORIES:TheDetroitILove
GEO:42.3343959;-83.0493524
X-APPLE-STRUCTURED-LOCATION;VALUE=URI;X-ADDRESS=House of Pure Vin 1433 Woodward Avenue Detroit MI 48226;X-APPLE-RADIUS=500;X-TITLE=1433 Woodward Avenue:geo:-83.0493524,42.3343959
END:VEVENT
BEGIN:VEVENT
DTSTART;TZID=America/Detroit:20231027T180000
DTEND;TZID=America/Detroit:20231027T220000
DTSTAMP:20260420T103927
CREATED:20230928T030011Z
LAST-MODIFIED:20231027T171646Z
UID:10002353-1698429600-1698444000@detroitartdao.com
SUMMARY:Vibe on the Vin
DESCRIPTION:
URL:https://detroitartdao.com/event/vibe-on-the-vin-7
LOCATION:House of Pure Vin\, 1433 Woodward Avenue\, Detroit\, MI\, 48226
CATEGORIES:TheDetroitILove
GEO:42.3343959;-83.0493524
X-APPLE-STRUCTURED-LOCATION;VALUE=URI;X-ADDRESS=House of Pure Vin 1433 Woodward Avenue Detroit MI 48226;X-APPLE-RADIUS=500;X-TITLE=1433 Woodward Avenue:geo:-83.0493524,42.3343959
END:VEVENT
END:VCALENDAR