BEGIN:VCALENDAR
VERSION:2.0
PRODID:-//Discover Detroit Art - ECPv6.0.1//NONSGML v1.0//EN
CALSCALE:GREGORIAN
METHOD:PUBLISH
X-ORIGINAL-URL:https://detroitartdao.com
X-WR-CALDESC:Events for Discover Detroit Art
REFRESH-INTERVAL;VALUE=DURATION:PT1H
X-Robots-Tag:noindex
X-PUBLISHED-TTL:PT1H
BEGIN:VTIMEZONE
TZID:America/Detroit
BEGIN:DAYLIGHT
TZOFFSETFROM:-0500
TZOFFSETTO:-0400
TZNAME:EDT
DTSTART:20230312T070000
END:DAYLIGHT
BEGIN:STANDARD
TZOFFSETFROM:-0400
TZOFFSETTO:-0500
TZNAME:EST
DTSTART:20231105T060000
END:STANDARD
END:VTIMEZONE
BEGIN:VEVENT
DTSTART;TZID=America/Detroit:20230729T160000
DTEND;TZID=America/Detroit:20230729T210000
DTSTAMP:20260421T185742
CREATED:20230718T061542Z
LAST-MODIFIED:20230725T061643Z
UID:10001352-1690646400-1690664400@detroitartdao.com
SUMMARY:CORNHOLE TOURNAMENT @ Royal Oak Beer\, Wine & Cocktail Fest
DESCRIPTION:R.O. Beer\, Wine & Cocktail Fest hosts a Cornhole Tournament!  Social & Competitive Play Options!\n\n\nCornhole Tournament at Royal Oak Beer\, Wine & Cocktail Festival\nSaturday\, July 29\, 2023 | Event 4-9PM  |  \n***4PM Check-In – 5PM Bags Fly*** \nT﻿ournament Run by Klutch Cornhole \nFORMAT: Each player will play/complete 4 games with a different partner for each game.  Based on indivudual standings\, players will be partnered with another player for a single elimination tournament.EOach entrant will play 4 games with a different partner.  Based on indivudual standings\, players will be partnered with another player for a single elimination tournament. \nBYOB – Bring Your Own BAGS if you have them\, if not Klutch Cornhole we will provide them*** \nPRIZES:   \n\nADVANCED/COMPETITIVE – will receive trophies and cash payouts\nSOCIAL/NOVICE – will receive trophies and other cool prizes\n\nCHOOSE YOUR TICKET /REGISTRATION BASED ON YOUR  EXPERIENCE LEVEL \nOption #1 – Social / Novice\n** For Individuals who are NEW to the game or have casual/social play experience.** \n\nIncludes Entry\n5 Game Guarantee\nBeer Koozie\n\nOption #2 – Advanced / Competitive: 4PM Check In\n** For Individuals who have a LOT of experience or  played in an official league or tournament.** \n\nIncludes Entry\n5 Game Guarantee\nBeer Koozie\n\n**Bring your own bags if you have them\, if not we will provide them. ** \nPRIZES \nSocial / Novice will receive trophies and other cool prizes.  \nAdvanced / Competitive will receive trophies and cash payouts.
URL:https://detroitartdao.com/event/cornhole-tournament-royal-oak-beer-wine-cocktail-fest
LOCATION:Memorial Park\, 31050 Woodward Avenue\, Royal Oak\, MI\, 48073\, United States
ATTACH;FMTTYPE=image/jpeg:https://detroitartdao.com/wp-content/uploads/2023/07/2a0e8a6fd9c370e49f249689dd71b105-1.jpg
GEO:42.5192711;-83.1856661
X-APPLE-STRUCTURED-LOCATION;VALUE=URI;X-ADDRESS=Memorial Park 31050 Woodward Avenue Royal Oak MI 48073 United States;X-APPLE-RADIUS=500;X-TITLE=31050 Woodward Avenue:geo:-83.1856661,42.5192711
END:VEVENT
BEGIN:VEVENT
DTSTART;TZID=America/Detroit:20230729T170000
DTEND;TZID=America/Detroit:20230729T210000
DTSTAMP:20260421T185742
CREATED:20230718T061546Z
LAST-MODIFIED:20230725T061643Z
UID:10001351-1690650000-1690664400@detroitartdao.com
SUMMARY:ROYAL OAK BEER\, WINE & COCKTAIL FESTIVAL 2023
DESCRIPTION:The inaugural Royal Oak Beer\, Wine & Cocktail Fest at Memorial Park!\n\n\n\nRoyal Oak Beer\, Wine & Cocktail Festival\nSaturday\, July 29\, 2023 | 6 PM to 9:00 PM (5 PM VIP) \nMEMORIAL PARK ROYAL OAK | 21 + Only Event  \n \n𝗦𝗔𝗠𝗣𝗟𝗘 𝟭𝟱𝟬+ 𝗖𝗥𝗔𝗙𝗧 𝗕𝗘𝗘𝗥𝗦\, 𝗪𝗜𝗡𝗘𝗦\, & 𝗖𝗢𝗖𝗞𝗧𝗔𝗜𝗟𝗦 \nThe inaugural ROYAL OAK Beer\, Wine & Cocktail Festival will feature a wide assortment of craft beer\, wine\, and cocktails with Live Music and Food Trucks. \nLet’s have some fun while supporting a local non-profit organization\, The Royal Leprechauns at the Memorial Park Field of Dreams! (*This is a fundraising festival. This is not a baseball game.) \n \n𝗧𝗜𝗖𝗞𝗘𝗧 𝗢𝗣𝗧𝗜𝗢𝗡𝗦: \nVIP ADMISSION – ENTRY 5PM \n\nVIP Early Express Entry  & Sampling 5:00-6:00pm\n20 Beer\, Wine & Cocktail Tasting Samples\nLive Entertainment\nCommemorative Glass\nKeepsake Photo\nFood Available for Purchase\n\nGENERAL ADMISSION – ENTRY 6PM \n\nEntry & Sampling 6:00pm\n10 Beer\, Wine & Cocktail Tasting Samples\nLive Entertainment\nCommemorative Glass\nKeepsake Photo\nFood Available for Purchase\n\n𝗘𝗡𝗧𝗘𝗥𝗧𝗔𝗜𝗡𝗠𝗘𝗡𝗧 𝗕𝗬: \n• Mark Reitenga & Friends – Cover Band \n \nFOOD: \n\nSweet & Sticky BBQ\nCurt Got Crabs Seafood Boil\nLa Familia Eats Tacos\nS﻿chultz Popcorn\n\n𝗣𝗔𝗥𝗞𝗜𝗡𝗚 𝗜𝗡𝗙𝗢: \nFree Parking on the adjacent corner of 13 Mile Rd.  \n \n𝗔𝗧𝗧𝗜𝗥𝗘: \nSummer Fun! Casual to Summer Chic \n \n𝗗𝗘𝗧𝗔𝗜𝗟𝗦: \nMust be 21+ w/ Valid Photo ID \n \n𝗣𝗢𝗪𝗘𝗥𝗘𝗗 𝗕𝗬: \nRO Social Events\, Detroit Social Events\, Social Connection Events & Productions and Elive Media Group \n﻿VOLUNTEER: \nWe are looking for volunteers to help with pouring\, registration\, and greeting! If you are interested\, please CLICK HERE \n \n𝗤𝗨𝗘𝗦𝗧𝗜𝗢𝗡𝗦: \nROBeerWineCocktailFest@gmail.com \n \n𝗢𝗙𝗙𝗜𝗖𝗜𝗔𝗟 𝗛𝗔𝗦𝗛𝗧𝗔𝗚𝗦: \n#RoyalOakBeerWineCocktailFest #ROBWCF23  #ROSocialEvents #ROSE #DetroitSocialEvents #DSE #SocialConnection \n \nTHIS EVENT IS RAIN OR SHINE \nALL TICKET SALES ARE FINAL – NO REFUNDS \nScannable tickets will be emailed in the purchaser’s name. If a purchaser is unable to attend\, tickets are transferable. \n \n𝗖𝗛𝗔𝗥𝗜𝗧𝗬 PARTNER: \nRoyal Oak Leprechauns \nhttps://www.royaloakleprechauns.com/ \nFacebook for RO Leprechauns: \nhttps://www.facebook.com/RoyalOakLeprechauns/ \n \nThe Royal Oak Leprechauns play summer ball in the 15-team Great Lakes Collegiate Summer League\, sanctioned and supported by Major League Baseball. \nThis outdoor event will be hosted at the recently renovated Memorial Park baseball diamond where the Leprechauns play. \nSummer college baseball brings players from all over the country to various small towns in America. Some players have “Next Level” abilities and interests and hope to be seen by professional scouts for a shot in the upcoming MLB draft. Others just want to hone their skills to prepare for the next season. Players play with heart and grit in order to accomplish their goals. The coaches are college coaches from various schools in the country. This is exciting baseball and it’s special as the players interact with the fans during pregame and at our monthly camps. You’ve just got to experience this unique brand of baseball. \nWith roots in the Irish Hills of Michigan\, the Leprechauns played ball for nearly a decade in Irish Hills and at Siena Heights University. With years of planning and finally the support from an angel sponsor: major leaguer and New York Yankees second baseman DJ Lemahieu\, the Leprechauns had the proper support system to move to a prime-time location at 13-mile road and Woodward Ave in Royal Oak\, Michigan. Moving east to Royal Oak was no easy feat as it required planning with the city and commitment from staff\, the board\, and also fans. Royal Oak\, a hometown community of many of the Leprechaun’s staff and players\, was the perfect landing place for the team. \nGet off the bench and get in the game of supporting the Great Lakes Collegiate Summer League.
URL:https://detroitartdao.com/event/royal-oak-beer-wine-cocktail-festival-2023
LOCATION:Memorial Park\, 31050 Woodward Avenue\, Royal Oak\, MI\, 48073\, United States
ATTACH;FMTTYPE=image/jpeg:https://detroitartdao.com/wp-content/uploads/2023/07/b829da2b2bfae6946cb58ce34ef4b801-1.jpg
GEO:42.5192711;-83.1856661
X-APPLE-STRUCTURED-LOCATION;VALUE=URI;X-ADDRESS=Memorial Park 31050 Woodward Avenue Royal Oak MI 48073 United States;X-APPLE-RADIUS=500;X-TITLE=31050 Woodward Avenue:geo:-83.1856661,42.5192711
END:VEVENT
END:VCALENDAR