BEGIN:VCALENDAR
VERSION:2.0
PRODID:-//Discover Detroit Art - ECPv6.0.1//NONSGML v1.0//EN
CALSCALE:GREGORIAN
METHOD:PUBLISH
X-WR-CALNAME:Discover Detroit Art
X-ORIGINAL-URL:https://detroitartdao.com
X-WR-CALDESC:Events for Discover Detroit Art
REFRESH-INTERVAL;VALUE=DURATION:PT1H
X-Robots-Tag:noindex
X-PUBLISHED-TTL:PT1H
BEGIN:VTIMEZONE
TZID:America/Detroit
BEGIN:DAYLIGHT
TZOFFSETFROM:-0500
TZOFFSETTO:-0400
TZNAME:EDT
DTSTART:20230312T070000
END:DAYLIGHT
BEGIN:STANDARD
TZOFFSETFROM:-0400
TZOFFSETTO:-0500
TZNAME:EST
DTSTART:20231105T060000
END:STANDARD
END:VTIMEZONE
BEGIN:VEVENT
DTSTART;TZID=America/Detroit:20230418T093000
DTEND;TZID=America/Detroit:20230419T160000
DTSTAMP:20260423T161321
CREATED:20230401T035157Z
LAST-MODIFIED:20230401T035157Z
UID:10000936-1681810200-1681920000@detroitartdao.com
SUMMARY:Extended Reality (XR) at Michigan Summit 2023
DESCRIPTION:Join for the third annual XR at Michigan Summit! This event will be fully in-person for the first time ever\, taking place on April 18 and 19 at the Michigan Union in the Rogel Ballroom and Pendleton Room. Day 1 will feature industry professionals sharing their knowledge and insight around XR. Day 2 will feature a vendor exhibit hall\, student showcase presentations\, and lightning talks on relevant topics in the application of XR. \nSponsors: Microsoft\, Accenture\, Ann Arbor SPARK\, and Oxford Medical Simulation
URL:https://detroitartdao.com/event/extended-reality-xr-at-michigan-summit-2023
LOCATION:Michigan Union\, Pendleton Room and Rogel Ballroom\, 530 South State Street\, Ann Arbor\, MI\, 48109
CATEGORIES:Business,Design,Networking,Tech
GEO:42.2751271;-83.741547
X-APPLE-STRUCTURED-LOCATION;VALUE=URI;X-ADDRESS=Michigan Union Pendleton Room and Rogel Ballroom 530 South State Street Ann Arbor MI 48109;X-APPLE-RADIUS=500;X-TITLE=530 South State Street:geo:-83.741547,42.2751271
END:VEVENT
END:VCALENDAR