BEGIN:VCALENDAR
VERSION:2.0
PRODID:-//Discover Detroit Art - ECPv6.0.1//NONSGML v1.0//EN
CALSCALE:GREGORIAN
METHOD:PUBLISH
X-WR-CALNAME:Discover Detroit Art
X-ORIGINAL-URL:https://detroitartdao.com
X-WR-CALDESC:Events for Discover Detroit Art
REFRESH-INTERVAL;VALUE=DURATION:PT1H
X-Robots-Tag:noindex
X-PUBLISHED-TTL:PT1H
BEGIN:VTIMEZONE
TZID:America/Detroit
BEGIN:DAYLIGHT
TZOFFSETFROM:-0500
TZOFFSETTO:-0400
TZNAME:EDT
DTSTART:20260308T070000
END:DAYLIGHT
BEGIN:STANDARD
TZOFFSETFROM:-0400
TZOFFSETTO:-0500
TZNAME:EST
DTSTART:20261101T060000
END:STANDARD
END:VTIMEZONE
BEGIN:VEVENT
DTSTART;TZID=America/Detroit:20260421T190000
DTEND;TZID=America/Detroit:20260421T220000
DTSTAMP:20260421T033348
CREATED:20260408T173234Z
LAST-MODIFIED:20260420T154639Z
UID:10017543-1776798000-1776808800@detroitartdao.com
SUMMARY:In Transit
DESCRIPTION:
URL:https://detroitartdao.com/event/in-transit-27
LOCATION:Northern Lights\, 660 W Baltimore Street\, Detroit\, MI\, 48202
CATEGORIES:TheDetroitILove
GEO:42.3668984;-83.0766966
X-APPLE-STRUCTURED-LOCATION;VALUE=URI;X-ADDRESS=Northern Lights 660 W Baltimore Street Detroit MI 48202;X-APPLE-RADIUS=500;X-TITLE=660 W Baltimore Street:geo:-83.0766966,42.3668984
END:VEVENT
BEGIN:VEVENT
DTSTART;TZID=America/Detroit:20260422T220000
DTEND;TZID=America/Detroit:20260423T020000
DTSTAMP:20260421T033348
CREATED:20260401T164744Z
LAST-MODIFIED:20260420T154641Z
UID:10017478-1776895200-1776909600@detroitartdao.com
SUMMARY:The Function
DESCRIPTION:
URL:https://detroitartdao.com/event/the-function-17
LOCATION:Northern Lights\, 660 W Baltimore Street\, Detroit\, MI\, 48202
CATEGORIES:TheDetroitILove
GEO:42.3668984;-83.0766966
X-APPLE-STRUCTURED-LOCATION;VALUE=URI;X-ADDRESS=Northern Lights 660 W Baltimore Street Detroit MI 48202;X-APPLE-RADIUS=500;X-TITLE=660 W Baltimore Street:geo:-83.0766966,42.3668984
END:VEVENT
BEGIN:VEVENT
DTSTART;TZID=America/Detroit:20260428T190000
DTEND;TZID=America/Detroit:20260428T220000
DTSTAMP:20260421T033348
CREATED:20260408T173239Z
LAST-MODIFIED:20260420T154644Z
UID:10017544-1777402800-1777413600@detroitartdao.com
SUMMARY:In Transit
DESCRIPTION:
URL:https://detroitartdao.com/event/in-transit-28
LOCATION:Northern Lights\, 660 W Baltimore Street\, Detroit\, MI\, 48202
CATEGORIES:TheDetroitILove
GEO:42.3668984;-83.0766966
X-APPLE-STRUCTURED-LOCATION;VALUE=URI;X-ADDRESS=Northern Lights 660 W Baltimore Street Detroit MI 48202;X-APPLE-RADIUS=500;X-TITLE=660 W Baltimore Street:geo:-83.0766966,42.3668984
END:VEVENT
BEGIN:VEVENT
DTSTART;TZID=America/Detroit:20260429T220000
DTEND;TZID=America/Detroit:20260430T020000
DTSTAMP:20260421T033348
CREATED:20260401T164748Z
LAST-MODIFIED:20260420T154641Z
UID:10017479-1777500000-1777514400@detroitartdao.com
SUMMARY:The Function
DESCRIPTION:
URL:https://detroitartdao.com/event/the-function-18
LOCATION:Northern Lights\, 660 W Baltimore Street\, Detroit\, MI\, 48202
CATEGORIES:TheDetroitILove
GEO:42.3668984;-83.0766966
X-APPLE-STRUCTURED-LOCATION;VALUE=URI;X-ADDRESS=Northern Lights 660 W Baltimore Street Detroit MI 48202;X-APPLE-RADIUS=500;X-TITLE=660 W Baltimore Street:geo:-83.0766966,42.3668984
END:VEVENT
BEGIN:VEVENT
DTSTART;TZID=America/Detroit:20260505T190000
DTEND;TZID=America/Detroit:20260505T220000
DTSTAMP:20260421T033348
CREATED:20260408T173241Z
LAST-MODIFIED:20260420T154642Z
UID:10017545-1778007600-1778018400@detroitartdao.com
SUMMARY:In Transit
DESCRIPTION:
URL:https://detroitartdao.com/event/in-transit-29
LOCATION:Northern Lights\, 660 W Baltimore Street\, Detroit\, MI\, 48202
CATEGORIES:TheDetroitILove
GEO:42.3668984;-83.0766966
X-APPLE-STRUCTURED-LOCATION;VALUE=URI;X-ADDRESS=Northern Lights 660 W Baltimore Street Detroit MI 48202;X-APPLE-RADIUS=500;X-TITLE=660 W Baltimore Street:geo:-83.0766966,42.3668984
END:VEVENT
BEGIN:VEVENT
DTSTART;TZID=America/Detroit:20260506T220000
DTEND;TZID=America/Detroit:20260507T020000
DTSTAMP:20260421T033348
CREATED:20260406T164708Z
LAST-MODIFIED:20260420T154642Z
UID:10017512-1778104800-1778119200@detroitartdao.com
SUMMARY:The Function
DESCRIPTION:
URL:https://detroitartdao.com/event/the-function-19
LOCATION:Northern Lights\, 660 W Baltimore Street\, Detroit\, MI\, 48202
CATEGORIES:TheDetroitILove
GEO:42.3668984;-83.0766966
X-APPLE-STRUCTURED-LOCATION;VALUE=URI;X-ADDRESS=Northern Lights 660 W Baltimore Street Detroit MI 48202;X-APPLE-RADIUS=500;X-TITLE=660 W Baltimore Street:geo:-83.0766966,42.3668984
END:VEVENT
BEGIN:VEVENT
DTSTART;TZID=America/Detroit:20260512T190000
DTEND;TZID=America/Detroit:20260512T220000
DTSTAMP:20260421T033348
CREATED:20260412T181726Z
LAST-MODIFIED:20260420T154644Z
UID:10017615-1778612400-1778623200@detroitartdao.com
SUMMARY:In Transit
DESCRIPTION:
URL:https://detroitartdao.com/event/in-transit-30
LOCATION:Northern Lights\, 660 W Baltimore Street\, Detroit\, MI\, 48202
CATEGORIES:TheDetroitILove
GEO:42.3668984;-83.0766966
X-APPLE-STRUCTURED-LOCATION;VALUE=URI;X-ADDRESS=Northern Lights 660 W Baltimore Street Detroit MI 48202;X-APPLE-RADIUS=500;X-TITLE=660 W Baltimore Street:geo:-83.0766966,42.3668984
END:VEVENT
BEGIN:VEVENT
DTSTART;TZID=America/Detroit:20260513T220000
DTEND;TZID=America/Detroit:20260514T020000
DTSTAMP:20260421T033348
CREATED:20260413T181903Z
LAST-MODIFIED:20260420T154645Z
UID:10017618-1778709600-1778724000@detroitartdao.com
SUMMARY:The Function
DESCRIPTION:
URL:https://detroitartdao.com/event/the-function-20
LOCATION:Northern Lights\, 660 W Baltimore Street\, Detroit\, MI\, 48202
CATEGORIES:TheDetroitILove
GEO:42.3668984;-83.0766966
X-APPLE-STRUCTURED-LOCATION;VALUE=URI;X-ADDRESS=Northern Lights 660 W Baltimore Street Detroit MI 48202;X-APPLE-RADIUS=500;X-TITLE=660 W Baltimore Street:geo:-83.0766966,42.3668984
END:VEVENT
BEGIN:VEVENT
DTSTART;TZID=America/Detroit:20260519T190000
DTEND;TZID=America/Detroit:20260519T220000
DTSTAMP:20260421T033348
CREATED:20260419T154147Z
LAST-MODIFIED:20260420T154646Z
UID:10017702-1779217200-1779228000@detroitartdao.com
SUMMARY:In Transit
DESCRIPTION:
URL:https://detroitartdao.com/event/in-transit-31
LOCATION:Northern Lights\, 660 W Baltimore Street\, Detroit\, MI\, 48202
CATEGORIES:TheDetroitILove
GEO:42.3668984;-83.0766966
X-APPLE-STRUCTURED-LOCATION;VALUE=URI;X-ADDRESS=Northern Lights 660 W Baltimore Street Detroit MI 48202;X-APPLE-RADIUS=500;X-TITLE=660 W Baltimore Street:geo:-83.0766966,42.3668984
END:VEVENT
BEGIN:VEVENT
DTSTART;TZID=America/Detroit:20260520T220000
DTEND;TZID=America/Detroit:20260521T020000
DTSTAMP:20260421T033348
CREATED:20260420T154646Z
LAST-MODIFIED:20260420T154646Z
UID:10017703-1779314400-1779328800@detroitartdao.com
SUMMARY:The Function
DESCRIPTION:
URL:https://detroitartdao.com/event/the-function-21
LOCATION:Northern Lights\, 660 W Baltimore Street\, Detroit\, MI\, 48202
CATEGORIES:TheDetroitILove
GEO:42.3668984;-83.0766966
X-APPLE-STRUCTURED-LOCATION;VALUE=URI;X-ADDRESS=Northern Lights 660 W Baltimore Street Detroit MI 48202;X-APPLE-RADIUS=500;X-TITLE=660 W Baltimore Street:geo:-83.0766966,42.3668984
END:VEVENT
END:VCALENDAR