BEGIN:VCALENDAR
VERSION:2.0
PRODID:-//Discover Detroit Art - ECPv6.0.1//NONSGML v1.0//EN
CALSCALE:GREGORIAN
METHOD:PUBLISH
X-ORIGINAL-URL:https://detroitartdao.com
X-WR-CALDESC:Events for Discover Detroit Art
REFRESH-INTERVAL;VALUE=DURATION:PT1H
X-Robots-Tag:noindex
X-PUBLISHED-TTL:PT1H
BEGIN:VTIMEZONE
TZID:America/Detroit
BEGIN:DAYLIGHT
TZOFFSETFROM:-0500
TZOFFSETTO:-0400
TZNAME:EDT
DTSTART:20260308T070000
END:DAYLIGHT
BEGIN:STANDARD
TZOFFSETFROM:-0400
TZOFFSETTO:-0500
TZNAME:EST
DTSTART:20261101T060000
END:STANDARD
END:VTIMEZONE
BEGIN:VEVENT
DTSTART;TZID=America/Detroit:20260516T100000
DTEND;TZID=America/Detroit:20260516T150000
DTSTAMP:20260423T165947
CREATED:20260417T155146Z
LAST-MODIFIED:20260423T163136Z
UID:10017685-1778925600-1778943600@detroitartdao.com
SUMMARY:Spring into Wilson
DESCRIPTION:In partnership with InsideOut Literary Arts\, Spring into Wilson is your reintroduction to all Ralph Wilson Park has to offer.\n\n\nJoin the Detroit Riverfront Conservancy\, along with InsideOut Literary Arts\, for a special community celebration offering a fresh look at the exciting programs\, spaces\, and experiences coming to Ralph Wilson Park this season. \nIn partnership with InsideOut Literary Arts\, this event will feature If the River Could Sing\, celebrating creativity and community through poetry. The winners of the annual poetry contest will be announced and the winning poems will be printed onsite by our friends at Signal Return. \nSpring into Wilson is your reintroduction to all Ralph Wilson Park has to offer. From interactive activities to beautiful scenic spaces\, guests will have the opportunity to explore the park while participating in engaging partner programs and activities. \nRegistration is free!  \nIf the River Could Sing \nAs part of Spring into Wilson\, we’ve partnered with InsideOut Literary Arts for the annual If the River Could Sing event and poetry contest. This year\, over 90 poems were submitted and the winners of the youth and adult contest will be announced at Spring into Wilson. The winning poems will be printed onsite by Signal Return with free commemorative prints for guests. \nPassport to the Park \nKids and adults will receive a “Passport to the Park” featuring all of the event activities and a map of Wilson Park . Complete your passport and receive a Ralph Wilson Park inspired prize! \nMusic\, Food\, Treats & More! \nSpring into Wilson will feature live music from local artists\, a variety of favorite food trucks\, and other tasty treats throughout the park. Stay tuned for the full entertainment and food line up!
URL:https://detroitartdao.com/event/spring-into-wilson
LOCATION:Ralph C. Wilson Centennial Park\, 1801 W Jefferson Ave.\, Detroit\, MI\, 48226\, United States
ATTACH;FMTTYPE=image/jpeg:https://dpop.nyc3.digitaloceanspaces.com/wp-content/uploads/2026/04/17115151/ba44304e491f2cb0d71a59c13e5627d1.jpg
GEO:42.3219034;-83.06306
X-APPLE-STRUCTURED-LOCATION;VALUE=URI;X-ADDRESS=Ralph C. Wilson Centennial Park 1801 W Jefferson Ave. Detroit MI 48226 United States;X-APPLE-RADIUS=500;X-TITLE=1801 W Jefferson Ave.:geo:-83.06306,42.3219034
END:VEVENT
END:VCALENDAR