BEGIN:VCALENDAR
VERSION:2.0
PRODID:-//Discover Detroit Art - ECPv6.0.1//NONSGML v1.0//EN
CALSCALE:GREGORIAN
METHOD:PUBLISH
X-WR-CALNAME:Discover Detroit Art
X-ORIGINAL-URL:https://detroitartdao.com
X-WR-CALDESC:Events for Discover Detroit Art
REFRESH-INTERVAL;VALUE=DURATION:PT1H
X-Robots-Tag:noindex
X-PUBLISHED-TTL:PT1H
BEGIN:VTIMEZONE
TZID:America/Detroit
BEGIN:DAYLIGHT
TZOFFSETFROM:-0500
TZOFFSETTO:-0400
TZNAME:EDT
DTSTART:20230312T070000
END:DAYLIGHT
BEGIN:STANDARD
TZOFFSETFROM:-0400
TZOFFSETTO:-0500
TZNAME:EST
DTSTART:20231105T060000
END:STANDARD
BEGIN:DAYLIGHT
TZOFFSETFROM:-0500
TZOFFSETTO:-0400
TZNAME:EDT
DTSTART:20240310T070000
END:DAYLIGHT
BEGIN:STANDARD
TZOFFSETFROM:-0400
TZOFFSETTO:-0500
TZNAME:EST
DTSTART:20241103T060000
END:STANDARD
END:VTIMEZONE
BEGIN:VEVENT
DTSTART;TZID=America/Detroit:20230716T120000
DTEND;TZID=America/Detroit:20230716T160000
DTSTAMP:20260424T161422
CREATED:20230715T232536Z
LAST-MODIFIED:20230716T233144Z
UID:10001262-1689508800-1689523200@detroitartdao.com
SUMMARY:B Side Brunch
DESCRIPTION:
URL:https://detroitartdao.com/event/b-side-brunch-4
LOCATION:Summertown Fresh Bar\, 2015 Michigan Avenue\, Detroit\, MI\, 48216
CATEGORIES:Music
GEO:42.3311514;-83.0738772
X-APPLE-STRUCTURED-LOCATION;VALUE=URI;X-ADDRESS=Summertown Fresh Bar 2015 Michigan Avenue Detroit MI 48216;X-APPLE-RADIUS=500;X-TITLE=2015 Michigan Avenue:geo:-83.0738772,42.3311514
END:VEVENT
BEGIN:VEVENT
DTSTART;TZID=America/Detroit:20230805T180000
DTEND;TZID=America/Detroit:20230805T230000
DTSTAMP:20260424T161422
CREATED:20230805T170137Z
LAST-MODIFIED:20230805T170138Z
UID:10001659-1691258400-1691276400@detroitartdao.com
SUMMARY:Summer of Khana
DESCRIPTION:
URL:https://detroitartdao.com/event/summer-of-khana
LOCATION:Summertown Fresh Bar\, 2015 Michigan Avenue\, Detroit\, MI\, 48216
CATEGORIES:TheDetroitILove
GEO:42.3311514;-83.0738772
X-APPLE-STRUCTURED-LOCATION;VALUE=URI;X-ADDRESS=Summertown Fresh Bar 2015 Michigan Avenue Detroit MI 48216;X-APPLE-RADIUS=500;X-TITLE=2015 Michigan Avenue:geo:-83.0738772,42.3311514
END:VEVENT
BEGIN:VEVENT
DTSTART;TZID=America/Detroit:20240505T120000
DTEND;TZID=America/Detroit:20240505T180000
DTSTAMP:20260424T161422
CREATED:20240405T164714Z
LAST-MODIFIED:20240505T200146Z
UID:10008698-1714910400-1714932000@detroitartdao.com
SUMMARY:Sunday Fresh
DESCRIPTION:
URL:https://detroitartdao.com/event/sunday-fresh
LOCATION:Summertown Fresh Bar\, 2015 Michigan Avenue\, Detroit\, MI\, 48216
CATEGORIES:TheDetroitILove
GEO:42.3311514;-83.0738772
X-APPLE-STRUCTURED-LOCATION;VALUE=URI;X-ADDRESS=Summertown Fresh Bar 2015 Michigan Avenue Detroit MI 48216;X-APPLE-RADIUS=500;X-TITLE=2015 Michigan Avenue:geo:-83.0738772,42.3311514
END:VEVENT
BEGIN:VEVENT
DTSTART;TZID=America/Detroit:20240512T120000
DTEND;TZID=America/Detroit:20240512T180000
DTSTAMP:20260424T161422
CREATED:20240412T171655Z
LAST-MODIFIED:20240512T164648Z
UID:10008753-1715515200-1715536800@detroitartdao.com
SUMMARY:Sunday Fresh
DESCRIPTION:
URL:https://detroitartdao.com/event/sunday-fresh-2
LOCATION:Summertown Fresh Bar\, 2015 Michigan Avenue\, Detroit\, MI\, 48216
CATEGORIES:TheDetroitILove
GEO:42.3311514;-83.0738772
X-APPLE-STRUCTURED-LOCATION;VALUE=URI;X-ADDRESS=Summertown Fresh Bar 2015 Michigan Avenue Detroit MI 48216;X-APPLE-RADIUS=500;X-TITLE=2015 Michigan Avenue:geo:-83.0738772,42.3311514
END:VEVENT
BEGIN:VEVENT
DTSTART;TZID=America/Detroit:20240519T120000
DTEND;TZID=America/Detroit:20240519T180000
DTSTAMP:20260424T161422
CREATED:20240419T181658Z
LAST-MODIFIED:20240519T174640Z
UID:10008832-1716120000-1716141600@detroitartdao.com
SUMMARY:Sunday Fresh
DESCRIPTION:
URL:https://detroitartdao.com/event/sunday-fresh-3
LOCATION:Summertown Fresh Bar\, 2015 Michigan Avenue\, Detroit\, MI\, 48216
CATEGORIES:TheDetroitILove
GEO:42.3311514;-83.0738772
X-APPLE-STRUCTURED-LOCATION;VALUE=URI;X-ADDRESS=Summertown Fresh Bar 2015 Michigan Avenue Detroit MI 48216;X-APPLE-RADIUS=500;X-TITLE=2015 Michigan Avenue:geo:-83.0738772,42.3311514
END:VEVENT
BEGIN:VEVENT
DTSTART;TZID=America/Detroit:20240526T120000
DTEND;TZID=America/Detroit:20240526T180000
DTSTAMP:20260424T161422
CREATED:20240426T184807Z
LAST-MODIFIED:20240506T200233Z
UID:10008908-1716724800-1716746400@detroitartdao.com
SUMMARY:Sunday Fresh
DESCRIPTION:
URL:https://detroitartdao.com/event/sunday-fresh-4
LOCATION:Summertown Fresh Bar\, 2015 Michigan Avenue\, Detroit\, MI\, 48216
CATEGORIES:TheDetroitILove
GEO:42.3311514;-83.0738772
X-APPLE-STRUCTURED-LOCATION;VALUE=URI;X-ADDRESS=Summertown Fresh Bar 2015 Michigan Avenue Detroit MI 48216;X-APPLE-RADIUS=500;X-TITLE=2015 Michigan Avenue:geo:-83.0738772,42.3311514
END:VEVENT
BEGIN:VEVENT
DTSTART;TZID=America/Detroit:20240602T120000
DTEND;TZID=America/Detroit:20240602T180000
DTSTAMP:20260424T161422
CREATED:20240503T194733Z
LAST-MODIFIED:20240602T221636Z
UID:10009084-1717329600-1717351200@detroitartdao.com
SUMMARY:Sunday Fresh
DESCRIPTION:
URL:https://detroitartdao.com/event/sunday-fresh-5
LOCATION:Summertown Fresh Bar\, 2015 Michigan Avenue\, Detroit\, MI\, 48216
CATEGORIES:TheDetroitILove
GEO:42.3311514;-83.0738772
X-APPLE-STRUCTURED-LOCATION;VALUE=URI;X-ADDRESS=Summertown Fresh Bar 2015 Michigan Avenue Detroit MI 48216;X-APPLE-RADIUS=500;X-TITLE=2015 Michigan Avenue:geo:-83.0738772,42.3311514
END:VEVENT
BEGIN:VEVENT
DTSTART;TZID=America/Detroit:20240609T120000
DTEND;TZID=America/Detroit:20240609T180000
DTSTAMP:20260424T161422
CREATED:20240510T145227Z
LAST-MODIFIED:20240609T230138Z
UID:10009197-1717934400-1717956000@detroitartdao.com
SUMMARY:Sunday Fresh
DESCRIPTION:
URL:https://detroitartdao.com/event/sunday-fresh-6
LOCATION:Summertown Fresh Bar\, 2015 Michigan Avenue\, Detroit\, MI\, 48216
CATEGORIES:TheDetroitILove
GEO:42.3311514;-83.0738772
X-APPLE-STRUCTURED-LOCATION;VALUE=URI;X-ADDRESS=Summertown Fresh Bar 2015 Michigan Avenue Detroit MI 48216;X-APPLE-RADIUS=500;X-TITLE=2015 Michigan Avenue:geo:-83.0738772,42.3311514
END:VEVENT
BEGIN:VEVENT
DTSTART;TZID=America/Detroit:20240616T120000
DTEND;TZID=America/Detroit:20240616T180000
DTSTAMP:20260424T161422
CREATED:20240517T171739Z
LAST-MODIFIED:20240616T164632Z
UID:10009280-1718539200-1718560800@detroitartdao.com
SUMMARY:Sunday Fresh
DESCRIPTION:
URL:https://detroitartdao.com/event/sunday-fresh-7
LOCATION:Summertown Fresh Bar\, 2015 Michigan Avenue\, Detroit\, MI\, 48216
CATEGORIES:TheDetroitILove
GEO:42.3311514;-83.0738772
X-APPLE-STRUCTURED-LOCATION;VALUE=URI;X-ADDRESS=Summertown Fresh Bar 2015 Michigan Avenue Detroit MI 48216;X-APPLE-RADIUS=500;X-TITLE=2015 Michigan Avenue:geo:-83.0738772,42.3311514
END:VEVENT
BEGIN:VEVENT
DTSTART;TZID=America/Detroit:20240616T130000
DTEND;TZID=America/Detroit:20240616T190000
DTSTAMP:20260424T161422
CREATED:20240616T164632Z
LAST-MODIFIED:20240616T164632Z
UID:10009724-1718542800-1718564400@detroitartdao.com
SUMMARY:Sunday Fresh
DESCRIPTION:
URL:https://detroitartdao.com/event/sunday-fresh-10
LOCATION:Summertown Fresh Bar\, 2015 Michigan Avenue\, Detroit\, MI\, 48216
CATEGORIES:TheDetroitILove
GEO:42.3311514;-83.0738772
X-APPLE-STRUCTURED-LOCATION;VALUE=URI;X-ADDRESS=Summertown Fresh Bar 2015 Michigan Avenue Detroit MI 48216;X-APPLE-RADIUS=500;X-TITLE=2015 Michigan Avenue:geo:-83.0738772,42.3311514
END:VEVENT
BEGIN:VEVENT
DTSTART;TZID=America/Detroit:20240623T120000
DTEND;TZID=America/Detroit:20240623T180000
DTSTAMP:20260424T161422
CREATED:20240524T184330Z
LAST-MODIFIED:20240623T214634Z
UID:10009366-1719144000-1719165600@detroitartdao.com
SUMMARY:Sunday Fresh
DESCRIPTION:
URL:https://detroitartdao.com/event/sunday-fresh-8
LOCATION:Summertown Fresh Bar\, 2015 Michigan Avenue\, Detroit\, MI\, 48216
CATEGORIES:TheDetroitILove
GEO:42.3311514;-83.0738772
X-APPLE-STRUCTURED-LOCATION;VALUE=URI;X-ADDRESS=Summertown Fresh Bar 2015 Michigan Avenue Detroit MI 48216;X-APPLE-RADIUS=500;X-TITLE=2015 Michigan Avenue:geo:-83.0738772,42.3311514
END:VEVENT
BEGIN:VEVENT
DTSTART;TZID=America/Detroit:20240630T120000
DTEND;TZID=America/Detroit:20240630T180000
DTSTAMP:20260424T161422
CREATED:20240531T220155Z
LAST-MODIFIED:20240630T220133Z
UID:10009564-1719748800-1719770400@detroitartdao.com
SUMMARY:Sunday Fresh
DESCRIPTION:
URL:https://detroitartdao.com/event/sunday-fresh-9
LOCATION:Summertown Fresh Bar\, 2015 Michigan Avenue\, Detroit\, MI\, 48216
CATEGORIES:TheDetroitILove
GEO:42.3311514;-83.0738772
X-APPLE-STRUCTURED-LOCATION;VALUE=URI;X-ADDRESS=Summertown Fresh Bar 2015 Michigan Avenue Detroit MI 48216;X-APPLE-RADIUS=500;X-TITLE=2015 Michigan Avenue:geo:-83.0738772,42.3311514
END:VEVENT
BEGIN:VEVENT
DTSTART;TZID=America/Detroit:20240714T130000
DTEND;TZID=America/Detroit:20240714T190000
DTSTAMP:20260424T161422
CREATED:20240712T221647Z
LAST-MODIFIED:20240714T221637Z
UID:10010096-1720962000-1720983600@detroitartdao.com
SUMMARY:Sunday Fresh
DESCRIPTION:
URL:https://detroitartdao.com/event/sunday-fresh-11
LOCATION:Summertown Fresh Bar\, 2015 Michigan Avenue\, Detroit\, MI\, 48216
CATEGORIES:TheDetroitILove
GEO:42.3311514;-83.0738772
X-APPLE-STRUCTURED-LOCATION;VALUE=URI;X-ADDRESS=Summertown Fresh Bar 2015 Michigan Avenue Detroit MI 48216;X-APPLE-RADIUS=500;X-TITLE=2015 Michigan Avenue:geo:-83.0738772,42.3311514
END:VEVENT
BEGIN:VEVENT
DTSTART;TZID=America/Detroit:20240728T130000
DTEND;TZID=America/Detroit:20240728T190000
DTSTAMP:20260424T161422
CREATED:20240722T224644Z
LAST-MODIFIED:20240728T224637Z
UID:10010242-1722171600-1722193200@detroitartdao.com
SUMMARY:Sunday Fresh
DESCRIPTION:
URL:https://detroitartdao.com/event/sunday-fresh-12
LOCATION:Summertown Fresh Bar\, 2015 Michigan Avenue\, Detroit\, MI\, 48216
CATEGORIES:TheDetroitILove
GEO:42.3311514;-83.0738772
X-APPLE-STRUCTURED-LOCATION;VALUE=URI;X-ADDRESS=Summertown Fresh Bar 2015 Michigan Avenue Detroit MI 48216;X-APPLE-RADIUS=500;X-TITLE=2015 Michigan Avenue:geo:-83.0738772,42.3311514
END:VEVENT
BEGIN:VEVENT
DTSTART;TZID=America/Detroit:20240804T130000
DTEND;TZID=America/Detroit:20240804T190000
DTSTAMP:20260424T161422
CREATED:20240722T224645Z
LAST-MODIFIED:20240804T231636Z
UID:10010245-1722776400-1722798000@detroitartdao.com
SUMMARY:Sunday Fresh
DESCRIPTION:
URL:https://detroitartdao.com/event/sunday-fresh-13
LOCATION:Summertown Fresh Bar\, 2015 Michigan Avenue\, Detroit\, MI\, 48216
CATEGORIES:TheDetroitILove
GEO:42.3311514;-83.0738772
X-APPLE-STRUCTURED-LOCATION;VALUE=URI;X-ADDRESS=Summertown Fresh Bar 2015 Michigan Avenue Detroit MI 48216;X-APPLE-RADIUS=500;X-TITLE=2015 Michigan Avenue:geo:-83.0738772,42.3311514
END:VEVENT
BEGIN:VEVENT
DTSTART;TZID=America/Detroit:20240811T130000
DTEND;TZID=America/Detroit:20240811T190000
DTSTAMP:20260424T161422
CREATED:20240722T224646Z
LAST-MODIFIED:20240811T231635Z
UID:10010246-1723381200-1723402800@detroitartdao.com
SUMMARY:Sunday Fresh
DESCRIPTION:
URL:https://detroitartdao.com/event/sunday-fresh-14
LOCATION:Summertown Fresh Bar\, 2015 Michigan Avenue\, Detroit\, MI\, 48216
CATEGORIES:TheDetroitILove
GEO:42.3311514;-83.0738772
X-APPLE-STRUCTURED-LOCATION;VALUE=URI;X-ADDRESS=Summertown Fresh Bar 2015 Michigan Avenue Detroit MI 48216;X-APPLE-RADIUS=500;X-TITLE=2015 Michigan Avenue:geo:-83.0738772,42.3311514
END:VEVENT
BEGIN:VEVENT
DTSTART;TZID=America/Detroit:20240818T130000
DTEND;TZID=America/Detroit:20240818T190000
DTSTAMP:20260424T161422
CREATED:20240722T224648Z
LAST-MODIFIED:20240818T200136Z
UID:10010247-1723986000-1724007600@detroitartdao.com
SUMMARY:Sunday Fresh
DESCRIPTION:
URL:https://detroitartdao.com/event/sunday-fresh-15
LOCATION:Summertown Fresh Bar\, 2015 Michigan Avenue\, Detroit\, MI\, 48216
CATEGORIES:TheDetroitILove
GEO:42.3311514;-83.0738772
X-APPLE-STRUCTURED-LOCATION;VALUE=URI;X-ADDRESS=Summertown Fresh Bar 2015 Michigan Avenue Detroit MI 48216;X-APPLE-RADIUS=500;X-TITLE=2015 Michigan Avenue:geo:-83.0738772,42.3311514
END:VEVENT
BEGIN:VEVENT
DTSTART;TZID=America/Detroit:20240825T130000
DTEND;TZID=America/Detroit:20240825T190000
DTSTAMP:20260424T161422
CREATED:20240726T224653Z
LAST-MODIFIED:20240825T201633Z
UID:10010305-1724590800-1724612400@detroitartdao.com
SUMMARY:Sunday Fresh
DESCRIPTION:
URL:https://detroitartdao.com/event/sunday-fresh-16
LOCATION:Summertown Fresh Bar\, 2015 Michigan Avenue\, Detroit\, MI\, 48216
CATEGORIES:TheDetroitILove
GEO:42.3311514;-83.0738772
X-APPLE-STRUCTURED-LOCATION;VALUE=URI;X-ADDRESS=Summertown Fresh Bar 2015 Michigan Avenue Detroit MI 48216;X-APPLE-RADIUS=500;X-TITLE=2015 Michigan Avenue:geo:-83.0738772,42.3311514
END:VEVENT
BEGIN:VEVENT
DTSTART;TZID=America/Detroit:20240901T130000
DTEND;TZID=America/Detroit:20240901T190000
DTSTAMP:20260424T161422
CREATED:20240802T231651Z
LAST-MODIFIED:20240901T164641Z
UID:10010407-1725195600-1725217200@detroitartdao.com
SUMMARY:Sunday Fresh
DESCRIPTION:
URL:https://detroitartdao.com/event/sunday-fresh-17
LOCATION:Summertown Fresh Bar\, 2015 Michigan Avenue\, Detroit\, MI\, 48216
CATEGORIES:TheDetroitILove
GEO:42.3311514;-83.0738772
X-APPLE-STRUCTURED-LOCATION;VALUE=URI;X-ADDRESS=Summertown Fresh Bar 2015 Michigan Avenue Detroit MI 48216;X-APPLE-RADIUS=500;X-TITLE=2015 Michigan Avenue:geo:-83.0738772,42.3311514
END:VEVENT
BEGIN:VEVENT
DTSTART;TZID=America/Detroit:20240908T130000
DTEND;TZID=America/Detroit:20240908T190000
DTSTAMP:20260424T161422
CREATED:20240809T231652Z
LAST-MODIFIED:20240908T171648Z
UID:10010451-1725800400-1725822000@detroitartdao.com
SUMMARY:Sunday Fresh
DESCRIPTION:
URL:https://detroitartdao.com/event/sunday-fresh-18
LOCATION:Summertown Fresh Bar\, 2015 Michigan Avenue\, Detroit\, MI\, 48216
CATEGORIES:TheDetroitILove
GEO:42.3311514;-83.0738772
X-APPLE-STRUCTURED-LOCATION;VALUE=URI;X-ADDRESS=Summertown Fresh Bar 2015 Michigan Avenue Detroit MI 48216;X-APPLE-RADIUS=500;X-TITLE=2015 Michigan Avenue:geo:-83.0738772,42.3311514
END:VEVENT
BEGIN:VEVENT
DTSTART;TZID=America/Detroit:20240915T130000
DTEND;TZID=America/Detroit:20240915T190000
DTSTAMP:20260424T161422
CREATED:20240816T194648Z
LAST-MODIFIED:20240915T164641Z
UID:10010531-1726405200-1726426800@detroitartdao.com
SUMMARY:Sunday Fresh
DESCRIPTION:
URL:https://detroitartdao.com/event/sunday-fresh-19
LOCATION:Summertown Fresh Bar\, 2015 Michigan Avenue\, Detroit\, MI\, 48216
CATEGORIES:TheDetroitILove
GEO:42.3311514;-83.0738772
X-APPLE-STRUCTURED-LOCATION;VALUE=URI;X-ADDRESS=Summertown Fresh Bar 2015 Michigan Avenue Detroit MI 48216;X-APPLE-RADIUS=500;X-TITLE=2015 Michigan Avenue:geo:-83.0738772,42.3311514
END:VEVENT
BEGIN:VEVENT
DTSTART;TZID=America/Detroit:20240922T130000
DTEND;TZID=America/Detroit:20240922T190000
DTSTAMP:20260424T161422
CREATED:20240823T201648Z
LAST-MODIFIED:20240922T173137Z
UID:10010591-1727010000-1727031600@detroitartdao.com
SUMMARY:Sunday Fresh
DESCRIPTION:
URL:https://detroitartdao.com/event/sunday-fresh-20
LOCATION:Summertown Fresh Bar\, 2015 Michigan Avenue\, Detroit\, MI\, 48216
CATEGORIES:TheDetroitILove
GEO:42.3311514;-83.0738772
X-APPLE-STRUCTURED-LOCATION;VALUE=URI;X-ADDRESS=Summertown Fresh Bar 2015 Michigan Avenue Detroit MI 48216;X-APPLE-RADIUS=500;X-TITLE=2015 Michigan Avenue:geo:-83.0738772,42.3311514
END:VEVENT
BEGIN:VEVENT
DTSTART;TZID=America/Detroit:20240928T180000
DTEND;TZID=America/Detroit:20240928T230000
DTSTAMP:20260424T161422
CREATED:20240928T232743Z
LAST-MODIFIED:20240928T232743Z
UID:10010941-1727546400-1727564400@detroitartdao.com
SUMMARY:Forget The Clock
DESCRIPTION:
URL:https://detroitartdao.com/event/forget-the-clock
LOCATION:Summertown Fresh Bar\, 2015 Michigan Avenue\, Detroit\, MI\, 48216
CATEGORIES:TheDetroitILove
GEO:42.3311514;-83.0738772
X-APPLE-STRUCTURED-LOCATION;VALUE=URI;X-ADDRESS=Summertown Fresh Bar 2015 Michigan Avenue Detroit MI 48216;X-APPLE-RADIUS=500;X-TITLE=2015 Michigan Avenue:geo:-83.0738772,42.3311514
END:VEVENT
BEGIN:VEVENT
DTSTART;TZID=America/Detroit:20240929T130000
DTEND;TZID=America/Detroit:20240929T190000
DTSTAMP:20260424T161422
CREATED:20240830T235158Z
LAST-MODIFIED:20240929T233138Z
UID:10010647-1727614800-1727636400@detroitartdao.com
SUMMARY:Sunday Fresh
DESCRIPTION:
URL:https://detroitartdao.com/event/sunday-fresh-21
LOCATION:Summertown Fresh Bar\, 2015 Michigan Avenue\, Detroit\, MI\, 48216
CATEGORIES:TheDetroitILove
GEO:42.3311514;-83.0738772
X-APPLE-STRUCTURED-LOCATION;VALUE=URI;X-ADDRESS=Summertown Fresh Bar 2015 Michigan Avenue Detroit MI 48216;X-APPLE-RADIUS=500;X-TITLE=2015 Michigan Avenue:geo:-83.0738772,42.3311514
END:VEVENT
END:VCALENDAR