BEGIN:VCALENDAR
VERSION:2.0
PRODID:-//Discover Detroit Art - ECPv6.0.1//NONSGML v1.0//EN
CALSCALE:GREGORIAN
METHOD:PUBLISH
X-WR-CALNAME:Discover Detroit Art
X-ORIGINAL-URL:https://detroitartdao.com
X-WR-CALDESC:Events for Discover Detroit Art
REFRESH-INTERVAL;VALUE=DURATION:PT1H
X-Robots-Tag:noindex
X-PUBLISHED-TTL:PT1H
BEGIN:VTIMEZONE
TZID:America/Detroit
BEGIN:DAYLIGHT
TZOFFSETFROM:-0500
TZOFFSETTO:-0400
TZNAME:EDT
DTSTART:20230312T070000
END:DAYLIGHT
BEGIN:STANDARD
TZOFFSETFROM:-0400
TZOFFSETTO:-0500
TZNAME:EST
DTSTART:20231105T060000
END:STANDARD
BEGIN:DAYLIGHT
TZOFFSETFROM:-0500
TZOFFSETTO:-0400
TZNAME:EDT
DTSTART:20240310T070000
END:DAYLIGHT
BEGIN:STANDARD
TZOFFSETFROM:-0400
TZOFFSETTO:-0500
TZNAME:EST
DTSTART:20241103T060000
END:STANDARD
BEGIN:DAYLIGHT
TZOFFSETFROM:-0500
TZOFFSETTO:-0400
TZNAME:EDT
DTSTART:20250309T070000
END:DAYLIGHT
BEGIN:STANDARD
TZOFFSETFROM:-0400
TZOFFSETTO:-0500
TZNAME:EST
DTSTART:20251102T060000
END:STANDARD
END:VTIMEZONE
BEGIN:VEVENT
DTSTART;TZID=America/Detroit:20230526T160000
DTEND;TZID=America/Detroit:20230526T220000
DTSTAMP:20260420T192211
CREATED:20230525T003037Z
LAST-MODIFIED:20230525T003723Z
UID:10001045-1685116800-1685138400@detroitartdao.com
SUMMARY:Open Air Block Party
DESCRIPTION:
URL:https://detroitartdao.com/event/open-air-block-party
LOCATION:The Skip\, The Belt Alley\, Detroit\, MI\, 48226
CATEGORIES:Art,Music
GEO:42.3347059;-83.046706
X-APPLE-STRUCTURED-LOCATION;VALUE=URI;X-ADDRESS=The Skip The Belt Alley Detroit MI 48226;X-APPLE-RADIUS=500;X-TITLE=The Belt Alley:geo:-83.046706,42.3347059
END:VEVENT
BEGIN:VEVENT
DTSTART;TZID=America/Detroit:20230718T170000
DTEND;TZID=America/Detroit:20230718T190000
DTSTAMP:20260420T192211
CREATED:20230629T151629Z
LAST-MODIFIED:20230718T164630Z
UID:10001241-1689699600-1689706800@detroitartdao.com
SUMMARY:Startup Detroit Happy Hour
DESCRIPTION:Looking for some summer\, island vibes? Join our friends at DVP\, Bamboo\, [Airspace Link](https://airspacelink.com/)\, Shine & Rise\, and Purpose Jobs for this month’s [Startup Detroit Happy Hour](https://www.purpose.jobs/startup-detroit-happy-hour)\, hosted at The Skip! \nFrom 5-7 PM on July 18th\, the Detroit tech + startup community will gather in downtown Detroit for drinks\, friends\, and some much-needed catching up 🍻 \nSo mark your calendars and save your spot 👇 the first 100 people to arrive will get a free drink on us! \n[RSVP to Happy Hour](https://www.purpose.jobs/startup-detroit-happy-hour-june)
URL:https://detroitartdao.com/event/startup-detroit-happy-hour-3
LOCATION:The Skip\, The Belt Alley\, Detroit\, MI\, 48226
CATEGORIES:Tech
ATTACH;FMTTYPE=image/jpeg:https://detroitartdao.com/wp-content/uploads/2023/06/1024x576-3KFa2l.tmp_.jpg
GEO:42.3347059;-83.046706
X-APPLE-STRUCTURED-LOCATION;VALUE=URI;X-ADDRESS=The Skip The Belt Alley Detroit MI 48226;X-APPLE-RADIUS=500;X-TITLE=The Belt Alley:geo:-83.046706,42.3347059
END:VEVENT
BEGIN:VEVENT
DTSTART;TZID=America/Detroit:20250523T160000
DTEND;TZID=America/Detroit:20250523T220000
DTSTAMP:20260420T192211
CREATED:20250505T134740Z
LAST-MODIFIED:20250523T222326Z
UID:10012956-1748016000-1748037600@detroitartdao.com
SUMMARY:Open Air Block Party 3
DESCRIPTION:
URL:https://detroitartdao.com/event/open-air-block-party-3
LOCATION:The Skip\, The Belt Alley\, Detroit\, MI\, 48226
CATEGORIES:TheDetroitILove
GEO:42.3347059;-83.046706
X-APPLE-STRUCTURED-LOCATION;VALUE=URI;X-ADDRESS=The Skip The Belt Alley Detroit MI 48226;X-APPLE-RADIUS=500;X-TITLE=The Belt Alley:geo:-83.046706,42.3347059
END:VEVENT
END:VCALENDAR