BEGIN:VCALENDAR
VERSION:2.0
PRODID:-//Discover Detroit Art - ECPv6.0.1//NONSGML v1.0//EN
CALSCALE:GREGORIAN
METHOD:PUBLISH
X-WR-CALNAME:Discover Detroit Art
X-ORIGINAL-URL:https://detroitartdao.com
X-WR-CALDESC:Events for Discover Detroit Art
REFRESH-INTERVAL;VALUE=DURATION:PT1H
X-Robots-Tag:noindex
X-PUBLISHED-TTL:PT1H
BEGIN:VTIMEZONE
TZID:America/Detroit
BEGIN:DAYLIGHT
TZOFFSETFROM:-0500
TZOFFSETTO:-0400
TZNAME:EDT
DTSTART:20230312T070000
END:DAYLIGHT
BEGIN:STANDARD
TZOFFSETFROM:-0400
TZOFFSETTO:-0500
TZNAME:EST
DTSTART:20231105T060000
END:STANDARD
BEGIN:DAYLIGHT
TZOFFSETFROM:-0500
TZOFFSETTO:-0400
TZNAME:EDT
DTSTART:20240310T070000
END:DAYLIGHT
BEGIN:STANDARD
TZOFFSETFROM:-0400
TZOFFSETTO:-0500
TZNAME:EST
DTSTART:20241103T060000
END:STANDARD
END:VTIMEZONE
BEGIN:VEVENT
DTSTART;TZID=America/Detroit:20230525T200000
DTEND;TZID=America/Detroit:20230526T030000
DTSTAMP:20260424T092525
CREATED:20230525T003031Z
LAST-MODIFIED:20230525T003728Z
UID:10001016-1685044800-1685070000@detroitartdao.com
SUMMARY:Blueprint
DESCRIPTION:
URL:https://detroitartdao.com/event/blueprint
LOCATION:UFO Bar\, 2110 Trumbull Street\, Detroit\, MI\, 48216
CATEGORIES:Art,Music
GEO:42.3321892;-83.0669471
X-APPLE-STRUCTURED-LOCATION;VALUE=URI;X-ADDRESS=UFO Bar 2110 Trumbull Street Detroit MI 48216;X-APPLE-RADIUS=500;X-TITLE=2110 Trumbull Street:geo:-83.0669471,42.3321892
END:VEVENT
BEGIN:VEVENT
DTSTART;TZID=America/Detroit:20230530T140000
DTEND;TZID=America/Detroit:20230531T020000
DTSTAMP:20260424T092525
CREATED:20230525T003100Z
LAST-MODIFIED:20230525T003631Z
UID:10001162-1685455200-1685498400@detroitartdao.com
SUMMARY:Retox 3.0
DESCRIPTION:
URL:https://detroitartdao.com/event/retox-3-0
LOCATION:UFO Bar\, 2110 Trumbull Street\, Detroit\, MI\, 48216
CATEGORIES:Art,Music
GEO:42.3321892;-83.0669471
X-APPLE-STRUCTURED-LOCATION;VALUE=URI;X-ADDRESS=UFO Bar 2110 Trumbull Street Detroit MI 48216;X-APPLE-RADIUS=500;X-TITLE=2110 Trumbull Street:geo:-83.0669471,42.3321892
END:VEVENT
BEGIN:VEVENT
DTSTART;TZID=America/Detroit:20230715T210000
DTEND;TZID=America/Detroit:20230716T020000
DTSTAMP:20260424T092525
CREATED:20230715T232535Z
LAST-MODIFIED:20230715T232535Z
UID:10001255-1689454800-1689472800@detroitartdao.com
SUMMARY:Femmedom – Le Disko
DESCRIPTION:
URL:https://detroitartdao.com/event/femmedom-le-disko
LOCATION:UFO Bar\, 2110 Trumbull Street\, Detroit\, MI\, 48216
CATEGORIES:Music
GEO:42.3321892;-83.0669471
X-APPLE-STRUCTURED-LOCATION;VALUE=URI;X-ADDRESS=UFO Bar 2110 Trumbull Street Detroit MI 48216;X-APPLE-RADIUS=500;X-TITLE=2110 Trumbull Street:geo:-83.0669471,42.3321892
END:VEVENT
BEGIN:VEVENT
DTSTART;TZID=America/Detroit:20230716T210000
DTEND;TZID=America/Detroit:20230717T020000
DTSTAMP:20260424T092525
CREATED:20230715T232536Z
LAST-MODIFIED:20230716T233145Z
UID:10001266-1689541200-1689559200@detroitartdao.com
SUMMARY:Möbius Strip
DESCRIPTION:
URL:https://detroitartdao.com/event/mobius-strip
LOCATION:UFO Bar\, 2110 Trumbull Street\, Detroit\, MI\, 48216
CATEGORIES:Music
GEO:42.3321892;-83.0669471
X-APPLE-STRUCTURED-LOCATION;VALUE=URI;X-ADDRESS=UFO Bar 2110 Trumbull Street Detroit MI 48216;X-APPLE-RADIUS=500;X-TITLE=2110 Trumbull Street:geo:-83.0669471,42.3321892
END:VEVENT
BEGIN:VEVENT
DTSTART;TZID=America/Detroit:20230810T210000
DTEND;TZID=America/Detroit:20230811T020000
DTSTAMP:20260424T092525
CREATED:20230809T171639Z
LAST-MODIFIED:20230810T171728Z
UID:10001709-1691701200-1691719200@detroitartdao.com
SUMMARY:Technically\, Yeah.
DESCRIPTION:
URL:https://detroitartdao.com/event/technically-yeah
LOCATION:UFO Bar\, 2110 Trumbull Street\, Detroit\, MI\, 48216
CATEGORIES:TheDetroitILove
GEO:42.3321892;-83.0669471
X-APPLE-STRUCTURED-LOCATION;VALUE=URI;X-ADDRESS=UFO Bar 2110 Trumbull Street Detroit MI 48216;X-APPLE-RADIUS=500;X-TITLE=2110 Trumbull Street:geo:-83.0669471,42.3321892
END:VEVENT
BEGIN:VEVENT
DTSTART;TZID=America/Detroit:20230819T210000
DTEND;TZID=America/Detroit:20230820T020000
DTSTAMP:20260424T092525
CREATED:20230815T223307Z
LAST-MODIFIED:20230819T170156Z
UID:10001807-1692478800-1692496800@detroitartdao.com
SUMMARY:FEMMEDOM
DESCRIPTION:
URL:https://detroitartdao.com/event/femmedom
LOCATION:UFO Bar\, 2110 Trumbull Street\, Detroit\, MI\, 48216
CATEGORIES:TheDetroitILove
GEO:42.3321892;-83.0669471
X-APPLE-STRUCTURED-LOCATION;VALUE=URI;X-ADDRESS=UFO Bar 2110 Trumbull Street Detroit MI 48216;X-APPLE-RADIUS=500;X-TITLE=2110 Trumbull Street:geo:-83.0669471,42.3321892
END:VEVENT
BEGIN:VEVENT
DTSTART;TZID=America/Detroit:20230907T210000
DTEND;TZID=America/Detroit:20230908T020000
DTSTAMP:20260424T092525
CREATED:20230906T173136Z
LAST-MODIFIED:20230907T174818Z
UID:10002048-1694120400-1694138400@detroitartdao.com
SUMMARY:Technically\, Yeah.
DESCRIPTION:
URL:https://detroitartdao.com/event/technically-yeah-2
LOCATION:UFO Bar\, 2110 Trumbull Street\, Detroit\, MI\, 48216
CATEGORIES:TheDetroitILove
GEO:42.3321892;-83.0669471
X-APPLE-STRUCTURED-LOCATION;VALUE=URI;X-ADDRESS=UFO Bar 2110 Trumbull Street Detroit MI 48216;X-APPLE-RADIUS=500;X-TITLE=2110 Trumbull Street:geo:-83.0669471,42.3321892
END:VEVENT
BEGIN:VEVENT
DTSTART;TZID=America/Detroit:20230914T210000
DTEND;TZID=America/Detroit:20230915T010000
DTSTAMP:20260424T092525
CREATED:20230912T191647Z
LAST-MODIFIED:20230914T191641Z
UID:10002153-1694725200-1694739600@detroitartdao.com
SUMMARY:Quintron
DESCRIPTION:
URL:https://detroitartdao.com/event/quintron
LOCATION:UFO Bar\, 2110 Trumbull Street\, Detroit\, MI\, 48216
CATEGORIES:TheDetroitILove
GEO:42.3321892;-83.0669471
X-APPLE-STRUCTURED-LOCATION;VALUE=URI;X-ADDRESS=UFO Bar 2110 Trumbull Street Detroit MI 48216;X-APPLE-RADIUS=500;X-TITLE=2110 Trumbull Street:geo:-83.0669471,42.3321892
END:VEVENT
BEGIN:VEVENT
DTSTART;TZID=America/Detroit:20230915T210000
DTEND;TZID=America/Detroit:20230916T020000
DTSTAMP:20260424T092525
CREATED:20230912T191649Z
LAST-MODIFIED:20230915T191643Z
UID:10002165-1694811600-1694829600@detroitartdao.com
SUMMARY:Mutant Electronics
DESCRIPTION:
URL:https://detroitartdao.com/event/mutant-electronics
LOCATION:UFO Bar\, 2110 Trumbull Street\, Detroit\, MI\, 48216
CATEGORIES:TheDetroitILove
GEO:42.3321892;-83.0669471
X-APPLE-STRUCTURED-LOCATION;VALUE=URI;X-ADDRESS=UFO Bar 2110 Trumbull Street Detroit MI 48216;X-APPLE-RADIUS=500;X-TITLE=2110 Trumbull Street:geo:-83.0669471,42.3321892
END:VEVENT
BEGIN:VEVENT
DTSTART;TZID=America/Detroit:20230922T210000
DTEND;TZID=America/Detroit:20230923T020000
DTSTAMP:20260424T092525
CREATED:20230919T193152Z
LAST-MODIFIED:20230922T193141Z
UID:10002303-1695416400-1695434400@detroitartdao.com
SUMMARY:Telfar Party
DESCRIPTION:
URL:https://detroitartdao.com/event/telfar-party
LOCATION:UFO Bar\, 2110 Trumbull Street\, Detroit\, MI\, 48216
CATEGORIES:TheDetroitILove
GEO:42.3321892;-83.0669471
X-APPLE-STRUCTURED-LOCATION;VALUE=URI;X-ADDRESS=UFO Bar 2110 Trumbull Street Detroit MI 48216;X-APPLE-RADIUS=500;X-TITLE=2110 Trumbull Street:geo:-83.0669471,42.3321892
END:VEVENT
BEGIN:VEVENT
DTSTART;TZID=America/Detroit:20230923T220000
DTEND;TZID=America/Detroit:20230924T020000
DTSTAMP:20260424T092525
CREATED:20230919T193154Z
LAST-MODIFIED:20230923T194641Z
UID:10002321-1695506400-1695520800@detroitartdao.com
SUMMARY:Something Cold
DESCRIPTION:
URL:https://detroitartdao.com/event/something-cold
LOCATION:UFO Bar\, 2110 Trumbull Street\, Detroit\, MI\, 48216
CATEGORIES:TheDetroitILove
GEO:42.3321892;-83.0669471
X-APPLE-STRUCTURED-LOCATION;VALUE=URI;X-ADDRESS=UFO Bar 2110 Trumbull Street Detroit MI 48216;X-APPLE-RADIUS=500;X-TITLE=2110 Trumbull Street:geo:-83.0669471,42.3321892
END:VEVENT
BEGIN:VEVENT
DTSTART;TZID=America/Detroit:20230930T210000
DTEND;TZID=America/Detroit:20231001T020000
DTSTAMP:20260424T092525
CREATED:20230929T164649Z
LAST-MODIFIED:20230930T164635Z
UID:10002381-1696107600-1696125600@detroitartdao.com
SUMMARY:Femmedom
DESCRIPTION:
URL:https://detroitartdao.com/event/femmedom-2
LOCATION:UFO Bar\, 2110 Trumbull Street\, Detroit\, MI\, 48216
CATEGORIES:TheDetroitILove
GEO:42.3321892;-83.0669471
X-APPLE-STRUCTURED-LOCATION;VALUE=URI;X-ADDRESS=UFO Bar 2110 Trumbull Street Detroit MI 48216;X-APPLE-RADIUS=500;X-TITLE=2110 Trumbull Street:geo:-83.0669471,42.3321892
END:VEVENT
BEGIN:VEVENT
DTSTART;TZID=America/Detroit:20231011T210000
DTEND;TZID=America/Detroit:20231012T020000
DTSTAMP:20260424T092525
CREATED:20231009T164651Z
LAST-MODIFIED:20231011T164648Z
UID:10002493-1697058000-1697076000@detroitartdao.com
SUMMARY:Industrial Detroit
DESCRIPTION:
URL:https://detroitartdao.com/event/industrial-detroit-3
LOCATION:UFO Bar\, 2110 Trumbull Street\, Detroit\, MI\, 48216
CATEGORIES:TheDetroitILove
GEO:42.3321892;-83.0669471
X-APPLE-STRUCTURED-LOCATION;VALUE=URI;X-ADDRESS=UFO Bar 2110 Trumbull Street Detroit MI 48216;X-APPLE-RADIUS=500;X-TITLE=2110 Trumbull Street:geo:-83.0669471,42.3321892
END:VEVENT
BEGIN:VEVENT
DTSTART;TZID=America/Detroit:20231012T210000
DTEND;TZID=America/Detroit:20231013T020000
DTSTAMP:20260424T092525
CREATED:20231011T164650Z
LAST-MODIFIED:20231012T164644Z
UID:10002516-1697144400-1697162400@detroitartdao.com
SUMMARY:Technically\, Yeah.
DESCRIPTION:
URL:https://detroitartdao.com/event/technically-yeah-3
LOCATION:UFO Bar\, 2110 Trumbull Street\, Detroit\, MI\, 48216
CATEGORIES:TheDetroitILove
GEO:42.3321892;-83.0669471
X-APPLE-STRUCTURED-LOCATION;VALUE=URI;X-ADDRESS=UFO Bar 2110 Trumbull Street Detroit MI 48216;X-APPLE-RADIUS=500;X-TITLE=2110 Trumbull Street:geo:-83.0669471,42.3321892
END:VEVENT
BEGIN:VEVENT
DTSTART;TZID=America/Detroit:20231013T210000
DTEND;TZID=America/Detroit:20231014T020000
DTSTAMP:20260424T092525
CREATED:20231011T164651Z
LAST-MODIFIED:20231013T164640Z
UID:10002524-1697230800-1697248800@detroitartdao.com
SUMMARY:Sound Odyssey #16
DESCRIPTION:
URL:https://detroitartdao.com/event/sound-odyssey-16
LOCATION:UFO Bar\, 2110 Trumbull Street\, Detroit\, MI\, 48216
CATEGORIES:TheDetroitILove
GEO:42.3321892;-83.0669471
X-APPLE-STRUCTURED-LOCATION;VALUE=URI;X-ADDRESS=UFO Bar 2110 Trumbull Street Detroit MI 48216;X-APPLE-RADIUS=500;X-TITLE=2110 Trumbull Street:geo:-83.0669471,42.3321892
END:VEVENT
BEGIN:VEVENT
DTSTART;TZID=America/Detroit:20231021T210000
DTEND;TZID=America/Detroit:20231022T020000
DTSTAMP:20260424T092525
CREATED:20231020T170139Z
LAST-MODIFIED:20231021T170137Z
UID:10002614-1697922000-1697940000@detroitartdao.com
SUMMARY:Femmedom – Glamour Ghouls
DESCRIPTION:
URL:https://detroitartdao.com/event/femmedom-glamour-ghouls
LOCATION:UFO Bar\, 2110 Trumbull Street\, Detroit\, MI\, 48216
CATEGORIES:TheDetroitILove
GEO:42.3321892;-83.0669471
X-APPLE-STRUCTURED-LOCATION;VALUE=URI;X-ADDRESS=UFO Bar 2110 Trumbull Street Detroit MI 48216;X-APPLE-RADIUS=500;X-TITLE=2110 Trumbull Street:geo:-83.0669471,42.3321892
END:VEVENT
BEGIN:VEVENT
DTSTART;TZID=America/Detroit:20231027T210000
DTEND;TZID=America/Detroit:20231028T020000
DTSTAMP:20260424T092525
CREATED:20231025T170137Z
LAST-MODIFIED:20231027T171648Z
UID:10002712-1698440400-1698458400@detroitartdao.com
SUMMARY:Industrial Detroit
DESCRIPTION:
URL:https://detroitartdao.com/event/industrial-detroit-4
LOCATION:UFO Bar\, 2110 Trumbull Street\, Detroit\, MI\, 48216
CATEGORIES:TheDetroitILove
GEO:42.3321892;-83.0669471
X-APPLE-STRUCTURED-LOCATION;VALUE=URI;X-ADDRESS=UFO Bar 2110 Trumbull Street Detroit MI 48216;X-APPLE-RADIUS=500;X-TITLE=2110 Trumbull Street:geo:-83.0669471,42.3321892
END:VEVENT
BEGIN:VEVENT
DTSTART;TZID=America/Detroit:20231109T210000
DTEND;TZID=America/Detroit:20231110T020000
DTSTAMP:20260424T092525
CREATED:20231109T192139Z
LAST-MODIFIED:20231109T192139Z
UID:10002837-1699563600-1699581600@detroitartdao.com
SUMMARY:Technically\, Yeah.
DESCRIPTION:
URL:https://detroitartdao.com/event/technically-yeah-4
LOCATION:UFO Bar\, 2110 Trumbull Street\, Detroit\, MI\, 48216
CATEGORIES:TheDetroitILove
GEO:42.3321892;-83.0669471
X-APPLE-STRUCTURED-LOCATION;VALUE=URI;X-ADDRESS=UFO Bar 2110 Trumbull Street Detroit MI 48216;X-APPLE-RADIUS=500;X-TITLE=2110 Trumbull Street:geo:-83.0669471,42.3321892
END:VEVENT
BEGIN:VEVENT
DTSTART;TZID=America/Detroit:20231116T210000
DTEND;TZID=America/Detroit:20231117T020000
DTSTAMP:20260424T092525
CREATED:20231116T193135Z
LAST-MODIFIED:20231116T193138Z
UID:10002917-1700168400-1700186400@detroitartdao.com
SUMMARY:Adult Contemporary Presents A Hypothetical Evening
DESCRIPTION:
URL:https://detroitartdao.com/event/adult-contemporary-presents-a-hypothetical-evening
LOCATION:UFO Bar\, 2110 Trumbull Street\, Detroit\, MI\, 48216
CATEGORIES:TheDetroitILove
GEO:42.3321892;-83.0669471
X-APPLE-STRUCTURED-LOCATION;VALUE=URI;X-ADDRESS=UFO Bar 2110 Trumbull Street Detroit MI 48216;X-APPLE-RADIUS=500;X-TITLE=2110 Trumbull Street:geo:-83.0669471,42.3321892
END:VEVENT
BEGIN:VEVENT
DTSTART;TZID=America/Detroit:20231118T210000
DTEND;TZID=America/Detroit:20231119T020000
DTSTAMP:20260424T092525
CREATED:20231116T193139Z
LAST-MODIFIED:20231118T194708Z
UID:10002934-1700341200-1700359200@detroitartdao.com
SUMMARY:One Night Stand
DESCRIPTION:
URL:https://detroitartdao.com/event/one-night-stand
LOCATION:UFO Bar\, 2110 Trumbull Street\, Detroit\, MI\, 48216
CATEGORIES:TheDetroitILove
GEO:42.3321892;-83.0669471
X-APPLE-STRUCTURED-LOCATION;VALUE=URI;X-ADDRESS=UFO Bar 2110 Trumbull Street Detroit MI 48216;X-APPLE-RADIUS=500;X-TITLE=2110 Trumbull Street:geo:-83.0669471,42.3321892
END:VEVENT
BEGIN:VEVENT
DTSTART;TZID=America/Detroit:20231124T220000
DTEND;TZID=America/Detroit:20231125T020000
DTSTAMP:20260424T092525
CREATED:20231124T213654Z
LAST-MODIFIED:20231124T213654Z
UID:10003017-1700863200-1700877600@detroitartdao.com
SUMMARY:Whatever
DESCRIPTION:
URL:https://detroitartdao.com/event/whatever
LOCATION:UFO Bar\, 2110 Trumbull Street\, Detroit\, MI\, 48216
CATEGORIES:TheDetroitILove
GEO:42.3321892;-83.0669471
X-APPLE-STRUCTURED-LOCATION;VALUE=URI;X-ADDRESS=UFO Bar 2110 Trumbull Street Detroit MI 48216;X-APPLE-RADIUS=500;X-TITLE=2110 Trumbull Street:geo:-83.0669471,42.3321892
END:VEVENT
BEGIN:VEVENT
DTSTART;TZID=America/Detroit:20231125T220000
DTEND;TZID=America/Detroit:20231126T020000
DTSTAMP:20260424T092525
CREATED:20231124T213655Z
LAST-MODIFIED:20231125T220211Z
UID:10003031-1700949600-1700964000@detroitartdao.com
SUMMARY:Something Cold
DESCRIPTION:
URL:https://detroitartdao.com/event/something-cold-2
LOCATION:UFO Bar\, 2110 Trumbull Street\, Detroit\, MI\, 48216
CATEGORIES:TheDetroitILove
GEO:42.3321892;-83.0669471
X-APPLE-STRUCTURED-LOCATION;VALUE=URI;X-ADDRESS=UFO Bar 2110 Trumbull Street Detroit MI 48216;X-APPLE-RADIUS=500;X-TITLE=2110 Trumbull Street:geo:-83.0669471,42.3321892
END:VEVENT
BEGIN:VEVENT
DTSTART;TZID=America/Detroit:20231202T210000
DTEND;TZID=America/Detroit:20231203T020000
DTSTAMP:20260424T092525
CREATED:20231126T220242Z
LAST-MODIFIED:20231202T220135Z
UID:10003082-1701550800-1701568800@detroitartdao.com
SUMMARY:UFOCO Presents
DESCRIPTION:
URL:https://detroitartdao.com/event/ufoco-presents
LOCATION:UFO Bar\, 2110 Trumbull Street\, Detroit\, MI\, 48216
CATEGORIES:TheDetroitILove
GEO:42.3321892;-83.0669471
X-APPLE-STRUCTURED-LOCATION;VALUE=URI;X-ADDRESS=UFO Bar 2110 Trumbull Street Detroit MI 48216;X-APPLE-RADIUS=500;X-TITLE=2110 Trumbull Street:geo:-83.0669471,42.3321892
END:VEVENT
BEGIN:VEVENT
DTSTART;TZID=America/Detroit:20231208T210000
DTEND;TZID=America/Detroit:20231209T020000
DTSTAMP:20260424T092525
CREATED:20231208T164637Z
LAST-MODIFIED:20231208T164638Z
UID:10003142-1702069200-1702087200@detroitartdao.com
SUMMARY:Kaleidoscope
DESCRIPTION:
URL:https://detroitartdao.com/event/kaleidoscope
LOCATION:UFO Bar\, 2110 Trumbull Street\, Detroit\, MI\, 48216
CATEGORIES:TheDetroitILove
GEO:42.3321892;-83.0669471
X-APPLE-STRUCTURED-LOCATION;VALUE=URI;X-ADDRESS=UFO Bar 2110 Trumbull Street Detroit MI 48216;X-APPLE-RADIUS=500;X-TITLE=2110 Trumbull Street:geo:-83.0669471,42.3321892
END:VEVENT
BEGIN:VEVENT
DTSTART;TZID=America/Detroit:20231223T220000
DTEND;TZID=America/Detroit:20231224T020000
DTSTAMP:20260424T092525
CREATED:20231222T173137Z
LAST-MODIFIED:20231223T174637Z
UID:10003257-1703368800-1703383200@detroitartdao.com
SUMMARY:Something Cold
DESCRIPTION:
URL:https://detroitartdao.com/event/something-cold-3
LOCATION:UFO Bar\, 2110 Trumbull Street\, Detroit\, MI\, 48216
CATEGORIES:TheDetroitILove
GEO:42.3321892;-83.0669471
X-APPLE-STRUCTURED-LOCATION;VALUE=URI;X-ADDRESS=UFO Bar 2110 Trumbull Street Detroit MI 48216;X-APPLE-RADIUS=500;X-TITLE=2110 Trumbull Street:geo:-83.0669471,42.3321892
END:VEVENT
BEGIN:VEVENT
DTSTART;TZID=America/Detroit:20231230T210000
DTEND;TZID=America/Detroit:20231231T020000
DTSTAMP:20260424T092525
CREATED:20231227T180141Z
LAST-MODIFIED:20231230T180135Z
UID:10003296-1703970000-1703988000@detroitartdao.com
SUMMARY:Femmeddom
DESCRIPTION:
URL:https://detroitartdao.com/event/femmeddom
LOCATION:UFO Bar\, 2110 Trumbull Street\, Detroit\, MI\, 48216
CATEGORIES:TheDetroitILove
GEO:42.3321892;-83.0669471
X-APPLE-STRUCTURED-LOCATION;VALUE=URI;X-ADDRESS=UFO Bar 2110 Trumbull Street Detroit MI 48216;X-APPLE-RADIUS=500;X-TITLE=2110 Trumbull Street:geo:-83.0669471,42.3321892
END:VEVENT
BEGIN:VEVENT
DTSTART;TZID=America/Detroit:20240111T210000
DTEND;TZID=America/Detroit:20240112T020000
DTSTAMP:20260424T092525
CREATED:20240111T224635Z
LAST-MODIFIED:20240111T224636Z
UID:10007963-1705006800-1705024800@detroitartdao.com
SUMMARY:Technically\, Yeah.
DESCRIPTION:
URL:https://detroitartdao.com/event/technically-yeah-5
LOCATION:UFO Bar\, 2110 Trumbull Street\, Detroit\, MI\, 48216
CATEGORIES:TheDetroitILove
GEO:42.3321892;-83.0669471
X-APPLE-STRUCTURED-LOCATION;VALUE=URI;X-ADDRESS=UFO Bar 2110 Trumbull Street Detroit MI 48216;X-APPLE-RADIUS=500;X-TITLE=2110 Trumbull Street:geo:-83.0669471,42.3321892
END:VEVENT
BEGIN:VEVENT
DTSTART;TZID=America/Detroit:20240113T210000
DTEND;TZID=America/Detroit:20240114T020000
DTSTAMP:20260424T092525
CREATED:20240113T224639Z
LAST-MODIFIED:20240113T224640Z
UID:10007985-1705179600-1705197600@detroitartdao.com
SUMMARY:Femmedom – Denim Devotion
DESCRIPTION:
URL:https://detroitartdao.com/event/femmedom-denim-devotion
LOCATION:UFO Bar\, 2110 Trumbull Street\, Detroit\, MI\, 48216
CATEGORIES:TheDetroitILove
GEO:42.3321892;-83.0669471
X-APPLE-STRUCTURED-LOCATION;VALUE=URI;X-ADDRESS=UFO Bar 2110 Trumbull Street Detroit MI 48216;X-APPLE-RADIUS=500;X-TITLE=2110 Trumbull Street:geo:-83.0669471,42.3321892
END:VEVENT
BEGIN:VEVENT
DTSTART;TZID=America/Detroit:20240120T200000
DTEND;TZID=America/Detroit:20240121T020000
DTSTAMP:20260424T092525
CREATED:20240117T230143Z
LAST-MODIFIED:20240120T233141Z
UID:10008030-1705780800-1705802400@detroitartdao.com
SUMMARY:One Night Stand
DESCRIPTION:
URL:https://detroitartdao.com/event/one-night-stand-2
LOCATION:UFO Bar\, 2110 Trumbull Street\, Detroit\, MI\, 48216
CATEGORIES:TheDetroitILove
GEO:42.3321892;-83.0669471
X-APPLE-STRUCTURED-LOCATION;VALUE=URI;X-ADDRESS=UFO Bar 2110 Trumbull Street Detroit MI 48216;X-APPLE-RADIUS=500;X-TITLE=2110 Trumbull Street:geo:-83.0669471,42.3321892
END:VEVENT
BEGIN:VEVENT
DTSTART;TZID=America/Detroit:20240126T210000
DTEND;TZID=America/Detroit:20240127T020000
DTSTAMP:20260424T092525
CREATED:20240125T234640Z
LAST-MODIFIED:20240126T234638Z
UID:10008092-1706302800-1706320800@detroitartdao.com
SUMMARY:Sound Odyssey #17
DESCRIPTION:
URL:https://detroitartdao.com/event/sound-odyssey-17
LOCATION:UFO Bar\, 2110 Trumbull Street\, Detroit\, MI\, 48216
CATEGORIES:TheDetroitILove
GEO:42.3321892;-83.0669471
X-APPLE-STRUCTURED-LOCATION;VALUE=URI;X-ADDRESS=UFO Bar 2110 Trumbull Street Detroit MI 48216;X-APPLE-RADIUS=500;X-TITLE=2110 Trumbull Street:geo:-83.0669471,42.3321892
END:VEVENT
END:VCALENDAR